BEGIN:VCALENDAR
VERSION:2.0
PRODID:-//NEL Training Hub - ECPv6.15.20//NONSGML v1.0//EN
CALSCALE:GREGORIAN
METHOD:PUBLISH
X-WR-CALNAME:NEL Training Hub
X-ORIGINAL-URL:https://neltraininghub.org
X-WR-CALDESC:Events for NEL Training Hub
REFRESH-INTERVAL;VALUE=DURATION:PT1H
X-Robots-Tag:noindex
X-PUBLISHED-TTL:PT1H
BEGIN:VTIMEZONE
TZID:Europe/London
BEGIN:DAYLIGHT
TZOFFSETFROM:+0000
TZOFFSETTO:+0100
TZNAME:BST
DTSTART:20200329T010000
END:DAYLIGHT
BEGIN:STANDARD
TZOFFSETFROM:+0100
TZOFFSETTO:+0000
TZNAME:GMT
DTSTART:20201025T010000
END:STANDARD
BEGIN:DAYLIGHT
TZOFFSETFROM:+0000
TZOFFSETTO:+0100
TZNAME:BST
DTSTART:20210328T010000
END:DAYLIGHT
BEGIN:STANDARD
TZOFFSETFROM:+0100
TZOFFSETTO:+0000
TZNAME:GMT
DTSTART:20211031T010000
END:STANDARD
BEGIN:DAYLIGHT
TZOFFSETFROM:+0000
TZOFFSETTO:+0100
TZNAME:BST
DTSTART:20220327T010000
END:DAYLIGHT
BEGIN:STANDARD
TZOFFSETFROM:+0100
TZOFFSETTO:+0000
TZNAME:GMT
DTSTART:20221030T010000
END:STANDARD
END:VTIMEZONE
BEGIN:VEVENT
DTSTART;TZID=Europe/London:20210407T080000
DTEND;TZID=Europe/London:20210407T170000
DTSTAMP:20260419T185332
CREATED:20210323T121937Z
LAST-MODIFIED:20210323T121938Z
UID:10001121-1617782400-1617814800@neltraininghub.org
SUMMARY:Primary Care bitesize learning: Employment Law update for Practice Managers
DESCRIPTION:We are pleased to invite WEL wide Practice Managers an invite to attend this 60min update on Employment Law. The session will cover: \n  \n\nLegal updates 2021\nCoronavirus – key questions for employers\nChanging terms and conditions\nGiving and receiving notice\nYour questions\n\nPresenter bio: \nDianne Lambdin – HR Advisor to Practice Index \n  \nDianne has been working with Practice Index for five years\, as one of her key clients\, supporting the Company and its members with HR and employment law advice and resources. She has many years’ experience working in different organisations as an HR and employment law specialist and held senior management roles in the private and public sectors\, including the NHS. \n  \nDianne set up her own business\, the Sussex HR Hub\, to bring her own style of HR management to her clients’ businesses. Her style is to focus on what can be done to help you get the most from your staff without over-complicating the issue. Dianne does not try to impose HR ‘bling’ or the latest trends on her clients and she is well aware that\, sometimes\, the so-called ‘best practice’ is not the best solution for them. She works with her clients to ensure they achieve what’s right for their own distinct situation. \n  \nHer expertise is in HR strategy\, restructures and redundancy\, TUPE\, and employment law. She is uniquely placed to help you get the absolute best from your \nstaff and create HR strategy and policies that mean you\, your business and your people\, flourish. Dianne is a Member of the Chartered Institute of Personnel and Development \n(MCIPD) \n 
URL:https://neltraininghub.org/event/primary-care-bitesize-learning-employment-law-update-for-practice-managers/
LOCATION:Online Session\, United Kingdom
CATEGORIES:Administrators,Advanced Clinical Practitioners,Advanced Nurse Practitioner,Allied Health Professionals,Care Coordinators,Clinical Directors,Clinical Pharmacists,Community Link Workers,Community Nurse,Emergency Care Practitioners,First Contact Physiotherapists,General Practice Nurses,GPs & GP Trainees,Health Care Assistants,Nursing Associates,Occupational Therapists,Paramedics,Patient Representative,Pharmacists,Phlebotomists,Physician Associates,Practice Managers,Receptionists,Social Care Staff,Social Prescribers,Voluntary Sector Workers
END:VEVENT
END:VCALENDAR