BEGIN:VCALENDAR
VERSION:2.0
PRODID:-//NEL Training Hub - ECPv6.15.20//NONSGML v1.0//EN
CALSCALE:GREGORIAN
METHOD:PUBLISH
X-WR-CALNAME:NEL Training Hub
X-ORIGINAL-URL:https://neltraininghub.org
X-WR-CALDESC:Events for NEL Training Hub
REFRESH-INTERVAL;VALUE=DURATION:PT1H
X-Robots-Tag:noindex
X-PUBLISHED-TTL:PT1H
BEGIN:VTIMEZONE
TZID:Europe/London
BEGIN:DAYLIGHT
TZOFFSETFROM:+0000
TZOFFSETTO:+0100
TZNAME:BST
DTSTART:20250330T010000
END:DAYLIGHT
BEGIN:STANDARD
TZOFFSETFROM:+0100
TZOFFSETTO:+0000
TZNAME:GMT
DTSTART:20251026T010000
END:STANDARD
BEGIN:DAYLIGHT
TZOFFSETFROM:+0000
TZOFFSETTO:+0100
TZNAME:BST
DTSTART:20260329T010000
END:DAYLIGHT
BEGIN:STANDARD
TZOFFSETFROM:+0100
TZOFFSETTO:+0000
TZNAME:GMT
DTSTART:20261025T010000
END:STANDARD
BEGIN:DAYLIGHT
TZOFFSETFROM:+0000
TZOFFSETTO:+0100
TZNAME:BST
DTSTART:20270328T010000
END:DAYLIGHT
BEGIN:STANDARD
TZOFFSETFROM:+0100
TZOFFSETTO:+0000
TZNAME:GMT
DTSTART:20271031T010000
END:STANDARD
END:VTIMEZONE
BEGIN:VEVENT
DTSTART;TZID=Europe/London:20260910T123000
DTEND;TZID=Europe/London:20260910T140000
DTSTAMP:20260420T072310
CREATED:20260123T125523Z
LAST-MODIFIED:20260123T125524Z
UID:10003774-1789043400-1789048800@neltraininghub.org
SUMMARY:SuppoRTT - Going Out Of Training
DESCRIPTION:Please see dates below for upcoming training for Educational Supervisors on the Basic of SuppoRTT – where Educational Supervisors can attend the hour session to learn about the SuppoRTT programme in London and go through come case studies. Here are the registration links : \n  \n14th April 2026 \n15th September 2026 \n10th December 2026 \nWe have also arranged the dates for our Resident doctors only sessions for Residents to be educated about the programme\, please do circulate these link among your residents: \n  \n19th February 2026 \n2nd June 2026 \n10th September 2026 \n1st December 2026
URL:https://neltraininghub.org/event/supportt-going-out-of-training/2026-09-10/
LOCATION:Online Session\, United Kingdom
CATEGORIES:GPs & GP Trainees
ATTACH;FMTTYPE=image/png:https://neltraininghub.org/wp-content/uploads/2026/01/Screenshot-2026-01-23-at-12.54.08.png
END:VEVENT
END:VCALENDAR