BEGIN:VCALENDAR
VERSION:2.0
PRODID:-//NEL Training Hub - ECPv6.15.20//NONSGML v1.0//EN
CALSCALE:GREGORIAN
METHOD:PUBLISH
X-WR-CALNAME:NEL Training Hub
X-ORIGINAL-URL:https://neltraininghub.org
X-WR-CALDESC:Events for NEL Training Hub
REFRESH-INTERVAL;VALUE=DURATION:PT1H
X-Robots-Tag:noindex
X-PUBLISHED-TTL:PT1H
BEGIN:VTIMEZONE
TZID:Europe/London
BEGIN:DAYLIGHT
TZOFFSETFROM:+0000
TZOFFSETTO:+0100
TZNAME:BST
DTSTART:20250330T010000
END:DAYLIGHT
BEGIN:STANDARD
TZOFFSETFROM:+0100
TZOFFSETTO:+0000
TZNAME:GMT
DTSTART:20251026T010000
END:STANDARD
BEGIN:DAYLIGHT
TZOFFSETFROM:+0000
TZOFFSETTO:+0100
TZNAME:BST
DTSTART:20260329T010000
END:DAYLIGHT
BEGIN:STANDARD
TZOFFSETFROM:+0100
TZOFFSETTO:+0000
TZNAME:GMT
DTSTART:20261025T010000
END:STANDARD
BEGIN:DAYLIGHT
TZOFFSETFROM:+0000
TZOFFSETTO:+0100
TZNAME:BST
DTSTART:20270328T010000
END:DAYLIGHT
BEGIN:STANDARD
TZOFFSETFROM:+0100
TZOFFSETTO:+0000
TZNAME:GMT
DTSTART:20271031T010000
END:STANDARD
END:VTIMEZONE
BEGIN:VEVENT
DTSTART;TZID=Europe/London:20260421T130000
DTEND;TZID=Europe/London:20260421T160000
DTSTAMP:20260420T044703
CREATED:20260227T115432Z
LAST-MODIFIED:20260228T143230Z
UID:10003839-1776776400-1776787200@neltraininghub.org
SUMMARY:Care Navigation & Effective Signposting
DESCRIPTION:This programme is ONLY open to reception and care navigation teams\, administrative and clerical staff\, practice managers and aspiring leaders\, and non-clinical team members working in North East London. \nTue 21 Apr 2026 | 1:00 pm to 4:00 pm \nWed 13 May 2026 | 9:00 am to 12:00 pm \nRegistration Link: https://medtribe.com/courses/care-navigation-effective-signposting \nThis session equips General Practice administrative and clerical staff with the knowledge and confidence to support effective care navigation and safe signposting. Participants explore primary care pathways\, recognising patient need\, and when escalation is required rather than signposting. The training emphasises consistency\, equity\, and patient safety to support improved access and experience. \nWhat participants will leave with\n• Improved understanding of primary care pathways and navigation principles\n• Confidence distinguishing between safe signposting and situations requiring escalation\n• Practical approaches to supporting inclusive\, patient-centered access
URL:https://neltraininghub.org/event/care-navigation-effective-signposting/2026-04-21/
LOCATION:Online Session\, United Kingdom
CATEGORIES:Administrators,Non Clinical,Practice Managers,Receptionists,Workforce Leads
ATTACH;FMTTYPE=image/png:https://neltraininghub.org/wp-content/uploads/2026/02/Screenshot-2026-02-27-at-11.49.39.png
END:VEVENT
BEGIN:VEVENT
DTSTART;TZID=Europe/London:20260422T090000
DTEND;TZID=Europe/London:20260422T120000
DTSTAMP:20260420T044703
CREATED:20260227T115551Z
LAST-MODIFIED:20260416T090306Z
UID:10003841-1776848400-1776859200@neltraininghub.org
SUMMARY:Understanding Social Determinants of Health
DESCRIPTION:This programme is open to all primary care staff. \nWed 22 Apr 2026 | 9:00 am to 12:00 pm \nRegistration Link: https://medtribe.com/courses/understanding-social-determinants-of-health \nThis session explores how social\, economic\, and environmental factors influence patient health and engagement with services. Participants examine the implications for administrative roles and how staff can respond appropriately within their scope of practice.\n\nWhat participants will leave with\n• Understanding of key social determinants affecting patients\n• Ability to recognise barriers to access and engagement\n• Practical\, role-appropriate responses to support equity
URL:https://neltraininghub.org/event/understanding-social-determinants-of-health/
LOCATION:Online Session\, United Kingdom
CATEGORIES:Administrators,Non Clinical,Practice Managers,Receptionists,Workforce Leads
ATTACH;FMTTYPE=image/png:https://neltraininghub.org/wp-content/uploads/2026/02/Screenshot-2026-02-27-at-11.55.36.png
END:VEVENT
BEGIN:VEVENT
DTSTART;TZID=Europe/London:20260422T120000
DTEND;TZID=Europe/London:20260422T130000
DTSTAMP:20260420T044703
CREATED:20260330T175146Z
LAST-MODIFIED:20260330T175147Z
UID:10003900-1776859200-1776862800@neltraininghub.org
SUMMARY:Session 1: Ambient Voice Technology in Nursing: From First Use to Safe\, Everyday Practice
DESCRIPTION:Date: Wednesday 22nd April\nTime: 12-1pm \nChaired by Dee Thiruchelvam\, Nursing Director\, The QICN \nSpeakers: \n\nRob Cann\, Principal Clinician\, Accurx\nAmanda Jackson\, Associate Chief Clinical Information Officer (ACCIO)\, Digital Transformation Team from Leeds Community NHS Trust\n\nSummary: Ambient Voice Technology (AVT) is moving into everyday care across all settings capturing conversations and turning them into clinical documentation. The opportunity is clear: less time on admin\, more time with patients. But for nursing leaders\, the defining question is how to introduce it safely. \nThis session sets the context for AVT in nursing\, before focusing on what safe\, credible adoption looks like in practice – from governance and consent to documentation accuracy and data protection\, grounded in the experience of teams already using it. \nBook Your Free Place \n 
URL:https://neltraininghub.org/event/session-1-ambient-voice-technology-in-nursing-from-first-use-to-safe-everyday-practice/
LOCATION:Online Session\, United Kingdom
CATEGORIES:Advanced Nurse Practitioner,Community Nurse,General Practice Nurses,Nursing Associates
ATTACH;FMTTYPE=image/png:https://neltraininghub.org/wp-content/uploads/2026/03/Screenshot-2026-03-30-at-20.49.57-scaled.png
END:VEVENT
BEGIN:VEVENT
DTSTART;TZID=Europe/London:20260422T123000
DTEND;TZID=Europe/London:20260422T131500
DTSTAMP:20260420T044703
CREATED:20260225T170924Z
LAST-MODIFIED:20260225T170957Z
UID:10003824-1776861000-1776863700@neltraininghub.org
SUMMARY:Supporting earlier breast cancer diagnosis and managing mastalgia
DESCRIPTION:Register to secure your spot. \nLearn from specialists on breast cancer during a free webinar and Q&A session\, hosted by GatewayC – the leading earlier cancer diagnosis resource for primary care professionals. \nDesigned by the NHS for the NHS\, GatewayC offers free evidence-based courses\, bite-sized cancer education\, podcasts\, webinars and more to support earlier and faster cancer diagnosis. \nThis live webinar on Wednesday 22 April 2026\, 12:30 – 13:15\, will answer key questions such as: \n\nWhat are the common presentations of breast cancer in primary care?\nWhich patient cohorts are considered at highest risk for developing breast cancer?\nWhat treatments are available for those with a significant familial predisposition to breast cancer?\n\nYou’ll hear from expert speaker Miss Clare Garnsey\, Consultant oncoplastic breast surgeon and Joint Clinical Lead for Breast Services\, who will also discuss metastatic breast cancer\, safety-netting and referral advice for mastalgia\, and the significance of family history\, followed by a live Q&A.  This session is designed for GPs and primary care professionals. \nCan’t make it? You can watch on demand on the GatewayC website after the event has finished.
URL:https://neltraininghub.org/event/supporting-earlier-breast-cancer-diagnosis-and-managing-mastalgia/
LOCATION:Online Session\, United Kingdom
CATEGORIES:Advanced Clinical Practitioners,Advanced Nurse Practitioner,Allied Health Professionals,Cancer,Care Coordinators,Clinical Directors,Clinical Pharmacists,Dietitians,Digital Transformation Leads,Emergency Care Practitioners,Enhanced Nurses,First Contact Physiotherapists,General Practice Nurses,GP Assistant,GPs & GP Trainees,Health and Wellbeing Coaches,Health Care Assistants,Mental Health Practitioners,Nursing Associates,Occupational Therapists,Paramedics,Pharmacists,Pharmacy Technicians,Phlebotomists,Physician Associates,Physiotherapists,Podiatrists,Practice Managers,Receptionists,Supervisors & Educators,Workforce Leads
ATTACH;FMTTYPE=image/png:https://neltraininghub.org/wp-content/uploads/2026/02/Screenshot-2026-02-25-at-17.06.50.png
END:VEVENT
BEGIN:VEVENT
DTSTART;TZID=Europe/London:20260422T130000
DTEND;TZID=Europe/London:20260422T140000
DTSTAMP:20260420T044703
CREATED:20260210T091120Z
LAST-MODIFIED:20260210T091121Z
UID:10003796-1776862800-1776866400@neltraininghub.org
SUMMARY:Initiating & Monitoring Direct Oral Anticoagulants in Patients with Atrial Fibrillation for Stroke Prevention 
DESCRIPTION:Atrial Fibrillation (AF) is a major risk factor for stroke\, and effective anticoagulation is key to reducing this risk.    \nWe are hosting two educational events focused on optimising stroke prevention through the safe initiation and monitoring of Direct Oral Anticoagulants (DOACs) in patients with AF.   \nThe first event will take place on Wednesday 22nd April 2026\, 1-2pm via Microsoft Teams Webinar. To register for the training and education webinar please click here:-  Initiating & Monitoring Direct Oral Anticoagulants in Patients with Atrial Fibrillation for Stroke Prevention Webinar Part 1 | Meeting-Join | Microsoft Teams.  \nThe second event will take place on Wednesday 29th April 2026\, 1-2pm\, via Microsoft Teams Webinar.  To register for the training and education webinar please clinic:- Initiating & Monitoring Direct Oral Anticoagulants in Patients with Atrial Fibrillation for Stroke Prevention Webinar Part 2 | Meeting-Join | Microsoft Teams  \nThe sessions will cover:   \n·                Assessing stroke and bleeding risk in AF   \n·                Evidence-based DOAC prescribing   \n·                Baseline checks and ongoing monitoring for safety and efficacy   \n·                Practical tips for managing common challenges in primary care   \n·                Managing common clinical scenarios and safety considerations   \n·                The use of risk stratification tools to manage your atrial fibrillation population.  \n  \nThese events aim to support consistent\, high-quality anticoagulation management to protect patients from preventable strokes in North East London.  
URL:https://neltraininghub.org/event/initiating-monitoring-direct-oral-anticoagulants-in-patients-with-atrial-fibrillation-for-stroke-prevention/2026-04-22/
LOCATION:Online Session\, United Kingdom
CATEGORIES:Advanced Clinical Practitioners,Advanced Nurse Practitioner,Clinical Directors,Clinical Pharmacists,Enhanced Nurses,General Practice Nurses,GP Assistant,GPs & GP Trainees,Nursing Associates,Paramedics,Pharmacists,Pharmacy Technicians,Physician Associates,Workforce Leads
ATTACH;FMTTYPE=image/png:https://neltraininghub.org/wp-content/uploads/2026/02/Screenshot-2026-02-10-at-09.11.00.png
END:VEVENT
BEGIN:VEVENT
DTSTART;TZID=Europe/London:20260422T130000
DTEND;TZID=Europe/London:20260422T160000
DTSTAMP:20260420T044703
CREATED:20260227T120032Z
LAST-MODIFIED:20260414T100256Z
UID:10003843-1776862800-1776873600@neltraininghub.org
SUMMARY:Compassionate\, Inclusive and Trauma-Informed Communication
DESCRIPTION:This programme is open to all primary care staff. \nWed 22 Apr 2026 | 1:00 pm to 4:00 pm \nThu 7 May 2026 | 9:00 am to 12:00 pm \nRegistration Link: https://medtribe.com/courses/compassionate-inclusive-and-trauma-informed-communication \nThis session introduces trauma-informed and inclusive communication principles tailored to General Practice administrative and patient-facing roles. Participants explore how trauma\, inequality\, disability\, and previous healthcare experiences can influence behaviour and communication. The session focuses on practical strategies staff can use within their role to reduce distress\, improve patient experience\, and support psychologically safe interactions. \nWhat participants will leave with \n• Understanding of inclusive and trauma-informed communication and why it matters in primary care \n• Increased confidence using compassionate\, respectful language in challenging situations \n• Practical strategies to respond to distress while maintaining professional boundaries
URL:https://neltraininghub.org/event/compassionate-inclusive-and-trauma-informed-communication/2026-04-22/
LOCATION:Online Session\, United Kingdom
CATEGORIES:Administrators,Non Clinical,Practice Managers,Receptionists,Workforce Leads
ATTACH;FMTTYPE=image/png:https://neltraininghub.org/wp-content/uploads/2026/02/Screenshot-2026-02-27-at-11.59.47.png
END:VEVENT
BEGIN:VEVENT
DTSTART;TZID=Europe/London:20260423T090000
DTEND;TZID=Europe/London:20260423T120000
DTSTAMP:20260420T044703
CREATED:20260227T120404Z
LAST-MODIFIED:20260414T100354Z
UID:10003845-1776934800-1776945600@neltraininghub.org
SUMMARY:Cultural Competency & Working with Diverse Communities
DESCRIPTION:This programme is open to all primary care staff. \nThu 23 Apr 2026 | 9:00 am to 12:00 pm \nTue 5 May 2026 | 9:00 am to 12:00 pm \nRegistration Link: https://medtribe.com/courses/cultural-competency-working-with-diverse-communities \nThis session supports staff to develop cultural awareness and confidence when working with diverse communities. It explores how culture\, language\, belief systems\, and social context influence access\, communication\, safeguarding\, and patient experience in General Practice. \nWhat participants will leave with: \n• Increased awareness of cultural influences on health\, engagement\, and access \n• Practical approaches to recognising and reducing unconscious bias \n• Greater confidence communicating respectfully and effectively with patients from diverse backgrounds.
URL:https://neltraininghub.org/event/cultural-competency-working-with-diverse-communities/2026-04-23/
LOCATION:Online Session\, United Kingdom
CATEGORIES:Administrators,Non Clinical,Practice Managers,Receptionists,Workforce Leads
ATTACH;FMTTYPE=image/png:https://neltraininghub.org/wp-content/uploads/2026/02/Screenshot-2026-02-27-at-12.02.51.png
END:VEVENT
BEGIN:VEVENT
DTSTART;TZID=Europe/London:20260423T123000
DTEND;TZID=Europe/London:20260423T143000
DTSTAMP:20260420T044703
CREATED:20260306T094607Z
LAST-MODIFIED:20260414T095833Z
UID:10003875-1776947400-1776954600@neltraininghub.org
SUMMARY:Clinical Coding in Primary Care: Accuracy\, Quality & Impact
DESCRIPTION:Registration link: https://medtribe.com/courses/clinical-coding-in-primary-care-accuracy-quality-impact-non-clinical \nThu 23 Apr 2026 | 12:30 pm to 2:30 pm \nThu 21 May 2026 | 11:30 am to 1:30 pm \n\nThis programme is ONLY open to Population Health Leads\, Data Analysts\, GPs\, Practice Managers\, Care Coordinators\, reception and care navigation teams\, administrative and clerical staff\, practice managers and aspiring leaders\, and non-clinical team members working in North East London. \nThis practical session provides administrative and clerical staff with a clear \n\nunderstanding of accurate clinical coding and safe documentation in General Practice.\nIt covers SNOMED CT principles\, common coding pitfalls\, and the impact of coding\nquality on patient safety\, population health management\, QOF performance\, and CQC\noutcomes.\nWhat participants will leave with:\n• Understanding of why accurate coding is essential for safety and governance\n• Improved confidence using SNOMED CT appropriately\n• Ability to recognise and avoid common coding and documentation errors
URL:https://neltraininghub.org/event/clinical-coding-in-primary-care-accuracy-quality-impact/2026-04-23/
LOCATION:Online Session\, United Kingdom
CATEGORIES:Administrators,Non Clinical,Practice Managers,Receptionists,Workforce Leads
ATTACH;FMTTYPE=image/png:https://neltraininghub.org/wp-content/uploads/2026/03/Screenshot-2026-03-06-at-09.45.32.png
END:VEVENT
BEGIN:VEVENT
DTSTART;TZID=Europe/London:20260423T130000
DTEND;TZID=Europe/London:20260423T134500
DTSTAMP:20260420T044703
CREATED:20260327T095050Z
LAST-MODIFIED:20260327T095052Z
UID:10003899-1776949200-1776951900@neltraininghub.org
SUMMARY:UEL PGA Webinar "Supporting learners in difficulty"
DESCRIPTION:Thursday 23rd April 2026\, 1pm – 1:45pm \nStudents enrolled in health-related programmes experience disproportionately high levels of academic pressure\, emotional distress\, and wellbeing challenges. The combination of intensive curricula\, clinical placements\, professional identity formation\, and exposure to patient suffering places health students at increased risk of burnout\, anxiety\, and disengagement. Universities therefore have a critical role in recognising and responding effectively to students in difficulty\, particularly within health disciplines. \nJoin the upcoming session of UEL Postgraduate Academy of Health to explore common indicators of student distress in health programmes and examine the unique academic\, clinical\, and personal factors that contribute to vulnerability. \nDr Theresa Martin will highlight evidence-informed approaches to early identification\, supportive conversations\, and referral pathways\, emphasising the importance of trauma-informed\, compassionate\, and culturally responsive practices. Dr Martin will also aim to equip professional and university staff with greater confidence and practical tools to support health students in difficulty\, promote student wellbeing\, and contribute to safe\, sustainable learning environments within health education. \nClick HERE to register.
URL:https://neltraininghub.org/event/uel-pga-webinar-supporting-learners-in-difficulty/
LOCATION:Online Session\, United Kingdom
CATEGORIES:Administrators,Advanced Clinical Practitioners,Advanced Nurse Practitioner,Allied Health Professionals,Care Coordinators,Care Home Staff / Managers,Clinical Directors,Clinical Pharmacists,Community Link Workers,Community Nurse,Dietitians,Digital Transformation Leads,Emergency Care Practitioners,Enhanced Nurses,First Contact Physiotherapists,General Practice Nurses,GP Assistant,GPs & GP Trainees,Health and Wellbeing Coaches,Health Care Assistants,Mental Health Practitioners,Nursing Associates,Occupational Therapists,Paramedics,Patient Representative,Pharmacists,Pharmacy Technicians,Phlebotomists,Physician Associates,Physiotherapists,Podiatrists,Practice Managers,Receptionists,Social Care Staff,Social Prescribers,Supervisors & Educators,Voluntary Sector Workers,Workforce Leads
ATTACH;FMTTYPE=image/png:https://neltraininghub.org/wp-content/uploads/2026/03/Screenshot-2026-03-27-at-09.50.26.png
END:VEVENT
BEGIN:VEVENT
DTSTART;TZID=Europe/London:20260423T160000
DTEND;TZID=Europe/London:20260423T180000
DTSTAMP:20260420T044703
CREATED:20260309T153031Z
LAST-MODIFIED:20260309T153033Z
UID:10003886-1776960000-1776967200@neltraininghub.org
SUMMARY:Decision Making in Children with Medical Complexity and Life-limiting Disorders - An Education and Network Event
DESCRIPTION:Thursday 23rd April | 4:00 – 6:00pm \nJohn Ellis Lecture Theatre\, Education Academy\nRoyal London Hospital (below the Dental Hospital) \nSPEAKERS \n\nProfessor Lorna Fraser – Professor of Palliative Care\, King’s College Hospital\nDr Amit Bali – Clinical Director of Integrated Paediatrics\, General Paediatrician\, Medical Complexity Service\, Royal London Hospital\nHolly Killick – Roald Dahl Children with Medical Complexity Clinical Nurse Specialist\n\nFollowed by Questions and Discussion\, then light refreshments from 6:00pm \nOpen to all staff – consultants encouraged to attend \nTo attend in person\, please RSVP via the booking form https://forms.office.com/e/n0ThSinX3t
URL:https://neltraininghub.org/event/decision-making-in-children-with-medical-complexity-and-life-limiting-disorders-an-education-and-network-event/
LOCATION:Online Session\, United Kingdom
CATEGORIES:Administrators,Advanced Clinical Practitioners,Advanced Nurse Practitioner,Allied Health Professionals,Care Coordinators,Care Home Staff / Managers,Clinical Directors,Clinical Pharmacists,Community Link Workers,Community Nurse,Dietitians,Digital Transformation Leads,Emergency Care Practitioners,Enhanced Nurses,First Contact Physiotherapists,General Practice Nurses,GP Assistant,GPs & GP Trainees,Health and Wellbeing Coaches,Health Care Assistants,Mental Health Practitioners,Nursing Associates,Occupational Therapists,Paramedics,Patient Representative,Pharmacists,Pharmacy Technicians,Phlebotomists,Physician Associates,Physiotherapists,Podiatrists,Practice Managers,Receptionists,Social Care Staff,Social Prescribers,Supervisors & Educators,Voluntary Sector Workers,Workforce Leads
ATTACH;FMTTYPE=image/png:https://neltraininghub.org/wp-content/uploads/2026/03/Screenshot-2026-03-09-at-15.29.51.png
END:VEVENT
END:VCALENDAR