BEGIN:VCALENDAR
VERSION:2.0
PRODID:-//NEL Training Hub - ECPv6.15.20//NONSGML v1.0//EN
CALSCALE:GREGORIAN
METHOD:PUBLISH
X-WR-CALNAME:NEL Training Hub
X-ORIGINAL-URL:https://neltraininghub.org
X-WR-CALDESC:Events for NEL Training Hub
REFRESH-INTERVAL;VALUE=DURATION:PT1H
X-Robots-Tag:noindex
X-PUBLISHED-TTL:PT1H
BEGIN:VTIMEZONE
TZID:Europe/London
BEGIN:DAYLIGHT
TZOFFSETFROM:+0000
TZOFFSETTO:+0100
TZNAME:BST
DTSTART:20240331T010000
END:DAYLIGHT
BEGIN:STANDARD
TZOFFSETFROM:+0100
TZOFFSETTO:+0000
TZNAME:GMT
DTSTART:20241027T010000
END:STANDARD
BEGIN:DAYLIGHT
TZOFFSETFROM:+0000
TZOFFSETTO:+0100
TZNAME:BST
DTSTART:20250330T010000
END:DAYLIGHT
BEGIN:STANDARD
TZOFFSETFROM:+0100
TZOFFSETTO:+0000
TZNAME:GMT
DTSTART:20251026T010000
END:STANDARD
BEGIN:DAYLIGHT
TZOFFSETFROM:+0000
TZOFFSETTO:+0100
TZNAME:BST
DTSTART:20260329T010000
END:DAYLIGHT
BEGIN:STANDARD
TZOFFSETFROM:+0100
TZOFFSETTO:+0000
TZNAME:GMT
DTSTART:20261025T010000
END:STANDARD
END:VTIMEZONE
BEGIN:VEVENT
DTSTART;TZID=Europe/London:20250707T130000
DTEND;TZID=Europe/London:20250707T163000
DTSTAMP:20260420T054543
CREATED:20250620T092514Z
LAST-MODIFIED:20250620T092515Z
UID:10003555-1751893200-1751905800@neltraininghub.org
SUMMARY:SUPPORTED RETURN TO TRAINING WORKSHOP & GP SIM
DESCRIPTION:Simulation And Coaching Session For London-Based Gp Trainees \nAll sessions run from 13:00 – 16:30 on Zoom \nJoin a remote\, facilitated 3.5-hour session to support your transition back to clinical practice in a safe environment. \nThe session involves: \n•Simulated GP consultations with actors to refresh your clinical skills. \n•Interactive focus on facilitating personal wellbeing in the context of workpressures. \nUpcoming Sessions: \nMonday 7th July \nMonday 8th September \nMonday 3rd November \nSign up on Eventbrite
URL:https://neltraininghub.org/event/supported-return-to-training-workshop-gp-sim/2025-07-07/
LOCATION:Online Session\, United Kingdom
CATEGORIES:Administrators,Advanced Clinical Practitioners,Advanced Nurse Practitioner,Allied Health Professionals,Care Coordinators,Care Home Staff / Managers,Clinical Directors,Clinical Pharmacists,Community Link Workers,Community Nurse,Dietitians,Digital Transformation Leads,Emergency Care Practitioners,Enhanced Nurses,First Contact Physiotherapists,General Practice Nurses,GP Assistant,GPs & GP Trainees,Health and Wellbeing Coaches,Health Care Assistants,Mental Health Practitioners,Nursing Associates,Occupational Therapists,Paramedics,Patient Representative,Pharmacists,Pharmacy Technicians,Phlebotomists,Physician Associates,Physiotherapists,Podiatrists,Practice Managers,Receptionists,Social Care Staff,Social Prescribers,Supervisors & Educators,Voluntary Sector Workers,Workforce Leads
ATTACH;FMTTYPE=image/png:https://neltraininghub.org/wp-content/uploads/2025/06/Screenshot-2025-06-20-at-10.24.53.png
END:VEVENT
BEGIN:VEVENT
DTSTART;TZID=Europe/London:20250708T083000
DTEND;TZID=Europe/London:20250708T170000
DTSTAMP:20260420T054543
CREATED:20250606T095452Z
LAST-MODIFIED:20250606T095452Z
UID:10003529-1751963400-1751994000@neltraininghub.org
SUMMARY:NHS Productivity Conference: Innovating NHS Supply Chain & Procurement
DESCRIPTION:The NHS Productivity Conference lands in London on 8 July 2025\, tackling the future of procurement\, supply chain strategy\, and data-led value-based care. \nConfirmed contributors include: \nJanet Smith\, Head of Sustainability\, The Royal Wolverhampton NHS Trust\nHeather Tierney-Moore OBE\, Chair\, NHS Supply Chain\nMartin Johnson-Umpleby\, Regional Head of Productivity and Efficiency\, NHS England\nLisa Cunnington\, Regional Lead\, NHS England\nThis timely event explores how the NHS can improve cost-efficiency without compromising care\, with sessions on sustainability\, AI in procurement\, and workforce development. \nMeet with leaders\, share strategies\, and take part in post-event networking. \nFree NHS places available now. \nRegister here now: https://www.convenzis.co.uk/events/nhs-productivity-conference
URL:https://neltraininghub.org/event/nhs-productivity-conference-innovating-nhs-supply-chain-procurement/
LOCATION:Online Session\, United Kingdom
CATEGORIES:Administrators,Advanced Clinical Practitioners,Advanced Nurse Practitioner,Allied Health Professionals,Care Coordinators,Care Home Staff / Managers,Clinical Directors,Clinical Pharmacists,Community Link Workers,Community Nurse,Dietitians,Digital Transformation Leads,Emergency Care Practitioners,Enhanced Nurses,First Contact Physiotherapists,General Practice Nurses,GP Assistant,GPs & GP Trainees,Health and Wellbeing Coaches,Health Care Assistants,Mental Health Practitioners,Nursing Associates,Occupational Therapists,Paramedics,Patient Representative,Pharmacists,Pharmacy Technicians,Phlebotomists,Physician Associates,Physiotherapists,Podiatrists,Practice Managers,Receptionists,Social Care Staff,Social Prescribers,Supervisors & Educators,Voluntary Sector Workers,Workforce Leads
ATTACH;FMTTYPE=image/png:https://neltraininghub.org/wp-content/uploads/2025/06/Screenshot-2025-06-06-at-10.54.01.png
END:VEVENT
BEGIN:VEVENT
DTSTART;TZID=Europe/London:20250708T130000
DTEND;TZID=Europe/London:20250708T140000
DTSTAMP:20260420T054543
CREATED:20250502T094914Z
LAST-MODIFIED:20250609T155529Z
UID:10003468-1751979600-1751983200@neltraininghub.org
SUMMARY:NEL Prescribing Quality Scheme and Prescribing Efficiency Scheme Drop-in Q&A Sessions 25-26
DESCRIPTION:Following the recent launch of the NEL Prescribing Quality Scheme (PQS) and NEL Prescribing Efficiency Scheme (PES)\, the Prescribing and Medicines Optimisation Team will be hosting regular drop-in Q&A sessions throughout 2025 and early 2026\, to help facilitate questions and queries on both schemes. \n All NEL practices are welcome and encouraged to attend. \nThis will also be an opportunity to provide feedback on both schemes. \nSessions are scheduled for: \n\n\n\nDate\nTime\n\n\nTuesday 8th July 2025 – CLICK HERE TO JOIN\n1-2pm\n\n\nTuesday 23rd September 2025 – CLICK HERE TO JOIN\n1-2pm\n\n\nTuesday 25th November 2025 – CLICK HERE TO JOIN\n1-2pm\n\n\nTuesday 20th January 2026 – CLICK HERE TO JOIN\n1-2pm
URL:https://neltraininghub.org/event/nel-prescribing-quality-scheme-and-prescribing-efficiency-scheme-drop-in-qa-sessions-25-26-2/
LOCATION:Online Session\, United Kingdom
CATEGORIES:Administrators,Advanced Clinical Practitioners,Advanced Nurse Practitioner,Allied Health Professionals,Care Coordinators,Care Home Staff / Managers,Clinical Directors,Clinical Pharmacists,Community Link Workers,Community Nurse,Dietitians,Digital Transformation Leads,Emergency Care Practitioners,Enhanced Nurses,First Contact Physiotherapists,General Practice Nurses,GP Assistant,GPs & GP Trainees,Health and Wellbeing Coaches,Health Care Assistants,Mental Health Practitioners,Nursing Associates,Occupational Therapists,Paramedics,Patient Representative,Pharmacists,Pharmacy Technicians,Phlebotomists,Physician Associates,Physiotherapists,Podiatrists,Practice Managers,Receptionists,Social Care Staff,Social Prescribers,Supervisors & Educators,Voluntary Sector Workers,Workforce Leads
ATTACH;FMTTYPE=image/png:https://neltraininghub.org/wp-content/uploads/2025/05/Screenshot-2025-05-01-at-15.59.08-e1746179029902.png
END:VEVENT
BEGIN:VEVENT
DTSTART;TZID=Europe/London:20250708T140000
DTEND;TZID=Europe/London:20250708T163000
DTSTAMP:20260420T054543
CREATED:20250522T153425Z
LAST-MODIFIED:20250523T071914Z
UID:10003516-1751983200-1751992200@neltraininghub.org
SUMMARY:NEL CPD: Ear Care Update Training (CPD FOR GPNS\, NAS ONLY)
DESCRIPTION:Link https://medtribe.com/courses/nel-cpd-ear-care-update-training-for-gpns-and-nas-only?utm_medium=copy-link&utm_source=share-modal\nDate 8th July 2025 – 2pm-4:30pm\n\n\nThese courses are fully funded\, therefore please ensure you read the cancellation and DNA policy carefully before booking. \n\n\nThese courses are for the following job roles ONLY*: \n\nGeneral Practice Nurses (including ANP & ACP)\nNurse Associates\n\n*Job roles DOES NOT include Pharmacists and Physician Associates. There are some other training opportunities for these roles in our general events page: https://neltraininghub.org/events/ \nBooking Information  \nTicket sales for all events close 2 weeks prior to the start of the session. \nYou will be asked to sign up to MedTribe if you would like to book a course. You will register once\, and will be able to use the same account to book all future NEL Training Hub events with this account. \nSigning up is completely free and only takes a few seconds. Need help? You can follow the step-by-step sign-up guide for support. \nYou will be informed by email if you are on the training or if you are on the waiting list. This is due to: \n\nThe high volume of applications for some of the training\, which comes in at a faster rate than can be effectively managed in real time.\nIncomplete or missing information that means your application will be rejected.\nFinding that you have applied for inappropriate training for your job role.\n\n\n\n\n\n\n\n\n\n\n\n\n\n\n\nPreparing for the Training Session \n\nOnly apply for training you are eligible for.\n\n\nCheck you have the joining link a minimum of 48hrs before the start date and time.\n\n\nIf you do not have a link – first check your junk email folder – then email nelondonicb.cpd@nhs.net.\n\n\nComplete any pre-training work you have been sent.\n\n\nIf you are asked for an address for physical training materials\, give your home address – they will not be posted to your work.\n\n\n\n\n\n\n\n\n\n\n\n\n\n\n\n\n\n\n\n\n\nDuring the Training Session \n\nLogin a minimum of 15 mins before the training session starts (then go to the loo and make a cuppa).\n\n\nCheck you have a working camera and microphone\, and in a place you can fully interact.\n\n\nMobile phone use is not allowed – however some providers use them for interactive elements\, such as quizzes.\n\n\n\n\n\n\n\n\n\n\n\n\n\n\n\n\n\n\n\n\n\nCancellation Policy \n\nSome training sessions are very popular and so will have a 2 week cancellation notice date.\n\n\nSome training sessions allow for larger numbers and/or are more niche and have a 1 week cancellation notice date.\n\n\nThe date will always be on the booking page and on your confirmation email from nelondonicb.cpd@nhs.net.\n\n\nTo cancel\, please use your MedTribe account. If you need further help\, email neldondonicb.cpd@nhs.net\n\n\n\n\n\n\n\n\n\n\n\n\n\n\n\n\n\n\n\n\n\nDNA Policy – Things that count as a DNA \n\nIf you email to cancel after the final cancellation date detailed in your confirmation email.\n\n\nIf you cannot login before the training ‘room’ is locked\, and you have not emailed nelondonicb.cpd@nhs.net a minimum of 15 minutes before the start of the training.\n\n\nIf you are ejected from a training session because you are using an inappropriate device.\n\n\nIf you book on training that is not appropriate for your job role\, and try to attend – there will not be 2 chances if this is the case\, you will be removed from all further training.\n\n\nIf you have not received the joining link / cannot find the joining link\, but you have not emailed nelondonicb.cpd@nhs.net a minimum of 48hrs before the training date and time.\n\n\nIf the emails are in your junk email folder and you have not checked this.\n\n\n\n\n\n\n\n\n\n\n\n\n\n\n\n\n\n\n\n\n\nDNA Policy – What happens when you DNA \n\n1st DNA: You and your Manager will receive an email informing you that you have DNA’d a pre-booked session without cancellation.\n2nd DNA: You will automatically be removed from any further CPD training for the current financial year. You and your Manager will receive confirmation of this by email.\n\n\nYou will have an opportunity to appeal\, but please read the DNA Policy – Things that count as a DNA page first.\nIf you have to cancel your place later than 5 full working days prior to the start of the session\, please email nelondonicb.cpd@nhs.net explaining your exceptional circumstances\, and these will be taken into consideration when deciding whether it counts as a DNA.
URL:https://neltraininghub.org/event/nel-cpd-ear-care-update-training-cpd-for-gpns-nas-only/
LOCATION:Online Session\, United Kingdom
CATEGORIES:Advanced Nurse Practitioner,CPD GPN AHP NA,Enhanced Nurses,General Practice Nurses,Nursing Associates
ATTACH;FMTTYPE=image/png:https://neltraininghub.org/wp-content/uploads/2024/11/Screenshot-2025-05-23-at-08.02.05.png
END:VEVENT
BEGIN:VEVENT
DTSTART;TZID=Europe/London:20250710T100000
DTEND;TZID=Europe/London:20250710T130000
DTSTAMP:20260420T054543
CREATED:20250415T152755Z
LAST-MODIFIED:20250415T152923Z
UID:10003450-1752141600-1752152400@neltraininghub.org
SUMMARY:An overview of Welfare Benefits - Social welfare and legal advice
DESCRIPTION:FOR North East London Social Prescribing Managers\, and Social Prescribing Link Workers\, Mental Health Community Connectors (ELFT & NELFT)\, and similar Personalised Care roles\,\n\nOver recent years your feedback and reporting have shown that a significant proportion of social prescribing and those with mental health issues also have issues with housing\, welfare benefits claims\, debt\, cost of living and similar issues.\n\nThis free training has been specially designed for social prescribing link workers and similar roles\, such as mental health community connectors and others\, in the North East London boroughs of Barking & Dagenham\, City & Hackney\, Havering\, Newham\, Redbridge\, Tower Hamlets and Waltham Forest.\n\nIt will equip you with a greater understanding of these issues\, how to ask your clients about them and how to support your clients to access the right advice in your borough. (Please note: This training is not intended for you to give social welfare advice yourself\, rather\, how to better support your clients to access the advice they need).\n\nWe are delivering free training workshops in four key topics that affect many of your clients:\n\n\nHow clients can Maximise their Income – On-line (Zoom) Thursday 12th June 10am to 1pm\n\n\nUnderstanding Universal Credit – On-line (Zoom) Thursday 19th June 10am to 1pm\n\n\nUnderstanding Housing Lettings & Medical Priority – On-line (Zoom) Thursday 3rd July 10am to 1pm\n\n\nAn overview of Welfare Benefits – In person only\, with lunch – Stratford – 10th July 9am to 1pm\n\n\nPlease note\, no prior knowledge of the topics is needed or assumed.\nThe training is delivered Island Advice Centre in collaboration with Bromley by Bow Health and is funded by NEL ICS\n\nBooking:\nYou may book for one or more courses\, depending on your interest and availability.\nPlease use the booking form\, link here. https://forms.office.com/e/1P4iZe329R\n \nCourse details:\n\n\n\n\n\nCourse Time\n\n\nContent\n\n\n\n\n1. Income Maximisation\n\n On-line (Zoom) Thursday 12th June 10am to 1pm\n\n\n\nSuitable for anyone dealing with service users in financial hardship.\n\n Objectives:\n\n\n\nComplete or support client to do a benefits check and a ‘better-off’ calculation\n\n\nIdentify possible benefit entitlements/ commonly unclaimed benefits\, know where to refer for help with benefits\n\n\nHave an awareness of other sources of financial help Discretionary Housing Payments\, Local Support Schemes\, charity payments\n\n\nHave an awareness of budgeting/ financial statements and possible expenditure reduction considerations for people in financial hardship\n\n\nHave an awareness of when and where to refer clients to for help with debts\, benefits and or money advice support\n\n\n\n\n\n\n\n2. Universal Credit\n\nOn-line (Zoom) Thursday 19th June 10am to 1pm\n\n\n\nSuitable for those whose clients may be eligible for Universal Credit (including many part time workers who aren’t currently claiming). It gives a basic overview of Universal Credit.\n\nObjectives:\n\n\n\nWhat is universal credit\n\n\nWho can/should claim UC\n\n\nUnderstand basic structure and calculating UC\n\n\nConditionality and sanctions\n\n\n\n\n\n\n\n3. Housing Lettings & Medical Priority\n\nOn-line (Zoom) Thursday 3rd July 10am to 1pm\n\n\n\nSuitable for those whose clients who are seeking to access social housing. The aim of this course is to gain an understanding of how social housing is allocated.\n\n Objectives:\n\n\n\nIdentify and understand rules on the allocation of social housing\n\n\nBe able to know how to check how the social housing is applied for and allocated in your borough of work\n\n\nBe able to understand how to check how medical priority could affect your clients housing allocation application\n\n\nDiscuss and consider ways to manage your clients’ expectations\n\n\n\n\n\n\n\n4. Welfare Benefits overview\n\nIn person only\, with lunch – Stratford\n\n10th July 9am – 1pm\n\n\n\n\nSuitable for those whose clients may need to claim welfare benefits. An introduction to the system of welfare benefits\, with a brief overview of benefits and their qualifying conditions.\n\nObjectives:\n\n\n\nComplete benefits check and a ‘better-off’ calculation.\n\n\nUnderstand the principles underlying Universal Credit\n\n\nBe aware of legacy benefits and the migration process for transferring to Universal Credit\n\n\nDetails of Disability Benefits; Personal Independence Payment\, Disability Living Allowance and Attendance Allowance\n\n\nUseful resources and where to refer\n\n\n\n\nPlease note\, this workshop is in-person ONLY\, at Unex Tower\, Stratford\, lunch provided.\n\n\n\n\n\n\nBooking:\nYou may book for one or more courses\, depending on your interest and availability.\n\nPlease use the booking form\, link here. https://forms.office.com/e/1P4iZe329R
URL:https://neltraininghub.org/event/an-overview-of-welfare-benefits-social-welfare-and-legal-advice/
LOCATION:Online Session\, United Kingdom
CATEGORIES:Care Coordinators,Health and Wellbeing Coaches,Social Care Staff,Social Prescribers
ATTACH;FMTTYPE=image/png:https://neltraininghub.org/wp-content/uploads/2025/04/Screenshot-2025-04-15-at-16.23.45.png
END:VEVENT
BEGIN:VEVENT
DTSTART;TZID=Europe/London:20250710T123000
DTEND;TZID=Europe/London:20250710T133000
DTSTAMP:20260420T054543
CREATED:20250523T084556Z
LAST-MODIFIED:20250523T084556Z
UID:10003522-1752150600-1752154200@neltraininghub.org
SUMMARY:HARNESS GROUP CLINICS TO ADDRESS INEQUALITY
DESCRIPTION:THURSDAY 10 JULY 12.30 – 13.30 Group clinics: a new tool to support inclusion and assure equality of access and care? \nBOOK HERE: https://www.elcworks.co.uk/free-lunch-and-learn-webinars \nThis webinar provides an opportunity to explore how group clinics can help increase engagement and access amongst those facing health inequity so that we build more inclusive services. Join Dr Lauren Watts from the National Health Inequalities Improvement and PaulGavin\, Joint Deputy Director Equalities and Involvement and Dr Rupa Joshi Primary Care Medical Directorate Lead for Group Clinics and Deputy Medical Director and explore the potential of this powerful way of delivering care for those who may feel less at home in mainstream healthcare settings.
URL:https://neltraininghub.org/event/harness-group-clinics-to-address-inequality/
LOCATION:Online Session\, United Kingdom
CATEGORIES:Administrators,Advanced Clinical Practitioners,Advanced Nurse Practitioner,Allied Health Professionals,Care Coordinators,Care Home Staff / Managers,Clinical Directors,Clinical Pharmacists,Community Link Workers,Community Nurse,Dietitians,Digital Transformation Leads,Emergency Care Practitioners,Enhanced Nurses,First Contact Physiotherapists,General Practice Nurses,GP Assistant,GPs & GP Trainees,Health and Wellbeing Coaches,Health Care Assistants,Mental Health Practitioners,Nursing Associates,Occupational Therapists,Paramedics,Patient Representative,Pharmacists,Pharmacy Technicians,Phlebotomists,Physician Associates,Physiotherapists,Podiatrists,Practice Managers,Receptionists,Social Care Staff,Social Prescribers,Supervisors & Educators,Voluntary Sector Workers,Workforce Leads
ATTACH;FMTTYPE=image/png:https://neltraininghub.org/wp-content/uploads/2025/05/Screenshot-2025-05-23-at-09.39.52.png
END:VEVENT
BEGIN:VEVENT
DTSTART;TZID=Europe/London:20250710T130000
DTEND;TZID=Europe/London:20250710T140000
DTSTAMP:20260420T054543
CREATED:20250626T113441Z
LAST-MODIFIED:20250626T113837Z
UID:10003563-1752152400-1752156000@neltraininghub.org
SUMMARY:Lunch & Learn - The Role of Trauma Informed Care in Primary Care - Clinical
DESCRIPTION:FAO: GPs\, Nurses\, PAs\, and Pharmacists  \nThis 60 minute workshop\, targeted to all clinicians in North East London\, aims to explore what Trauma-Informed Care is and how to apply it within a GP setting.\nThe session will set out to:\n\n\nUnderstand what trauma is\, and how to spot in\, and how to respond to it.\n\n\nUnderstand power and privilege\, and how to empower those who have experienced trauma in the context of GP practice.\n\n\nUnderstand how working with trauma is stretched and pressured system affects us as professionals as well as patients.\n\n\n\nLed by: Dr Karina Lenard\, Principal Clinical Psychologist\, TH Complex Trauma Lead\, Raneem Idris\, Trainee Clinical Psychologist\, Harry Shirley\, Trainee Clinical Psychologist.\n\n\nThursday 10th July  1pm – 2pm via Microsoft Teams\n\n\nCLICK HERE TO REGISTER
URL:https://neltraininghub.org/event/the-role-of-trauma-informed-care-in-primary-care-clinical/
LOCATION:Online Session\, United Kingdom
CATEGORIES:Administrators,Advanced Clinical Practitioners,Advanced Nurse Practitioner,Allied Health Professionals,Care Coordinators,Care Home Staff / Managers,Clinical Directors,Clinical Pharmacists,Community Link Workers,Community Nurse,Dietitians,Digital Transformation Leads,Emergency Care Practitioners,Enhanced Nurses,First Contact Physiotherapists,General Practice Nurses,GP Assistant,GPs & GP Trainees,Health and Wellbeing Coaches,Health Care Assistants,Mental Health Practitioners,Nursing Associates,Occupational Therapists,Paramedics,Patient Representative,Pharmacists,Pharmacy Technicians,Phlebotomists,Physician Associates,Physiotherapists,Podiatrists,Practice Managers,Receptionists,Social Care Staff,Social Prescribers,Supervisors & Educators,Voluntary Sector Workers,Workforce Leads
ATTACH;FMTTYPE=image/png:https://neltraininghub.org/wp-content/uploads/2025/06/Screenshot-2025-06-26-at-12.36.15.png
END:VEVENT
BEGIN:VEVENT
DTSTART;TZID=Europe/London:20250710T130000
DTEND;TZID=Europe/London:20250710T143000
DTSTAMP:20260420T054543
CREATED:20250514T085429Z
LAST-MODIFIED:20250523T071950Z
UID:10003479-1752152400-1752157800@neltraininghub.org
SUMMARY:NEL CPD - Bitesize: Liver (CPD Training for Social Care & General Practice)
DESCRIPTION:Training Provider: Bev Bostock\nTime of Training: 13:00-14:30\nNumber of CPD Hours: 1.5\nCategory: Social Care & General Practice \nDates:\n\nThursday – 10/07/2025\n\nRegistration Link \n\n\n\nThese courses are fully funded\, therefore please ensure you read the cancellation and DNA policy carefully before booking.\nThese courses are for the following job roles only:  \n\nGeneral Practice Nurses (including ANP & ACP) \nNurse Associates \nDieticians \nParamedics \nPhysiotherapists \nPodiatrists \n\nBooking Information  \nTicket sales for all events close 2 weeks prior to the start of the session.  \nYou will be asked to sign up to MedTribe if you would like to book a course. You will register once\, and will be able to use the same account to book all future NEL Training Hub events with this account. \nSigning up is completely free and only takes a few seconds. Need help? You can follow the step-by-step sign-up guide for support. \nYou will be informed by email if you are on the training or if you are on the waiting list. This is due to:  \n\nThe high volume of applications for some of the training\, which comes in at a faster rate than can be effectively managed in real time. \nIncomplete or missing information that means your application will be rejected. \nFinding that you have applied for inappropriate training for your job role. \n\n\n\n\n\n\n\n\n\n\n\n\n\n\n\nPreparing for the Training Session \n\nOnly apply for training you are eligible for.\n\n\nCheck you have the joining link a minimum of 48hrs before the start date and time.\n\n\nIf you do not have a link – first check your junk email folder – then email nelondonicb.cpd@nhs.net.\n\n\nComplete any pre-training work you have been sent.\n\n\nIf you are asked for an address for physical training materials\, give your home address – they will not be posted to your work.\n\n\n\n\n\n\n\n\n\n\n\n\n\n\n\n\n\n\n\n\n\nDuring the Training Session \n\nLogin a minimum of 15 mins before the training session starts (then go to the loo and make a cuppa).\n\n\nCheck you have a working camera and microphone\, and in a place you can fully interact.\n\n\nMobile phone use is not allowed – however some providers use them for interactive elements\, such as quizzes.\n\n\n\n\n\n\n\n\n\n\n\n\n\n\n\n\n\n\n\n\n\nCancellation Policy \n\nSome training sessions are very popular and so will have a 2 week cancellation notice date.\n\n\nSome training sessions allow for larger numbers and/or are more niche and have a 1 week cancellation notice date.\n\n\nThe date will always be on the booking page and on your confirmation email from nelondonicb.cpd@nhs.net.\n\n\nTo cancel\, please use your MedTribe account. If you need further help\, email neldondonicb.cpd@nhs.net\n\n\n\n\n\n\n\n\n\n\n\n\n\n\n\n\n\n\n\n\n\nDNA Policy – Things that count as a DNA \n\nIf you email to cancel after the final cancellation date detailed in your confirmation email.\n\n\nIf you cannot login before the training ‘room’ is locked\, and you have not emailed nelondonicb.cpd@nhs.net a minimum of 15 minutes before the start of the training.\n\n\nIf you are ejected from a training session because you are using an inappropriate device.\n\n\nIf you book on training that is not appropriate for your job role\, and try to attend – there will not be 2 chances if this is the case\, you will be removed from all further training.\n\n\nIf you have not received the joining link / cannot find the joining link\, but you have not emailed nelondonicb.cpd@nhs.net a minimum of 48hrs before the training date and time.\n\n\nIf the emails are in your junk email folder and you have not checked this.\n\n\n\n\n\n\n\n\n\n\n\n\n\n\n\n\n\n\n\n\n\nDNA Policy – What happens when you DNA \n\n1st DNA: You and your Manager will receive an email informing you that you have DNA’d a pre-booked session without cancellation.\n2nd DNA: You will automatically be removed from any further CPD training for the current financial year. You and your Manager will receive confirmation of this by email.\n\n\nYou will have an opportunity to appeal\, but please read the DNA Policy – Things that count as a DNA page first.\nIf you have to cancel your place later than 5 full working days prior to the start of the session\, please email nelondonicb.cpd@nhs.net explaining your exceptional circumstances\, and these will be taken into consideration when deciding whether it counts as a DNA.
URL:https://neltraininghub.org/event/nel-cpd-bitesize-liver-cpd-training-for-social-care-general-practice/
CATEGORIES:Advanced Nurse Practitioner,Allied Health Professionals,CPD GPN AHP NA,Dietitians,Enhanced Nurses,General Practice Nurses,Nursing Associates,Occupational Therapists,Paramedics,Physiotherapists,Podiatrists,Social Care Staff
ATTACH;FMTTYPE=image/png:https://neltraininghub.org/wp-content/uploads/2024/11/Screenshot-2025-05-23-at-08.02.05.png
END:VEVENT
BEGIN:VEVENT
DTSTART;TZID=Europe/London:20250710T130000
DTEND;TZID=Europe/London:20250710T143000
DTSTAMP:20260420T054543
CREATED:20250703T102239Z
LAST-MODIFIED:20250703T102731Z
UID:10003567-1752152400-1752157800@neltraininghub.org
SUMMARY:Waltham Forest Women's Health Webinar
DESCRIPTION:Outcomes/Topics: \nHosted by the Whipps Cross Women’s Health Hub \nAll Primary Care clinicians in Waltham Forest are invited to this online webinar focused on common women’s health presentations in primary care. Consultant Gynaecologists from the Whipps Cross team will share practical insights on gynaecological conditions commonly seen in general practice. This is a great opportunity to hear updates and guidance from the Women’s Health Hub team. \nClick here to book \n  \n(Please note if you have not previously done so\, you will be asked to register on Medtribe if a first time user) \nWe will share the joining link nearer time with all those booked. Recording of the webinar will be shared for those who are unable to join
URL:https://neltraininghub.org/event/womens-health-webinar/
LOCATION:Online Session\, United Kingdom
CATEGORIES:Administrators,Advanced Clinical Practitioners,Advanced Nurse Practitioner,Allied Health Professionals,Care Coordinators,Care Home Staff / Managers,Clinical Directors,Clinical Pharmacists,Community Link Workers,Community Nurse,Dietitians,Digital Transformation Leads,Emergency Care Practitioners,Enhanced Nurses,First Contact Physiotherapists,General Practice Nurses,GP Assistant,GPs & GP Trainees,Health and Wellbeing Coaches,Health Care Assistants,Mental Health Practitioners,Nursing Associates,Occupational Therapists,Paramedics,Patient Representative,Pharmacists,Pharmacy Technicians,Phlebotomists,Physician Associates,Physiotherapists,Podiatrists,Practice Managers,Receptionists,Social Care Staff,Social Prescribers,Supervisors & Educators,Voluntary Sector Workers,Workforce Leads
ATTACH;FMTTYPE=image/png:https://neltraininghub.org/wp-content/uploads/2025/07/Screenshot-2025-07-03-at-11.22.21.png
END:VEVENT
END:VCALENDAR