BEGIN:VCALENDAR
VERSION:2.0
PRODID:-//NEL Training Hub - ECPv6.15.20//NONSGML v1.0//EN
CALSCALE:GREGORIAN
METHOD:PUBLISH
X-WR-CALNAME:NEL Training Hub
X-ORIGINAL-URL:https://neltraininghub.org
X-WR-CALDESC:Events for NEL Training Hub
REFRESH-INTERVAL;VALUE=DURATION:PT1H
X-Robots-Tag:noindex
X-PUBLISHED-TTL:PT1H
BEGIN:VTIMEZONE
TZID:Europe/London
BEGIN:DAYLIGHT
TZOFFSETFROM:+0000
TZOFFSETTO:+0100
TZNAME:BST
DTSTART:20240331T010000
END:DAYLIGHT
BEGIN:STANDARD
TZOFFSETFROM:+0100
TZOFFSETTO:+0000
TZNAME:GMT
DTSTART:20241027T010000
END:STANDARD
BEGIN:DAYLIGHT
TZOFFSETFROM:+0000
TZOFFSETTO:+0100
TZNAME:BST
DTSTART:20250330T010000
END:DAYLIGHT
BEGIN:STANDARD
TZOFFSETFROM:+0100
TZOFFSETTO:+0000
TZNAME:GMT
DTSTART:20251026T010000
END:STANDARD
BEGIN:DAYLIGHT
TZOFFSETFROM:+0000
TZOFFSETTO:+0100
TZNAME:BST
DTSTART:20260329T010000
END:DAYLIGHT
BEGIN:STANDARD
TZOFFSETFROM:+0100
TZOFFSETTO:+0000
TZNAME:GMT
DTSTART:20261025T010000
END:STANDARD
END:VTIMEZONE
BEGIN:VEVENT
DTSTART;TZID=Europe/London:20250519T092000
DTEND;TZID=Europe/London:20250519T164500
DTSTAMP:20260420T205857
CREATED:20241128T093534Z
LAST-MODIFIED:20250523T073651Z
UID:10003289-1747646400-1747673100@neltraininghub.org
SUMMARY:Menopause Foundation Training (2-Day Training) (CPD FOR GPNS\, NAS\, DIETICIANS\, PARAMEDICS\, PHYSIOTHERAPISTS\, PODIATRISTS AND OCCUPATIONAL THERAPISTS)
DESCRIPTION:(CPD FOR GPNS\, NAS\, DIETICIANS\, PARAMEDICS\, PHYSIOTHERAPISTS\, PODIATRISTS AND OCCUPATIONAL THERAPISTS) \nTime of Training: 09:20-16:45\nNumber of CPD Hours: 14 \nDates: \n\nMonday 19/5/25 & Wednesday 28/5/25\nThursday 23/10/25 & 30/10/25\n\nRegistration link\n\n\n\n\nThese courses are fully funded\, therefore please ensure you read the cancellation and DNA policy carefully before booking.\nThese courses are for the following job roles only:  \n\nGeneral Practice Nurses (including ANP & ACP) \nNurse Associates \nDieticians \nOccupational Therapists\nParamedics \nPhysiotherapists \nPodiatrists \n\nBooking Information  \nTicket sales for all events close 2 weeks prior to the start of the session.  \nYou will be asked to sign up to MedTribe if you would like to book a course. You will register once\, and will be able to use the same account to book all future NEL Training Hub events with this account. \nSigning up is completely free and only takes a few seconds. Need help? You can follow the step-by-step sign-up guide for support. \nYou will be informed by email if you are on the training or if you are on the waiting list. This is due to:  \n\nThe high volume of applications for some of the training\, which comes in at a faster rate than can be effectively managed in real time. \nIncomplete or missing information that means your application will be rejected. \nFinding that you have applied for inappropriate training for your job role. \n\n\n\n\n\n\n\n\n\n\n\n\n\n\n\nPreparing for the Training Session \n\nOnly apply for training you are eligible for.\n\n\nCheck you have the joining link a minimum of 48hrs before the start date and time.\n\n\nIf you do not have a link – first check your junk email folder – then email nelondonicb.cpd@nhs.net.\n\n\nComplete any pre-training work you have been sent.\n\n\nIf you are asked for an address for physical training materials\, give your home address – they will not be posted to your work.\n\n\n\n\n\n\n\n\n\n\n\n\n\n\n\n\n\n\n\n\n\nDuring the Training Session \n\nLogin a minimum of 15 mins before the training session starts (then go to the loo and make a cuppa).\n\n\nCheck you have a working camera and microphone\, and in a place you can fully interact.\n\n\nMobile phone use is not allowed – however some providers use them for interactive elements\, such as quizzes.\n\n\n\n\n\n\n\n\n\n\n\n\n\n\n\n\n\n\n\n\n\nCancellation Policy \n\nSome training sessions are very popular and so will have a 2 week cancellation notice date.\n\n\nSome training sessions allow for larger numbers and/or are more niche and have a 1 week cancellation notice date.\n\n\nThe date will always be on the booking page and on your confirmation email from nelondonicb.cpd@nhs.net.\n\n\nTo cancel\, please use your MedTribe account. If you need further help\, email neldondonicb.cpd@nhs.net\n\n\n\n\n\n\n\n\n\n\n\n\n\n\n\n\n\n\n\n\n\nDNA Policy – Things that count as a DNA \n\nIf you email to cancel after the final cancellation date detailed in your confirmation email.\n\n\nIf you cannot login before the training ‘room’ is locked\, and you have not emailed nelondonicb.cpd@nhs.net a minimum of 15 minutes before the start of the training.\n\n\nIf you are ejected from a training session because you are using an inappropriate device.\n\n\nIf you book on training that is not appropriate for your job role\, and try to attend – there will not be 2 chances if this is the case\, you will be removed from all further training.\n\n\nIf you have not received the joining link / cannot find the joining link\, but you have not emailed nelondonicb.cpd@nhs.net a minimum of 48hrs before the training date and time.\n\n\nIf the emails are in your junk email folder and you have not checked this.\n\n\n\n\n\n\n\n\n\n\n\n\n\n\n\n\n\n\n\n\n\nDNA Policy – What happens when you DNA \n\n1st DNA: You and your Manager will receive an email informing you that you have DNA’d a pre-booked session without cancellation.\n2nd DNA: You will automatically be removed from any further CPD training for the current financial year. You and your Manager will receive confirmation of this by email.\n\n\nYou will have an opportunity to appeal\, but please read the DNA Policy – Things that count as a DNA page first.\nIf you have to cancel your place later than 5 full working days prior to the start of the session\, please email nelondonicb.cpd@nhs.net explaining your exceptional circumstances\, and these will be taken into consideration when deciding whether it counts as a DNA.
URL:https://neltraininghub.org/event/menopause-foundation-training/2025-05-19/
LOCATION:Online Session\, United Kingdom
CATEGORIES:Advanced Nurse Practitioner,Allied Health Professionals,CPD GPN AHP NA,Dietitians,Enhanced Nurses,General Practice Nurses,Nursing Associates,Occupational Therapists,Paramedics,Physiotherapists,Podiatrists
ATTACH;FMTTYPE=image/png:https://neltraininghub.org/wp-content/uploads/2024/11/Screenshot-2025-05-23-at-08.02.05.png
END:VEVENT
BEGIN:VEVENT
DTSTART;TZID=Europe/London:20250520T130000
DTEND;TZID=Europe/London:20250520T140000
DTSTAMP:20260420T205857
CREATED:20250502T094405Z
LAST-MODIFIED:20250507T101909Z
UID:10003467-1747746000-1747749600@neltraininghub.org
SUMMARY:NEL Prescribing Quality Scheme and Prescribing Efficiency Scheme Drop-in Q&A Sessions 25-26
DESCRIPTION:Following the recent launch of the NEL Prescribing Quality Scheme (PQS) and NEL Prescribing Efficiency Scheme (PES)\, the Prescribing and Medicines Optimisation Team will be hosting regular drop-in Q&A sessions throughout 2025 and early 2026\, to help facilitate questions and queries on both schemes. \n All NEL practices are welcome and encouraged to attend. \nThis will also be an opportunity to provide feedback on both schemes. \nThe first drop in Q&A session will be on Tuesday 20th May 2025 12.30-2pm – CLICK HERE TO JOIN. \nSubsequent sessions are scheduled for: \n\n\n\nDate\nTime\n\n\nTuesday 7th July 2025 – CLICK HERE TO JOIN\n1-2pm\n\n\nTuesday 23rd September 2025 – CLICK HERE TO JOIN\n1-2pm\n\n\nTuesday 25th November 2025 – CLICK HERE TO JOIN\n1-2pm\n\n\nTuesday 20th January 2026 – CLICK HERE TO JOIN\n1-2pm
URL:https://neltraininghub.org/event/nel-prescribing-quality-scheme-and-prescribing-efficiency-scheme-drop-in-qa-sessions-25-26/
LOCATION:Online Session\, United Kingdom
CATEGORIES:Administrators,Advanced Clinical Practitioners,Advanced Nurse Practitioner,Allied Health Professionals,Care Coordinators,Care Home Staff / Managers,Clinical Directors,Clinical Pharmacists,Community Link Workers,Community Nurse,Dietitians,Digital Transformation Leads,Emergency Care Practitioners,Enhanced Nurses,First Contact Physiotherapists,General Practice Nurses,GP Assistant,GPs & GP Trainees,Health and Wellbeing Coaches,Health Care Assistants,Mental Health Practitioners,Nursing Associates,Occupational Therapists,Paramedics,Patient Representative,Pharmacists,Pharmacy Technicians,Phlebotomists,Physician Associates,Physiotherapists,Podiatrists,Practice Managers,Receptionists,Social Care Staff,Social Prescribers,Supervisors & Educators,Voluntary Sector Workers,Workforce Leads
ATTACH;FMTTYPE=image/png:https://neltraininghub.org/wp-content/uploads/2025/05/Screenshot-2025-05-01-at-15.59.08-e1746179029902.png
END:VEVENT
BEGIN:VEVENT
DTSTART;TZID=Europe/London:20250521T123000
DTEND;TZID=Europe/London:20250521T131500
DTSTAMP:20260420T205857
CREATED:20250422T120840Z
LAST-MODIFIED:20250423T130456Z
UID:10003452-1747830600-1747833300@neltraininghub.org
SUMMARY:Unscheduled Vaginal Bleeding Webinar
DESCRIPTION:Helena is a GP and Greater Manchester’s Early Diagnosis Lead for Gynaecological Cancers\, she is also Deputy Chair of Peaches Womb Cancer Trust charity.    \nIn the webinar she will be discussing postmenopausal bleeding and when it’s a red flag symptom for cancer\, the risk factors for endometrial cancer\, how to manage bleeding in your patients\, what examinations you can carry out on a patient to help determine a diagnosis and when to refer into secondary care. There is also a Q&A opportunity so you can get in any key questions you’ve got.   \nRegister for this webinar on our website here and please do pass on to your own networks and colleagues. \nThis webinar is one of the many free resources we have for primary care staff to help diagnose cancer earlier and work towards the NHS’ goal of detecting more cancers in stages 1 and 2 by 2028.    \nWe have a range of short\, interactive courses on a range of cancer types and screening programmes\, we also release fortnightly bite-sized reads\, called Cancer Keys\, on emerging topics\, highlighting the latest studies\, guidelines\, and advancements in cancer care knowledge\, providing practical take home messages for you to use in your clinical practice. We have our GP’s Talk Cancer podcast\, where hosts Sarah and Rebecca chat to specialists about cancer types\, their own practice changes and bring to life to some case studies to see guidance in action. All this is available for free for all primary care staff\, simply register for an account with us on our website.
URL:https://neltraininghub.org/event/unscheduled-vaginal-bleeding-webinar/
LOCATION:Online Session\, United Kingdom
CATEGORIES:Administrators,Advanced Clinical Practitioners,Advanced Nurse Practitioner,Allied Health Professionals,Care Coordinators,Care Home Staff / Managers,Clinical Directors,Clinical Pharmacists,Community Link Workers,Community Nurse,Dietitians,Digital Transformation Leads,Emergency Care Practitioners,Enhanced Nurses,First Contact Physiotherapists,General Practice Nurses,GP Assistant,GPs & GP Trainees,Health and Wellbeing Coaches,Health Care Assistants,Mental Health Practitioners,Nursing Associates,Occupational Therapists,Paramedics,Patient Representative,Pharmacists,Pharmacy Technicians,Phlebotomists,Physician Associates,Physiotherapists,Podiatrists,Practice Managers,Receptionists,Social Care Staff,Social Prescribers,Supervisors & Educators,Voluntary Sector Workers,Workforce Leads
ATTACH;FMTTYPE=image/png:https://neltraininghub.org/wp-content/uploads/2025/04/Screenshot-2025-04-22-at-13.08.22.png
END:VEVENT
BEGIN:VEVENT
DTSTART;TZID=Europe/London:20250522T110000
DTEND;TZID=Europe/London:20250522T150000
DTSTAMP:20260420T205857
CREATED:20250404T085459Z
LAST-MODIFIED:20250404T091525Z
UID:10003417-1747911600-1747926000@neltraininghub.org
SUMMARY:NHS London Virtual Careers Fair – Invitation to participate and exhibit
DESCRIPTION:NHS London Workforce Supply Team would like to invite you to participate and exhibit at the upcoming NHS London Virtual ” src=”blob:https://neltraininghub.org/4f0c8ad9-eb53-4419-902d-5f2008674036″ alt=”A group of people standing in front of a building AI-generated content may be incorrect.” width=”175″ align=”right” hspace=”12″ v:shapes=”Picture_x0020_26″ class=”Apple-web-attachment Singleton” style=”width: 2.4305in; height: 3.0902in; opacity: 1;”>Careers Event. The event is designed to attract and inspire talent into the health sector while offering a cost-effective and innovative way to share career opportunities across London. \nVirtual Days\, have been commissioned by the national team to run a pilot to trial a virtual careers event in London and we have been working with them to create the online event space and landing website which you can see in draft form and watch a short video to see what the event will look like here: Home | Virtual London Careers Event. \nThe event will be held on Thursday 22nd May 2025 at 11:00-15:00. \nWhat’s the benefit for my organisation?  \n\nPromote live job openings\, specific roles and career development within Primary Care.\nShare resources\, videos\, and any content relevant to your organisation. (Or use any content from the Health Careers / NHS Jobs site)\nConnect with students\, job seekers\, and those interested in a career in Primary Care.\n\nAudience: We are inviting the following groups to attend: \n\nSchool Pupils​\nHigher/Further education students​\nNHS employees ​\nPeople out of work\n\nWhat’s involved for my organisation?  \n\nSomeone within your organisation will need to be available (at their desk) during the virtual event to monitor the live chat.\nYou’ll need to provide the content you wish to share in your ‘booth’ ahead of the event though the Virtual Days booth content collection form\, this can be links to vacancies or information about your practice / organisation. We will set up a virtual booth for you.\nThere is also the opportunity to hold a panel session or a live webinar at the event should you wish to.\n\nWho is participating in this event: \nAcute Trusts / Primary Care Employers / ICBs / Job Centre / Indeed / DWP / Homeless charities / Care Leavers/ Refugees / Cadets / Professional Groups / Social Care \nHow can I register my interest? Complete the short EOI form for Primary Care. \nIf you have any further questions or would like to meet to further discuss your involvement\, please email alison.dear1@nhs.net. Please see the attached slides for further information.
URL:https://neltraininghub.org/event/nhs-london-virtual-careers-fair-invitation-to-participate-and-exhibit/
LOCATION:Online Session\, United Kingdom
CATEGORIES:Administrators,Advanced Clinical Practitioners,Advanced Nurse Practitioner,Allied Health Professionals,Care Coordinators,Care Home Staff / Managers,Clinical Directors,Clinical Pharmacists,Community Link Workers,Community Nurse,Dietitians,Digital Transformation Leads,Emergency Care Practitioners,Enhanced Nurses,First Contact Physiotherapists,General Practice Nurses,GP Assistant,GPs & GP Trainees,Health and Wellbeing Coaches,Health Care Assistants,Mental Health Practitioners,Nursing Associates,Occupational Therapists,Paramedics,Patient Representative,Pharmacists,Pharmacy Technicians,Phlebotomists,Physician Associates,Physiotherapists,Podiatrists,Practice Managers,Receptionists,Social Care Staff,Social Prescribers,Supervisors & Educators,Voluntary Sector Workers,Workforce Leads
ATTACH;FMTTYPE=image/png:https://neltraininghub.org/wp-content/uploads/2025/04/Screenshot-2025-04-04-at-09.54.43.png
END:VEVENT
BEGIN:VEVENT
DTSTART;TZID=Europe/London:20250522T120000
DTEND;TZID=Europe/London:20250522T123000
DTSTAMP:20260420T205857
CREATED:20250501T142304Z
LAST-MODIFIED:20250501T142304Z
UID:10003454-1747915200-1747917000@neltraininghub.org
SUMMARY:Antihypertensive Therapy: Why and In Whom
DESCRIPTION:Open invitation for all general practice staff!\n\n\n\n\n\nDaRe2THINK\, a national primary care trial sponsored by the NIHR\, University of Birmingham and University Hospitals Birmingham NHS Foundation Trust\, welcome you to the Continuing Professional Development (CPD) webinar with Dr Kazem Rahimi\, details on the attached graphic.\n\nPlease click the link below for more details and to sign up and register.\n\nhttps://buytickets.at/universityofbirmingham3/1667454\n\nYou can join the webinar online using the zoom link below:\n\nJoin Zoom Meeting\nhttps://bham-ac-uk.zoom.us/j/82823746585\n\n\n\n\n\nWebinar ID: 828 2374 6585
URL:https://neltraininghub.org/event/antihypertensive-therapy-why-and-in-whom/
LOCATION:Online Session\, United Kingdom
CATEGORIES:Administrators,Advanced Clinical Practitioners,Advanced Nurse Practitioner,Allied Health Professionals,Care Coordinators,Care Home Staff / Managers,Clinical Directors,Clinical Pharmacists,Community Link Workers,Community Nurse,Dietitians,Digital Transformation Leads,Emergency Care Practitioners,Enhanced Nurses,First Contact Physiotherapists,General Practice Nurses,GP Assistant,GPs & GP Trainees,Health and Wellbeing Coaches,Health Care Assistants,Mental Health Practitioners,Nursing Associates,Occupational Therapists,Paramedics,Patient Representative,Pharmacists,Pharmacy Technicians,Phlebotomists,Physician Associates,Physiotherapists,Podiatrists,Practice Managers,Receptionists,Social Care Staff,Social Prescribers,Supervisors & Educators,Voluntary Sector Workers,Workforce Leads
ATTACH;FMTTYPE=image/png:https://neltraininghub.org/wp-content/uploads/2025/05/May-Webinar-Dr-Rahimi-1.png
END:VEVENT
BEGIN:VEVENT
DTSTART;TZID=Europe/London:20250522T130000
DTEND;TZID=Europe/London:20250522T133000
DTSTAMP:20260420T205857
CREATED:20250124T124555Z
LAST-MODIFIED:20250124T124853Z
UID:10003337-1747918800-1747920600@neltraininghub.org
SUMMARY:UEL Lunchtime webinars - “Optimal mentorship and staff wellbeing” Dr Matthew Arnold/ Dr Sophie Bokhari
DESCRIPTION:I am Professor Joanne Harris\, and I am delighted to have joined the University of East London this month as the new Dean of Medicine. In addition to my education role\, I also practice as a GP in London. The University is embarking on an exciting initiative to establish a GMC-accredited MBBS undergraduate School of Medicine at the Stratford campus\, with the first cohort of students set to begin in 2027. As we develop this programme\, we aim to leverage the comprehensive resources of the UEL Health Campus to create enriching learning opportunities for local healthcare providers\, including both medical and Allied Health professionals. \nBuilding on the success of the workshop series as part of the Postgraduate Academy of Health education programme\, previously developed and delivered to our Health Fellows\, we are expanding these offerings to a broader audience. As part of this initiative\, we will be hosting a series of lunchtime webinars covering a range of topics relevant to local healthcare providers. \nThe webinars will be conducted online and will run from 1:00 PM to 1:30 PM on Tuesdays\, Wednesdays or Thursdays. Details of our current programme are listed below. \nIf you have suggestions for future topics\, I would love to hear from you. Please feel free to email me at jharris1@uel.ac.uk. \nLunchtime webinars from 1pm – 1.30pm \n\nThursday 22/05/2025 “Optimal mentorship and staff wellbeing” Dr Matthew Arnold/ Dr Sophie Bokhari\nDate tbc – Enhancing students competencies when concerns are raised” Steph Messner/ Richard Harty\nDate tbc – Effective learning objectives – Caroline Doolan\nDate tbc – Streamlining portfolio development – Teresa McMahon\nDate tbc – PGA by publication – Dr Laura Vanderbloemen\n\nWorkshops are from 5-7pm at our UEL Stratford Campus. Please book here \n\nWednesday 12/02/2025 “How can we sustain lifestyle changes in our patients?” Chair: Prof Anwar Khan\, Speakers – Dr Patricia Smith & Prof Sir Sam Everington (TBC)\nWednesday 09/04/2025“Assisted dying legislation- what does the public want?”\nWednesday 11/06/2025“Should the NHS be privatised?”  \nWednesday 17/09/2025 “Are we over-diagnosing neurodiversity?”\nWednesday 12/11/2025“Marijuana should be legalised
URL:https://neltraininghub.org/event/uel-lunchtime-webinars-optimal-mentorship-and-staff-wellbeing-dr-matthew-arnold-dr-sophie-bokhari/
LOCATION:Online Session\, United Kingdom
CATEGORIES:Administrators,Advanced Clinical Practitioners,Advanced Nurse Practitioner,Allied Health Professionals,Care Coordinators,Care Home Staff / Managers,Clinical Directors,Clinical Pharmacists,Community Link Workers,Community Nurse,Dietitians,Digital Transformation Leads,Emergency Care Practitioners,Enhanced Nurses,First Contact Physiotherapists,General Practice Nurses,GP Assistant,GPs & GP Trainees,Health and Wellbeing Coaches,Health Care Assistants,Mental Health Practitioners,Nursing Associates,Occupational Therapists,Paramedics,Patient Representative,Pharmacists,Pharmacy Technicians,Phlebotomists,Physician Associates,Physiotherapists,Podiatrists,Practice Managers,Receptionists,Social Care Staff,Social Prescribers,Supervisors & Educators,Voluntary Sector Workers,Workforce Leads
ATTACH;FMTTYPE=image/png:https://neltraininghub.org/wp-content/uploads/2025/01/UEL-.png
END:VEVENT
BEGIN:VEVENT
DTSTART;TZID=Europe/London:20250522T130000
DTEND;TZID=Europe/London:20250522T140000
DTSTAMP:20260420T205857
CREATED:20250321T091506Z
LAST-MODIFIED:20250407T074028Z
UID:10003413-1747918800-1747922400@neltraininghub.org
SUMMARY:World Hypertension Day Webinar – Practical Tips for Community Care
DESCRIPTION:We’re excited to invite you to a Lunch & Learn webinar in support of World Hypertension Day on Thursday\, 22 May (1:00–2:00 PM).  \nJoin expert speakers for a practical\, case-based session tailored for community colleagues across London\, covering key topics to help you manage hypertension with confidence. \n  \nKeeping the Pressure Down: Practical Tips for Community Care \n✅ Blood Pressure in London – Where Are We?\n✅ Assessing a New Patient with Hypertension\n✅ Who Needs Referral to a Specialist BP Clinic?\n✅ BP 200/120mmHg – What’s the Plan? \n  \nMeet the Speakers \n👨‍⚕️ Dr. Neil Chapman – Consultant Physician & Hypertension Specialist\, Imperial College Healthcare NHS Trust\n👨‍⚕️ Dr. Marc George – Consultant in Clinical Pharmacology & General Internal Medicine\, UCLH\n💊 Paul Wright – Consultant Cardiovascular Pharmacist\, Barts Health NHS Trust \n  \nThis session will be an opportunity to learn from specialists\, and enhance your approach to hypertension management in community settings. \n📅 Date: Thursday\, 22 May 2025\n⏰ Time: 1:00–2:00 PM BST\n📍 Location: Online (link provided upon registration) \n➡️Register here
URL:https://neltraininghub.org/event/world-hypertension-day-webinar-practical-tips-for-community-care/
LOCATION:Online Session\, United Kingdom
CATEGORIES:Administrators,Advanced Clinical Practitioners,Advanced Nurse Practitioner,Allied Health Professionals,Care Coordinators,Care Home Staff / Managers,Clinical Directors,Clinical Pharmacists,Community Link Workers,Community Nurse,Dietitians,Digital Transformation Leads,Emergency Care Practitioners,Enhanced Nurses,First Contact Physiotherapists,General Practice Nurses,GP Assistant,GPs & GP Trainees,Health and Wellbeing Coaches,Health Care Assistants,Mental Health Practitioners,Nursing Associates,Occupational Therapists,Paramedics,Patient Representative,Pharmacists,Pharmacy Technicians,Phlebotomists,Physician Associates,Physiotherapists,Podiatrists,Practice Managers,Receptionists,Social Care Staff,Social Prescribers,Supervisors & Educators,Voluntary Sector Workers,Workforce Leads
ATTACH;FMTTYPE=image/png:https://neltraininghub.org/wp-content/uploads/2025/03/Screenshot-2025-04-07-at-08.40.05.png
END:VEVENT
END:VCALENDAR