BEGIN:VCALENDAR
VERSION:2.0
PRODID:-//NEL Training Hub - ECPv6.15.20//NONSGML v1.0//EN
CALSCALE:GREGORIAN
METHOD:PUBLISH
X-WR-CALNAME:NEL Training Hub
X-ORIGINAL-URL:https://neltraininghub.org
X-WR-CALDESC:Events for NEL Training Hub
REFRESH-INTERVAL;VALUE=DURATION:PT1H
X-Robots-Tag:noindex
X-PUBLISHED-TTL:PT1H
BEGIN:VTIMEZONE
TZID:Europe/London
BEGIN:DAYLIGHT
TZOFFSETFROM:+0000
TZOFFSETTO:+0100
TZNAME:BST
DTSTART:20240331T010000
END:DAYLIGHT
BEGIN:STANDARD
TZOFFSETFROM:+0100
TZOFFSETTO:+0000
TZNAME:GMT
DTSTART:20241027T010000
END:STANDARD
BEGIN:DAYLIGHT
TZOFFSETFROM:+0000
TZOFFSETTO:+0100
TZNAME:BST
DTSTART:20250330T010000
END:DAYLIGHT
BEGIN:STANDARD
TZOFFSETFROM:+0100
TZOFFSETTO:+0000
TZNAME:GMT
DTSTART:20251026T010000
END:STANDARD
BEGIN:DAYLIGHT
TZOFFSETFROM:+0000
TZOFFSETTO:+0100
TZNAME:BST
DTSTART:20260329T010000
END:DAYLIGHT
BEGIN:STANDARD
TZOFFSETFROM:+0100
TZOFFSETTO:+0000
TZNAME:GMT
DTSTART:20261025T010000
END:STANDARD
END:VTIMEZONE
BEGIN:VEVENT
DTSTART;TZID=Europe/London:20250513T093000
DTEND;TZID=Europe/London:20250513T163000
DTSTAMP:20260420T205910
CREATED:20250501T143424Z
LAST-MODIFIED:20250501T143424Z
UID:10003461-1747128600-1747153800@neltraininghub.org
SUMMARY:Motivational Interviewing Face To Face Training Course
DESCRIPTION:With lunch provided\, in Leyton\, open to all WF Social Prescribers and Link workers and NEL Social Prescribers. \nIf you are interested in attending this face to face training in Leyton E10\, please email\, Social.prescribing@walthamforest.gov.uk  \nMotivational Interviewing (MI) training helps practitioners/Link workers develop a person-centred approach to counselling\, guiding clients to explore their own motivations for change. It focuses on building rapport\, eliciting change talk\, and supporting clients in their journey toward desired behaviours. MI training typically covers the four core skills: engaging\, focusing\, evoking\, and planning. \nExternal facilitator – Chris Glover \nVenue:  Leyton Orient Football Club\, 5th Floor Meeting Room\, Gaughan Group Stadium\,  Oliver Road\, Leyton E10 5NF. No parking available at this venue. \nNumbers:  20 participants. \nTimings: 9.30 am -4 pm\, morning break 10.30/11am\, lunch at 12.30\,  and afternoon break 2.30pm. \nRefreshments & Light Lunch will be available\, please tell us of any dietary requirements or allergies at booking. \nBooking via Social.prescribing@walthamforest.gov.uk
URL:https://neltraininghub.org/event/motivational-interviewing-face-to-face-training-course/
LOCATION:Leyton Orient Football Club\, Leyton Orient Football Club\, 5th Floor Meeting Room\, Gaughan Group Stadium\,  Oliver Road\, Leyton\, E10 5NF\, United Kingdom
CATEGORIES:Administrators,Advanced Clinical Practitioners,Advanced Nurse Practitioner,Allied Health Professionals,Care Coordinators,Care Home Staff / Managers,Clinical Directors,Clinical Pharmacists,Community Link Workers,Community Nurse,Dietitians,Digital Transformation Leads,Emergency Care Practitioners,Enhanced Nurses,First Contact Physiotherapists,General Practice Nurses,GP Assistant,GPs & GP Trainees,Health and Wellbeing Coaches,Health Care Assistants,Mental Health Practitioners,Nursing Associates,Occupational Therapists,Paramedics,Patient Representative,Pharmacists,Pharmacy Technicians,Phlebotomists,Physician Associates,Physiotherapists,Podiatrists,Practice Managers,Receptionists,Social Care Staff,Social Prescribers,Supervisors & Educators,Voluntary Sector Workers,Workforce Leads
ATTACH;FMTTYPE=image/webp:https://neltraininghub.org/wp-content/uploads/2025/05/motivational_interviewing.webp
GEO:51.5601583;-0.0126087
X-APPLE-STRUCTURED-LOCATION;VALUE=URI;X-ADDRESS=Leyton Orient Football Club Leyton Orient Football Club 5th Floor Meeting Room Gaughan Group Stadium  Oliver Road Leyton E10 5NF United Kingdom;X-APPLE-RADIUS=500;X-TITLE=Leyton Orient Football Club\, 5th Floor Meeting Room\, Gaughan Group Stadium\,  Oliver Road:geo:-0.0126087,51.5601583
END:VEVENT
BEGIN:VEVENT
DTSTART;TZID=Europe/London:20250513T123000
DTEND;TZID=Europe/London:20250513T133000
DTSTAMP:20260420T205910
CREATED:20250320T143949Z
LAST-MODIFIED:20250320T144305Z
UID:10003411-1747139400-1747143000@neltraininghub.org
SUMMARY:BHR Learning Disability Annual Health Check Training
DESCRIPTION:For Nursing Associates\, New Nurses\, and HCAs working in BHR. \nThis training session focuses on the vital role of the Annual Health Check (AHC) in supporting individuals with learning disabilities. It will explore the necessity of making reasonable adjustments to ensure accessible and inclusive healthcare\, addressing the common health inequalities that individuals with learning disabilities often face. \nLearning Objectives: \n\nUnderstand the purpose and process of the Annual Health Check (AHC) for individuals with learning disabilities.\nRecognise the importance of reasonable adjustments and how they can support individuals in healthcare settings.\nIdentify common health inequalities faced by individuals with learning disabilities.\nDevelop strategies to address and reduce health inequalities during the AHC process.\nEnhance skills in providing inclusive\, person-centred care during the AHC for individuals with learning disabilities.\n\nREGISTER HERE.
URL:https://neltraininghub.org/event/bhr-learning-disability-annual-health-check-training/
LOCATION:Online Session\, United Kingdom
CATEGORIES:General Practice Nurses,Health Care Assistants,Nursing Associates
ATTACH;FMTTYPE=image/png:https://neltraininghub.org/wp-content/uploads/2025/03/LD-18th-May-.png
END:VEVENT
BEGIN:VEVENT
DTSTART;TZID=Europe/London:20250514T090000
DTEND;TZID=Europe/London:20250515T170000
DTSTAMP:20260420T205910
CREATED:20241128T092203Z
LAST-MODIFIED:20251029T124430Z
UID:10003422-1747213200-1747328400@neltraininghub.org
SUMMARY:Travel Health Foundation Training (CPD FOR GPNS\, NAS\, DIETICIANS\, PARAMEDICS\, PHYSIOTHERAPISTS\, PODIATRISTS AND OCCUPATIONAL THERAPISTS)
DESCRIPTION:(CPD FOR GPNS\, NAS\, DIETICIANS\, PARAMEDICS\, PHYSIOTHERAPISTS\, PODIATRISTS AND OCCUPATIONAL THERAPISTS) \n15 CPD Hours \nDates:\n\n18th November & 19th November or\n\n\n31st March & 1st April 2026 – 09:00-17:00\n\nTime of Training: 09:00 – 17:00\nPlease make sure that you are eligible for this training before starting to fill in the form – you MUST have completed your Immunsation Foundation training and had your competency signed off to do this course. \nREGISTRATION LINK \n  \n\n\n\nThese courses are fully funded\, therefore please ensure you read the cancellation and DNA policy carefully before booking.\nThese courses are for the following job roles only:  \n\nGeneral Practice Nurses (including ANP & ACP) \nNurse Associates \nDieticians \nOccupational Therapists\nParamedics \nPhysiotherapists \nPodiatrists \n\nBooking Information  \nTicket sales for all events close 2 weeks prior to the start of the session.  \nYou will be asked to sign up to MedTribe if you would like to book a course. You will register once\, and will be able to use the same account to book all future NEL Training Hub events with this account. \nSigning up is completely free and only takes a few seconds. Need help? You can follow the step-by-step sign-up guide for support. \nYou will be informed by email if you are on the training or if you are on the waiting list. This is due to:  \n\nThe high volume of applications for some of the training\, which comes in at a faster rate than can be effectively managed in real time. \nIncomplete or missing information that means your application will be rejected. \nFinding that you have applied for inappropriate training for your job role. \n\n\n\n\n\n\n\n\n\n\n\n\n\n\n\nPreparing for the Training Session \n\nOnly apply for training you are eligible for.\n\n\nCheck you have the joining link a minimum of 48hrs before the start date and time.\n\n\nIf you do not have a link – first check your junk email folder – then email nelondonicb.cpd@nhs.net.\n\n\nComplete any pre-training work you have been sent.\n\n\nIf you are asked for an address for physical training materials\, give your home address – they will not be posted to your work.\n\n\n\n\n\n\n\n\n\n\n\n\n\n\n\n\n\n\n\n\n\nDuring the Training Session \n\nLogin a minimum of 15 mins before the training session starts (then go to the loo and make a cuppa).\n\n\nCheck you have a working camera and microphone\, and in a place you can fully interact.\n\n\nMobile phone use is not allowed – however some providers use them for interactive elements\, such as quizzes.\n\n\n\n\n\n\n\n\n\n\n\n\n\n\n\n\n\n\n\n\n\nCancellation Policy \n\nSome training sessions are very popular and so will have a 2 week cancellation notice date.\n\n\nSome training sessions allow for larger numbers and/or are more niche and have a 1 week cancellation notice date.\n\n\nThe date will always be on the booking page and on your confirmation email from nelondonicb.cpd@nhs.net.\n\n\nTo cancel\, please use your MedTribe account. If you need further help\, email neldondonicb.cpd@nhs.net\n\n\n\n\n\n\n\n\n\n\n\n\n\n\n\n\n\n\n\n\n\nDNA Policy – Things that count as a DNA \n\nIf you email to cancel after the final cancellation date detailed in your confirmation email.\n\n\nIf you cannot login before the training ‘room’ is locked\, and you have not emailed nelondonicb.cpd@nhs.net a minimum of 15 minutes before the start of the training.\n\n\nIf you are ejected from a training session because you are using an inappropriate device.\n\n\nIf you book on training that is not appropriate for your job role\, and try to attend – there will not be 2 chances if this is the case\, you will be removed from all further training.\n\n\nIf you have not received the joining link / cannot find the joining link\, but you have not emailed nelondonicb.cpd@nhs.net a minimum of 48hrs before the training date and time.\n\n\nIf the emails are in your junk email folder and you have not checked this.\n\n\n\n\n\n\n\n\n\n\n\n\n\n\n\n\n\n\n\n\n\nDNA Policy – What happens when you DNA \n\n1st DNA: You and your Manager will receive an email informing you that you have DNA’d a pre-booked session without cancellation.\n2nd DNA: You will automatically be removed from any further CPD training for the current financial year. You and your Manager will receive confirmation of this by email.\n\n\nYou will have an opportunity to appeal\, but please read the DNA Policy – Things that count as a DNA page first.\nIf you have to cancel your place later than 5 full working days prior to the start of the session\, please email nelondonicb.cpd@nhs.net explaining your exceptional circumstances\, and these will be taken into consideration when deciding whether it counts as a DNA.
URL:https://neltraininghub.org/event/travel-health-foundation-training-cpd-training-for-gpns-ahps-and-nas-only/2025-05-14/
LOCATION:Online Session\, United Kingdom
CATEGORIES:Advanced Nurse Practitioner,Allied Health Professionals,CPD GPN AHP NA,Dietitians,Enhanced Nurses,General Practice Nurses,Nursing Associates,Occupational Therapists,Paramedics,Physiotherapists,Podiatrists
ATTACH;FMTTYPE=image/png:https://neltraininghub.org/wp-content/uploads/2024/11/Screenshot-2025-05-23-at-08.02.05.png
END:VEVENT
BEGIN:VEVENT
DTSTART;TZID=Europe/London:20250514T130000
DTEND;TZID=Europe/London:20250514T150000
DTSTAMP:20260420T205910
CREATED:20250414T143404Z
LAST-MODIFIED:20250414T152308Z
UID:10003446-1747227600-1747234800@neltraininghub.org
SUMMARY:Gypsy\, Roma and Traveller engagement - Meet the Health Champions at a free webinar!
DESCRIPTION:Registration Link: https://medtribe.com/courses/gypsy-roma-and-traveller-engagement-meet-the-health-champions?utm_medium=copy-link&utm_source=share-modal\n\nIn partnership with Friends\, Families and Travellers and Roma Support group\, the North East London Cancer Alliance invites North East London ICB\, Primary Care and Public Health teams to meet our new Gypsy\, Roma and Traveller Health Champions.\n\nThe Health Champions are trained and qualified to level 1 and 2 Royal Society of Public Health standard\, with the aim of supporting local communities to engage with health care services and increase the prevention\, awareness and screening of cancer.\n\nThe webinar will provide the following:\n• An introduction to Friends\, Family and Travellers and Roma Support group and their experiences in supporting the Gypsy\, Roma and Traveller communities.\n• Overview of the project in north east London.\n• Introduction to the Health Champions and their experiences.\n• An opportunity to ask questions and how the champions may help your health service.
URL:https://neltraininghub.org/event/gypsy-roma-and-traveller-engagement-meet-the-health-champions-at-a-free-webinar/
LOCATION:Online Session\, United Kingdom
CATEGORIES:Administrators,Advanced Clinical Practitioners,Advanced Nurse Practitioner,Allied Health Professionals,Care Coordinators,Care Home Staff / Managers,Clinical Directors,Clinical Pharmacists,Community Link Workers,Community Nurse,Dietitians,Digital Transformation Leads,Emergency Care Practitioners,Enhanced Nurses,First Contact Physiotherapists,General Practice Nurses,GP Assistant,GPs & GP Trainees,Health and Wellbeing Coaches,Health Care Assistants,Mental Health Practitioners,Nursing Associates,Occupational Therapists,Paramedics,Patient Representative,Pharmacists,Pharmacy Technicians,Phlebotomists,Physician Associates,Physiotherapists,Podiatrists,Practice Managers,Receptionists,Social Care Staff,Social Prescribers,Supervisors & Educators,Voluntary Sector Workers,Workforce Leads
ATTACH;FMTTYPE=image/png:https://neltraininghub.org/wp-content/uploads/2025/04/Screenshot-2025-04-14-at-15.33.42.png
END:VEVENT
BEGIN:VEVENT
DTSTART;TZID=Europe/London:20250515T130000
DTEND;TZID=Europe/London:20250515T133000
DTSTAMP:20260420T205910
CREATED:20250507T094312Z
LAST-MODIFIED:20250507T094312Z
UID:10003472-1747314000-1747315800@neltraininghub.org
SUMMARY:EQUIP 30-minute Lunch and Learn webinar
DESCRIPTION:We are excited to invite you to a 30-minute Lunch and Learn webinar designed specifically for practices across NEL to explore how to optimise SMS usage within your practice. \nIn this session\, we will cover key strategies and practical insights to help streamline communication\, improve financial efficiency\, and enhance patient engagement. \nWhether you’re looking to optimise the current number of messages or explore new ways of communicating with your patients\, this webinar is for you! \nLINK TO JOIN: https://gbr01.safelinks.protection.outlook.com/ap/t-59584e83/?url=https%3A%2F%2Fteams.microsoft.com%2Fl%2Fmeetup-join%2F19%253ameeting_ZjI4MDk2NTktYmY1OC00ODkyLWIzYzUtMzZmYzRlMzg5MDUy%2540thread.v2%2F0%3Fcontext%3D%257b%2522Tid%2522%253a%252237c354b2-85b0-47f5-b222-07b48d774ee3%2522%252c%2522Oid%2522%253a%252275ad4c61-671d-4e3a-b3ed-d9bd93c8b640%2522%257d&data=05%7C02%7Csedat.ozcelik%40nhs.net%7C2fd5c9291a1c4b59248408dd8d49d5cd%7C37c354b285b047f5b22207b48d774ee3%7C0%7C0%7C638822070432659295%7CUnknown%7CTWFpbGZsb3d8eyJFbXB0eU1hcGkiOnRydWUsIlYiOiIwLjAuMDAwMCIsIlAiOiJXaW4zMiIsIkFOIjoiTWFpbCIsIldUIjoyfQ%3D%3D%7C0%7C%7C%7C&sdata=d6Jb2ke1Nv8%2FT1SeP2GLTPnXkuYtTlyxRmJKEHUNOqo%3D&reserved=0 \nAgenda: \n\nLearning and alignment of practice staff around messages\nReadability score: Improving the clarity and effectiveness of your messages\nPractice Experience: Hear firsthand from St Stephen’s on their journey\nQuick wins on optimising traditional text messages\, including a tailored template for doctors\nPractice Experience: Hear firsthand from Spring Hill Practice on their journey\nIncreasing uptake of the NHS app: Best practices\n\nI want to thank you in advance St Stephen’s Health Centre in Tower Hamlets and Spring Hill Practice in City and Hackney for leading their QI projects in SMS optimisation. During the webinars\, you can hear the changes they implemented at their surgery. \nThis is an excellent opportunity to learn from the quality improvement lead at EQUIP and your primary care peers\, ask questions\, and gain practical takeaways that can immediately benefit your practice. \n\nDate & Time: Thursday\, 15th May from 1pm to 1:30pm
URL:https://neltraininghub.org/event/equip-30-minute-lunch-and-learn-webinar/
LOCATION:Online Session\, United Kingdom
CATEGORIES:Administrators,Advanced Clinical Practitioners,Advanced Nurse Practitioner,Allied Health Professionals,Care Coordinators,Care Home Staff / Managers,Clinical Directors,Clinical Pharmacists,Community Link Workers,Community Nurse,Dietitians,Digital Transformation Leads,Emergency Care Practitioners,Enhanced Nurses,First Contact Physiotherapists,General Practice Nurses,GP Assistant,GPs & GP Trainees,Health and Wellbeing Coaches,Health Care Assistants,Mental Health Practitioners,Nursing Associates,Occupational Therapists,Paramedics,Patient Representative,Pharmacists,Pharmacy Technicians,Phlebotomists,Physician Associates,Physiotherapists,Podiatrists,Practice Managers,Receptionists,Social Care Staff,Social Prescribers,Supervisors & Educators,Voluntary Sector Workers,Workforce Leads
ATTACH;FMTTYPE=image/png:https://neltraininghub.org/wp-content/uploads/2025/05/equiplogo2020.png
END:VEVENT
END:VCALENDAR