BEGIN:VCALENDAR
VERSION:2.0
PRODID:-//NEL Training Hub - ECPv6.15.20//NONSGML v1.0//EN
CALSCALE:GREGORIAN
METHOD:PUBLISH
X-WR-CALNAME:NEL Training Hub
X-ORIGINAL-URL:https://neltraininghub.org
X-WR-CALDESC:Events for NEL Training Hub
REFRESH-INTERVAL;VALUE=DURATION:PT1H
X-Robots-Tag:noindex
X-PUBLISHED-TTL:PT1H
BEGIN:VTIMEZONE
TZID:Europe/London
BEGIN:DAYLIGHT
TZOFFSETFROM:+0000
TZOFFSETTO:+0100
TZNAME:BST
DTSTART:20240331T010000
END:DAYLIGHT
BEGIN:STANDARD
TZOFFSETFROM:+0100
TZOFFSETTO:+0000
TZNAME:GMT
DTSTART:20241027T010000
END:STANDARD
BEGIN:DAYLIGHT
TZOFFSETFROM:+0000
TZOFFSETTO:+0100
TZNAME:BST
DTSTART:20250330T010000
END:DAYLIGHT
BEGIN:STANDARD
TZOFFSETFROM:+0100
TZOFFSETTO:+0000
TZNAME:GMT
DTSTART:20251026T010000
END:STANDARD
BEGIN:DAYLIGHT
TZOFFSETFROM:+0000
TZOFFSETTO:+0100
TZNAME:BST
DTSTART:20260329T010000
END:DAYLIGHT
BEGIN:STANDARD
TZOFFSETFROM:+0100
TZOFFSETTO:+0000
TZNAME:GMT
DTSTART:20261025T010000
END:STANDARD
END:VTIMEZONE
BEGIN:VEVENT
DTSTART;TZID=Europe/London:20250303T120000
DTEND;TZID=Europe/London:20250303T124500
DTSTAMP:20260421T004559
CREATED:20250228T100811Z
LAST-MODIFIED:20250228T100842Z
UID:10003396-1741003200-1741005900@neltraininghub.org
SUMMARY:What everyone needs to know about the lymphatic system and Lymphoedema
DESCRIPTION:CLICK HERE TO REGISTER \nWorld Lymphoedema Day: 6th March 2025   \nThe British Lymphology Society will be hosting free webinars all week: \n\nMonday 3 March | 12:00 – 12:45 Dr Kristiana Gordon – What everyone needs to know about the lymphatic system and Lymphoedema\nTuesday 4 March | 12:00 – 12:45 Dr Katie Riches – Lymphoedema: Still a problem after breast cancer treatment?\nWednesday 5 March | 12:00 – 12:45 Matthew Griffiths – Lymphoedema: Is it a risk after pelvic cancer treatment?\nThursday 6 March | 12:00 – 12:45 Natalie Phillips – Compression therapy in Lymphoedema: Success or Failure?\nFriday 7 March | 12:00 – 12:45 Dr Anusha Panthagani – Lymphoedema: is it a risk after skin cancer?\n\nFor more information or to register to attend please follow this link: Lymphoedema Awareness Week 2025
URL:https://neltraininghub.org/event/what-everyone-needs-to-know-about-the-lymphatic-system-and-lymphoedema/
LOCATION:Online Session\, United Kingdom
CATEGORIES:Administrators,Advanced Clinical Practitioners,Advanced Nurse Practitioner,Allied Health Professionals,Care Coordinators,Care Home Staff / Managers,Clinical Directors,Clinical Pharmacists,Community Link Workers,Community Nurse,Dietitians,Digital Transformation Leads,Emergency Care Practitioners,Enhanced Nurses,First Contact Physiotherapists,General Practice Nurses,GP Assistant,GPs & GP Trainees,Health and Wellbeing Coaches,Health Care Assistants,Mental Health Practitioners,Nursing Associates,Occupational Therapists,Paramedics,Patient Representative,Pharmacists,Pharmacy Technicians,Phlebotomists,Physician Associates,Physiotherapists,Podiatrists,Practice Managers,Receptionists,Social Care Staff,Social Prescribers,Supervisors & Educators,Voluntary Sector Workers,Workforce Leads
ATTACH;FMTTYPE=image/png:https://neltraininghub.org/wp-content/uploads/2025/02/Screenshot-2025-02-28-at-10.07.43.png
END:VEVENT
BEGIN:VEVENT
DTSTART;TZID=Europe/London:20250304T120000
DTEND;TZID=Europe/London:20250304T124500
DTSTAMP:20260421T004559
CREATED:20250228T100836Z
LAST-MODIFIED:20250228T100836Z
UID:10003397-1741089600-1741092300@neltraininghub.org
SUMMARY:Lymphoedema: Still a problem after breast cancer treatment?
DESCRIPTION:CLICK HERE TO REGISTER \nWorld Lymphoedema Day: 6th March 2025   \nThe British Lymphology Society will be hosting free webinars all week: \n\nMonday 3 March | 12:00 – 12:45 Dr Kristiana Gordon – What everyone needs to know about the lymphatic system and Lymphoedema\nTuesday 4 March | 12:00 – 12:45 Dr Katie Riches – Lymphoedema: Still a problem after breast cancer treatment?\nWednesday 5 March | 12:00 – 12:45 Matthew Griffiths – Lymphoedema: Is it a risk after pelvic cancer treatment?\nThursday 6 March | 12:00 – 12:45 Natalie Phillips – Compression therapy in Lymphoedema: Success or Failure?\nFriday 7 March | 12:00 – 12:45 Dr Anusha Panthagani – Lymphoedema: is it a risk after skin cancer?\n\nFor more information or to register to attend please follow this link: Lymphoedema Awareness Week 2025
URL:https://neltraininghub.org/event/lymphoedema-still-a-problem-after-breast-cancer-treatment/
LOCATION:Online Session\, United Kingdom
CATEGORIES:Administrators,Advanced Clinical Practitioners,Advanced Nurse Practitioner,Allied Health Professionals,Care Coordinators,Care Home Staff / Managers,Clinical Directors,Clinical Pharmacists,Community Link Workers,Community Nurse,Dietitians,Digital Transformation Leads,Emergency Care Practitioners,Enhanced Nurses,First Contact Physiotherapists,General Practice Nurses,GP Assistant,GPs & GP Trainees,Health and Wellbeing Coaches,Health Care Assistants,Mental Health Practitioners,Nursing Associates,Occupational Therapists,Paramedics,Patient Representative,Pharmacists,Pharmacy Technicians,Phlebotomists,Physician Associates,Physiotherapists,Podiatrists,Practice Managers,Receptionists,Social Care Staff,Social Prescribers,Supervisors & Educators,Voluntary Sector Workers,Workforce Leads
ATTACH;FMTTYPE=image/png:https://neltraininghub.org/wp-content/uploads/2025/02/Screenshot-2025-02-28-at-10.07.43.png
END:VEVENT
BEGIN:VEVENT
DTSTART;TZID=Europe/London:20250304T120000
DTEND;TZID=Europe/London:20250304T133000
DTSTAMP:20260421T004559
CREATED:20250228T084307Z
LAST-MODIFIED:20250304T110137Z
UID:10003395-1741089600-1741095000@neltraininghub.org
SUMMARY:London: NHS APP Training
DESCRIPTION:The London region is hosting an NHS App refresher training webinar on the 4th March\, from 12:00-1:30pm. \nDelivered by the Digital Citizen Programme\, the session is aimed at anyone in primary care who is keen to increase their knowledge and understanding of the NHS App. \nPlease create your own calendar reminder. The meeting link is here: London region NHS App refresher session \nA recording will be sent out by the London region which we will share with you after the event.
URL:https://neltraininghub.org/event/london-nhs-app-training/
LOCATION:Online Session\, United Kingdom
CATEGORIES:Administrators,Advanced Clinical Practitioners,Advanced Nurse Practitioner,Allied Health Professionals,Care Coordinators,Care Home Staff / Managers,Clinical Directors,Clinical Pharmacists,Community Link Workers,Community Nurse,Dietitians,Digital Transformation Leads,Emergency Care Practitioners,Enhanced Nurses,First Contact Physiotherapists,General Practice Nurses,GP Assistant,GPs & GP Trainees,Health and Wellbeing Coaches,Health Care Assistants,Mental Health Practitioners,Nursing Associates,Occupational Therapists,Paramedics,Patient Representative,Pharmacists,Pharmacy Technicians,Phlebotomists,Physician Associates,Physiotherapists,Podiatrists,Practice Managers,Receptionists,Social Care Staff,Social Prescribers,Supervisors & Educators,Voluntary Sector Workers,Workforce Leads
ATTACH;FMTTYPE=image/png:https://neltraininghub.org/wp-content/uploads/2025/02/f5dd6129-3ac6-490d-8a78-7fa386f8daf6.png
END:VEVENT
BEGIN:VEVENT
DTSTART;TZID=Europe/London:20250304T200000
DTEND;TZID=Europe/London:20250304T210000
DTSTAMP:20260421T004600
CREATED:20250207T135614Z
LAST-MODIFIED:20250207T135614Z
UID:10003371-1741118400-1741122000@neltraininghub.org
SUMMARY:Hot Topics Head and Neck Cancer Clinic
DESCRIPTION:CLICK HERE TO REGISTER \nJoin us for our next cancer clinic with Cancer Research UK. We will be covering all things related to head and neck malignancies. Together NB Medical Presenter Dr Kate Digby and guest speaker Cancer Research UK GP Lance Saker will cover the latest statistics on this group of cancers\, what challenges exist when aiming for early diagnosis and which guidelines are available to help. We will consider the barriers that exist for patients and what actions primary care can take to mitigate them\, to optimise timely referrals for our patients. We look forward to you joining us for an interactive hour of CPD. \nThis webinar will take place on Tuesday 4th March 2025\, starting at 8 pm and finishing at 9 pm. Don’t worry the webinar will be available on demand if you miss the live event. \nYou will be able to claim 1 hour of CPD credits for viewing this online webinar. \nYou will be emailed a direct link to view the webinar shortly after registration as well as a reminder email the day before the event and you can also view it via the NB Dashboard.
URL:https://neltraininghub.org/event/hot-topics-head-and-neck-cancer-clinic/
LOCATION:Online Session\, United Kingdom
CATEGORIES:Administrators,Advanced Clinical Practitioners,Advanced Nurse Practitioner,Allied Health Professionals,Care Coordinators,Care Home Staff / Managers,Clinical Directors,Clinical Pharmacists,Community Link Workers,Community Nurse,Dietitians,Digital Transformation Leads,Emergency Care Practitioners,Enhanced Nurses,First Contact Physiotherapists,General Practice Nurses,GP Assistant,GPs & GP Trainees,Health and Wellbeing Coaches,Health Care Assistants,Mental Health Practitioners,Nursing Associates,Occupational Therapists,Paramedics,Patient Representative,Pharmacists,Pharmacy Technicians,Phlebotomists,Physician Associates,Physiotherapists,Podiatrists,Practice Managers,Receptionists,Social Care Staff,Social Prescribers,Supervisors & Educators,Voluntary Sector Workers,Workforce Leads
ATTACH;FMTTYPE=image/webp:https://neltraininghub.org/wp-content/uploads/2025/02/logo-dark.webp
END:VEVENT
BEGIN:VEVENT
DTSTART;TZID=Europe/London:20250305T093000
DTEND;TZID=Europe/London:20250305T120000
DTSTAMP:20260421T004600
CREATED:20250227T095358Z
LAST-MODIFIED:20250227T095359Z
UID:10003391-1741167000-1741176000@neltraininghub.org
SUMMARY:Retention in action: The People Promise
DESCRIPTION:Registration: https://www.events.england.nhs.uk/events/retention-in-action-the-people-promise  \nRetention in Action: The People Promise Tools\, Learning\, and Insights from the London & South East Exemplar Trusts \nJoin us on 5th March from 9:30 AM to 12:30 PM for a dynamic and inspiring regional event celebrating the success and impact of the People Promise Exemplar Programme across London and the South East. This session will bring together our exemplar trusts\, the national team\, and wider NHS colleagues to showcase the innovative approaches they have adopted\, to embed the People Promise\, drive retention\, and foster a positive workplace culture.  \nThe event will feature powerful case studies\, demonstrations\, and insights into delivering sustainable change\, with a focus on themes such as flexible working\, compassionate and inclusive leadership\, and employee wellbeing. Attendees will gain valuable guidance on implementing these initiatives within their own organisations and learn how to lead their own People Promise journey.  \nWith input from leaders across the system\, and a celebration of achievements from Cohorts 1 and 2 of the People Promise Exemplar Programme\, this is a unique opportunity to explore the programme’s tangible benefits and the opportunities it can provide for cultural transformation. Open to trusts across all sectors—including primary care\, social care\, ambulance\, and mental health services—this event promises to inspire action and collaboration\, helping to shape the future of retention and organisational excellence in the NHS.  \nQuestions about this event?\nName: Exemplar London Team \nEmail: england.londonexemplarprogramme@nhs.net \nTelephone: 07754 481048
URL:https://neltraininghub.org/event/retention-in-action-the-people-promise/
LOCATION:Online Session\, United Kingdom
CATEGORIES:Administrators,Advanced Clinical Practitioners,Advanced Nurse Practitioner,Allied Health Professionals,Care Coordinators,Care Home Staff / Managers,Clinical Directors,Clinical Pharmacists,Community Link Workers,Community Nurse,Dietitians,Digital Transformation Leads,Emergency Care Practitioners,Enhanced Nurses,First Contact Physiotherapists,General Practice Nurses,GP Assistant,GPs & GP Trainees,Health and Wellbeing Coaches,Health Care Assistants,Mental Health Practitioners,Nursing Associates,Occupational Therapists,Paramedics,Patient Representative,Pharmacists,Pharmacy Technicians,Phlebotomists,Physician Associates,Physiotherapists,Podiatrists,Practice Managers,Receptionists,Social Care Staff,Social Prescribers,Supervisors & Educators,Voluntary Sector Workers,Workforce Leads
ATTACH;FMTTYPE=image/png:https://neltraininghub.org/wp-content/uploads/2025/02/Screenshot-2025-02-27-at-09.53.44.png
END:VEVENT
BEGIN:VEVENT
DTSTART;TZID=Europe/London:20250305T100000
DTEND;TZID=Europe/London:20250305T130000
DTSTAMP:20260421T004600
CREATED:20241128T095748Z
LAST-MODIFIED:20241128T100805Z
UID:10003294-1741168800-1741179600@neltraininghub.org
SUMMARY:Frailty Education: Recognition & Management of Delerium
DESCRIPTION:Wednesday 5/3/25\, 10:00 – 13:00: 3 CPD Hours \nfor Social Care and General Practice \nRegistration link: https://forms.office.com/e/D5t18FeEFC
URL:https://neltraininghub.org/event/frailty-education-recognition-management-of-delerium/
LOCATION:Online Session\, United Kingdom
CATEGORIES:Advanced Clinical Practitioners,Allied Health Professionals,Enhanced Nurses,General Practice Nurses,Health Care Assistants,Nursing Associates,Paramedics,Physiotherapists,Podiatrists,Social Care Staff
ATTACH;FMTTYPE=image/png:https://neltraininghub.org/wp-content/uploads/2024/11/Screenshot-2024-11-28-at-10.07.42.png
END:VEVENT
BEGIN:VEVENT
DTSTART;TZID=Europe/London:20250305T120000
DTEND;TZID=Europe/London:20250305T124500
DTSTAMP:20260421T004600
CREATED:20250228T100857Z
LAST-MODIFIED:20250228T100857Z
UID:10003398-1741176000-1741178700@neltraininghub.org
SUMMARY:Lymphoedema: Is it a risk after pelvic cancer treatment?
DESCRIPTION:CLICK HERE TO REGISTER \nWorld Lymphoedema Day: 6th March 2025   \nThe British Lymphology Society will be hosting free webinars all week: \n\nMonday 3 March | 12:00 – 12:45 Dr Kristiana Gordon – What everyone needs to know about the lymphatic system and Lymphoedema\nTuesday 4 March | 12:00 – 12:45 Dr Katie Riches – Lymphoedema: Still a problem after breast cancer treatment?\nWednesday 5 March | 12:00 – 12:45 Matthew Griffiths – Lymphoedema: Is it a risk after pelvic cancer treatment?\nThursday 6 March | 12:00 – 12:45 Natalie Phillips – Compression therapy in Lymphoedema: Success or Failure?\nFriday 7 March | 12:00 – 12:45 Dr Anusha Panthagani – Lymphoedema: is it a risk after skin cancer?\n\nFor more information or to register to attend please follow this link: Lymphoedema Awareness Week 2025
URL:https://neltraininghub.org/event/lymphoedema-is-it-a-risk-after-pelvic-cancer-treatment/
LOCATION:Online Session\, United Kingdom
CATEGORIES:Administrators,Advanced Clinical Practitioners,Advanced Nurse Practitioner,Allied Health Professionals,Care Coordinators,Care Home Staff / Managers,Clinical Directors,Clinical Pharmacists,Community Link Workers,Community Nurse,Dietitians,Digital Transformation Leads,Emergency Care Practitioners,Enhanced Nurses,First Contact Physiotherapists,General Practice Nurses,GP Assistant,GPs & GP Trainees,Health and Wellbeing Coaches,Health Care Assistants,Mental Health Practitioners,Nursing Associates,Occupational Therapists,Paramedics,Patient Representative,Pharmacists,Pharmacy Technicians,Phlebotomists,Physician Associates,Physiotherapists,Podiatrists,Practice Managers,Receptionists,Social Care Staff,Social Prescribers,Supervisors & Educators,Voluntary Sector Workers,Workforce Leads
ATTACH;FMTTYPE=image/png:https://neltraininghub.org/wp-content/uploads/2025/02/Screenshot-2025-02-28-at-10.07.43.png
END:VEVENT
BEGIN:VEVENT
DTSTART;TZID=Europe/London:20250306T100000
DTEND;TZID=Europe/London:20250306T110000
DTSTAMP:20260421T004600
CREATED:20250214T122629Z
LAST-MODIFIED:20250214T122629Z
UID:10003375-1741255200-1741258800@neltraininghub.org
SUMMARY:Get support to decarbonise: the Mayor of London’s Zero Carbon Accelerator
DESCRIPTION:Get support to decarbonise: the Mayor of London’s Zero Carbon Accelerator | NHS England Events\n\n\n\n\n\nThe Mayor’s of London Zero Carbon Accelerator offers a range of support to London-based organisations\, wherever they are on their journey to decarbonisation\, from expert consultancy and training to knowledge sharing and information on funding.\nAt this online event\, you will understand the range of expertise available to health organisations and how the Zero Carbon Accelerator can help you to progress decarbonisation plans\, including:\n\ntechnical consultancy\nprioritisation of schemes and projects\nidentification of\, and preparation for\, finance and funding opportunities\nsupport with procurement and a commercial approach\nevidence and research (e.g. heat maps) that could underpin business cases\npotential for collaboration for scalability and replicability\ndelivering greater impact for your patients\, staff and the people of London.\n\n\nThere is an opportunity to ask questions at the end of the presentation. See further information here.\nLondon Greener NHS Team\, NHS England\nImprovement Transformation & Partnerships Directorate\n\n\n\n\nE: london.sustainability@nhs.net
URL:https://neltraininghub.org/event/get-support-to-decarbonise-the-mayor-of-londons-zero-carbon-accelerator/
LOCATION:Online Session\, United Kingdom
CATEGORIES:Administrators,Advanced Clinical Practitioners,Advanced Nurse Practitioner,Allied Health Professionals,Care Coordinators,Care Home Staff / Managers,Clinical Directors,Clinical Pharmacists,Community Link Workers,Community Nurse,Dietitians,Digital Transformation Leads,Emergency Care Practitioners,Enhanced Nurses,First Contact Physiotherapists,General Practice Nurses,GP Assistant,GPs & GP Trainees,Health and Wellbeing Coaches,Health Care Assistants,Mental Health Practitioners,Nursing Associates,Occupational Therapists,Paramedics,Patient Representative,Pharmacists,Pharmacy Technicians,Phlebotomists,Physician Associates,Physiotherapists,Podiatrists,Practice Managers,Receptionists,Social Care Staff,Social Prescribers,Supervisors & Educators,Voluntary Sector Workers,Workforce Leads
ATTACH;FMTTYPE=image/png:https://neltraininghub.org/wp-content/uploads/2025/02/image002.png
END:VEVENT
BEGIN:VEVENT
DTSTART;TZID=Europe/London:20250306T120000
DTEND;TZID=Europe/London:20250306T124500
DTSTAMP:20260421T004600
CREATED:20250228T100915Z
LAST-MODIFIED:20250228T100915Z
UID:10003399-1741262400-1741265100@neltraininghub.org
SUMMARY:Compression therapy in Lymphoedema: Success or Failure?
DESCRIPTION:CLICK HERE TO REGISTER \nWorld Lymphoedema Day: 6th March 2025   \nThe British Lymphology Society will be hosting free webinars all week: \n\nMonday 3 March | 12:00 – 12:45 Dr Kristiana Gordon – What everyone needs to know about the lymphatic system and Lymphoedema\nTuesday 4 March | 12:00 – 12:45 Dr Katie Riches – Lymphoedema: Still a problem after breast cancer treatment?\nWednesday 5 March | 12:00 – 12:45 Matthew Griffiths – Lymphoedema: Is it a risk after pelvic cancer treatment?\nThursday 6 March | 12:00 – 12:45 Natalie Phillips – Compression therapy in Lymphoedema: Success or Failure?\nFriday 7 March | 12:00 – 12:45 Dr Anusha Panthagani – Lymphoedema: is it a risk after skin cancer?\n\nFor more information or to register to attend please follow this link: Lymphoedema Awareness Week 2025
URL:https://neltraininghub.org/event/compression-therapy-in-lymphoedema-success-or-failure/
LOCATION:Online Session\, United Kingdom
CATEGORIES:Administrators,Advanced Clinical Practitioners,Advanced Nurse Practitioner,Allied Health Professionals,Care Coordinators,Care Home Staff / Managers,Clinical Directors,Clinical Pharmacists,Community Link Workers,Community Nurse,Dietitians,Digital Transformation Leads,Emergency Care Practitioners,Enhanced Nurses,First Contact Physiotherapists,General Practice Nurses,GP Assistant,GPs & GP Trainees,Health and Wellbeing Coaches,Health Care Assistants,Mental Health Practitioners,Nursing Associates,Occupational Therapists,Paramedics,Patient Representative,Pharmacists,Pharmacy Technicians,Phlebotomists,Physician Associates,Physiotherapists,Podiatrists,Practice Managers,Receptionists,Social Care Staff,Social Prescribers,Supervisors & Educators,Voluntary Sector Workers,Workforce Leads
ATTACH;FMTTYPE=image/png:https://neltraininghub.org/wp-content/uploads/2025/02/Screenshot-2025-02-28-at-10.07.43.png
END:VEVENT
BEGIN:VEVENT
DTSTART;TZID=Europe/London:20250307T120000
DTEND;TZID=Europe/London:20250307T124500
DTSTAMP:20260421T004600
CREATED:20250228T100933Z
LAST-MODIFIED:20250228T100933Z
UID:10003400-1741348800-1741351500@neltraininghub.org
SUMMARY:Lymphoedema: is it a risk after skin cancer?
DESCRIPTION:CLICK HERE TO REGISTER \nWorld Lymphoedema Day: 6th March 2025   \nThe British Lymphology Society will be hosting free webinars all week: \n\nMonday 3 March | 12:00 – 12:45 Dr Kristiana Gordon – What everyone needs to know about the lymphatic system and Lymphoedema\nTuesday 4 March | 12:00 – 12:45 Dr Katie Riches – Lymphoedema: Still a problem after breast cancer treatment?\nWednesday 5 March | 12:00 – 12:45 Matthew Griffiths – Lymphoedema: Is it a risk after pelvic cancer treatment?\nThursday 6 March | 12:00 – 12:45 Natalie Phillips – Compression therapy in Lymphoedema: Success or Failure?\nFriday 7 March | 12:00 – 12:45 Dr Anusha Panthagani – Lymphoedema: is it a risk after skin cancer?\n\nFor more information or to register to attend please follow this link: Lymphoedema Awareness Week 2025
URL:https://neltraininghub.org/event/lymphoedema-is-it-a-risk-after-skin-cancer/
LOCATION:Online Session\, United Kingdom
CATEGORIES:Administrators,Advanced Clinical Practitioners,Advanced Nurse Practitioner,Allied Health Professionals,Care Coordinators,Care Home Staff / Managers,Clinical Directors,Clinical Pharmacists,Community Link Workers,Community Nurse,Dietitians,Digital Transformation Leads,Emergency Care Practitioners,Enhanced Nurses,First Contact Physiotherapists,General Practice Nurses,GP Assistant,GPs & GP Trainees,Health and Wellbeing Coaches,Health Care Assistants,Mental Health Practitioners,Nursing Associates,Occupational Therapists,Paramedics,Patient Representative,Pharmacists,Pharmacy Technicians,Phlebotomists,Physician Associates,Physiotherapists,Podiatrists,Practice Managers,Receptionists,Social Care Staff,Social Prescribers,Supervisors & Educators,Voluntary Sector Workers,Workforce Leads
ATTACH;FMTTYPE=image/png:https://neltraininghub.org/wp-content/uploads/2025/02/Screenshot-2025-02-28-at-10.07.43.png
END:VEVENT
END:VCALENDAR