BEGIN:VCALENDAR
VERSION:2.0
PRODID:-//NEL Training Hub - ECPv6.15.20//NONSGML v1.0//EN
CALSCALE:GREGORIAN
METHOD:PUBLISH
X-ORIGINAL-URL:https://neltraininghub.org
X-WR-CALDESC:Events for NEL Training Hub
REFRESH-INTERVAL;VALUE=DURATION:PT1H
X-Robots-Tag:noindex
X-PUBLISHED-TTL:PT1H
BEGIN:VTIMEZONE
TZID:Europe/London
BEGIN:DAYLIGHT
TZOFFSETFROM:+0000
TZOFFSETTO:+0100
TZNAME:BST
DTSTART:20250330T010000
END:DAYLIGHT
BEGIN:STANDARD
TZOFFSETFROM:+0100
TZOFFSETTO:+0000
TZNAME:GMT
DTSTART:20251026T010000
END:STANDARD
BEGIN:DAYLIGHT
TZOFFSETFROM:+0000
TZOFFSETTO:+0100
TZNAME:BST
DTSTART:20260329T010000
END:DAYLIGHT
BEGIN:STANDARD
TZOFFSETFROM:+0100
TZOFFSETTO:+0000
TZNAME:GMT
DTSTART:20261025T010000
END:STANDARD
BEGIN:DAYLIGHT
TZOFFSETFROM:+0000
TZOFFSETTO:+0100
TZNAME:BST
DTSTART:20270328T010000
END:DAYLIGHT
BEGIN:STANDARD
TZOFFSETFROM:+0100
TZOFFSETTO:+0000
TZNAME:GMT
DTSTART:20271031T010000
END:STANDARD
END:VTIMEZONE
BEGIN:VEVENT
DTSTART;TZID=Europe/London:20260121T093000
DTEND;TZID=Europe/London:20260121T103000
DTSTAMP:20260419T131005
CREATED:20251008T143208Z
LAST-MODIFIED:20251008T144112Z
UID:10003681-1768987800-1768991400@neltraininghub.org
SUMMARY:NEL Fear of Cancer Recurrence: Support Strategies for Nurses & AHPs
DESCRIPTION:They are open to all healthcare professionals with an interest in cancer\, or those working as nurses and AHPs in cancer at a minimum band 5/6. Each session will be delivered by an experienced speaker who will share their insights and knowledge and will include: \n\n45-minute presentation\n15-minute Q&A\nCertificate of attendance\nAccess to session recordings\n\nSession 3 – NEL Fear of Cancer Recurrence: Support Strategies for Nurses & AHPs – REGISTER HERE\n21 January 2026\, 9:30am to 10:30am\nThis Psychosocial session focuses on the fear of cancer recurring or progressing.You will learn about:\nThe fear of cancer recurrence and its impact\nThe factors that maintain this fear\nHow to measure it\nWhat you can do to mitigate it \nThis session will include practical tips\, dos and don’ts you can incorporate in your practice\, as well as recommendations for end of treatment plans. We will also support you with learning when and where to signpost and refer on.
URL:https://neltraininghub.org/event/nel-fear-of-cancer-recurrence-support-strategies-for-nurses-ahps/
LOCATION:Online Session\, United Kingdom
CATEGORIES:Advanced Nurse Practitioner,Allied Health Professionals,Cancer,Dietitians,Enhanced Nurses,General Practice Nurses,Nursing Associates,Occupational Therapists,Paramedics,Physiotherapists,Podiatrists
ATTACH;FMTTYPE=image/png:https://neltraininghub.org/wp-content/uploads/2025/10/Screenshot-2025-10-08-at-15.31.44.png
END:VEVENT
BEGIN:VEVENT
DTSTART;TZID=Europe/London:20260121T120000
DTEND;TZID=Europe/London:20260121T140000
DTSTAMP:20260419T131005
CREATED:20250703T104519Z
LAST-MODIFIED:20250703T105316Z
UID:10003569-1768996800-1769004000@neltraininghub.org
SUMMARY:NEL CPD: Sepsis (CPD FOR GPNS\, NAS\, DIETICIANS\, PARAMEDICS\, PHYSIOTHERAPISTS\, PODIATRISTS AND OCCUPATIONAL THERAPISTS)
DESCRIPTION:Dates:\n\n\n\n\n\n\nWednesday 3rd September  Sepsis / 12:00 – 14:00\nWednesday 21st January Sepsis / 12:00 – 14:00\nWednesday 29th April / 12:00 – 14:00\n\n\nDescription\nObjectives\n\n\n\nUnderstanding of sepsis\nIdentification of potential sepsis presentations\nAwareness of patients at greater risk\nUnderstanding of the initial management and review\n Escalation of care\nApply learning through clinical case discussion\n\n\nTarget audience: newly qualified clinical staff\, non-clinical roles (e.g care home setting) or as a refresher course for those requiring a basic working knowledge of sepsis.\n\nLink \n\n\n\n\nhttps://medtribe.com/courses/nel-cpd-sepsis-cpd-training-for-gpns-ahps-and-nas-only?utm_medium=copy-link&utm_source=share-modal\n\n  \n\n\n\nThese courses are fully funded\, therefore please ensure you read the cancellation and DNA policy carefully before booking.\nThese courses are for the following job roles only:  \n\nGeneral Practice Nurses (including ANP & ACP) \nNurse Associates \nDieticians \nOccupational Therapists\nParamedics \nPhysiotherapists \nPodiatrists \n\nBooking Information  \nTicket sales for all events close 2 weeks prior to the start of the session.  \nYou will be asked to sign up to MedTribe if you would like to book a course. You will register once\, and will be able to use the same account to book all future NEL Training Hub events with this account. \nSigning up is completely free and only takes a few seconds. Need help? You can follow the step-by-step sign-up guide for support. \nYou will be informed by email if you are on the training or if you are on the waiting list. This is due to:  \n\nThe high volume of applications for some of the training\, which comes in at a faster rate than can be effectively managed in real time. \nIncomplete or missing information that means your application will be rejected. \nFinding that you have applied for inappropriate training for your job role. \n\n\n\n\n\n\n\n\n\n\n\n\n\n\n\nPreparing for the Training Session \n\nOnly apply for training you are eligible for.\n\n\nCheck you have the joining link a minimum of 48hrs before the start date and time.\n\n\nIf you do not have a link – first check your junk email folder – then email nelondonicb.cpd@nhs.net.\n\n\nComplete any pre-training work you have been sent.\n\n\nIf you are asked for an address for physical training materials\, give your home address – they will not be posted to your work.\n\n\n\n\n\n\n\n\n\n\n\n\n\n\n\n\n\n\n\n\n\nDuring the Training Session \n\nLogin a minimum of 15 mins before the training session starts (then go to the loo and make a cuppa).\n\n\nCheck you have a working camera and microphone\, and in a place you can fully interact.\n\n\nMobile phone use is not allowed – however some providers use them for interactive elements\, such as quizzes.\n\n\n\n\n\n\n\n\n\n\n\n\n\n\n\n\n\n\n\n\n\nCancellation Policy \n\nSome training sessions are very popular and so will have a 2 week cancellation notice date.\n\n\nSome training sessions allow for larger numbers and/or are more niche and have a 1 week cancellation notice date.\n\n\nThe date will always be on the booking page and on your confirmation email from nelondonicb.cpd@nhs.net.\n\n\nTo cancel\, please use your MedTribe account. If you need further help\, email neldondonicb.cpd@nhs.net\n\n\n\n\n\n\n\n\n\n\n\n\n\n\n\n\n\n\n\n\n\nDNA Policy – Things that count as a DNA \n\nIf you email to cancel after the final cancellation date detailed in your confirmation email.\n\n\nIf you cannot login before the training ‘room’ is locked\, and you have not emailed nelondonicb.cpd@nhs.net a minimum of 15 minutes before the start of the training.\n\n\nIf you are ejected from a training session because you are using an inappropriate device.\n\n\nIf you book on training that is not appropriate for your job role\, and try to attend – there will not be 2 chances if this is the case\, you will be removed from all further training.\n\n\nIf you have not received the joining link / cannot find the joining link\, but you have not emailed nelondonicb.cpd@nhs.net a minimum of 48hrs before the training date and time.\n\n\nIf the emails are in your junk email folder and you have not checked this.\n\n\n\n\n\n\n\n\n\n\n\n\n\n\n\n\n\n\n\n\n\nDNA Policy – What happens when you DNA \n\n1st DNA: You and your Manager will receive an email informing you that you have DNA’d a pre-booked session without cancellation.\n2nd DNA: You will automatically be removed from any further CPD training for the current financial year. You and your Manager will receive confirmation of this by email.\n\n\nYou will have an opportunity to appeal\, but please read the DNA Policy – Things that count as a DNA page first.\nIf you have to cancel your place later than 5 full working days prior to the start of the session\, please email nelondonicb.cpd@nhs.net explaining your exceptional circumstances\, and these will be taken into consideration when deciding whether it counts as a DNA.
URL:https://neltraininghub.org/event/nel-cpd-sepsis-cpd-for-gpns-nas-dieticians-paramedics-physiotherapists-podiatrists-and-occupational-therapists/2026-01-21/
LOCATION:Online Session\, United Kingdom
CATEGORIES:Advanced Clinical Practitioners,Advanced Nurse Practitioner,CPD GPN AHP NA,CPD HCA,Dietitians,Enhanced Nurses,General Practice Nurses,Nursing Associates,Occupational Therapists,Paramedics,Physiotherapists,Podiatrists
ATTACH;FMTTYPE=image/png:https://neltraininghub.org/wp-content/uploads/2024/11/Screenshot-2025-05-23-at-08.02.05.png
END:VEVENT
BEGIN:VEVENT
DTSTART;TZID=Europe/London:20260121T143000
DTEND;TZID=Europe/London:20260121T173000
DTSTAMP:20260419T131005
CREATED:20251201T084814Z
LAST-MODIFIED:20251201T084815Z
UID:10003724-1769005800-1769016600@neltraininghub.org
SUMMARY:Newham Protected Learning Time - January 2026
DESCRIPTION:There will be two sessions running simultaneously\, Session one will be for clinical staff\, Session two will be for non-clinical staff.\n\n—————-\nCLICK HERE TO REGISTER\n\nVirtual Session 1 – 2:30pm – 5:30pm \n2:30pm – 5:30pm – TBC\nTarget Group: Clinical\n\n—————-\nCLICK HERE TO REGISTER\n\nVirtual Session 2 – 2:30pm – 5:30pm\n2:30pm – 5:30pm – TBC\nTarget Group: Non-clinical \n\n—————-\n\nCOVER ARRANGEMENTS:\nIf by attending\, your practice opening offer would need to be a skeleton one\, Newham Health Collaborative will be able to provide the telephone cover for the period of 2:30pm-6:30pm with a same day urgent care offer – this means that your telephone lines will be transferred to NHC from no earlier than 2:30pm.\n\nTo arrange this cover please email Newham Health Collaborative nhc@nhs.net and ICB team nelondonicb.tnwprimarycare@nhs.net by no later than 5pm on Tuesday 13th January.\n\nNHC will cover the telephones until 6:30pm\, but they cannot transfer your phone service to your out of hours provider – so you will need someone in your team to do this at your practice at 6:30pm to complete this task.\n\nNHC call handlers will complete an initial triage when taking each call and patients will be referred to one of our Urgent Care GPs who will provide a telephone consultation. If an urgent face to face appointment is needed\, the patient will be offered an appointment at our UTC divert service Essex Lodge. Please do not signpost your patients to Essex Lodge if attending the PLT session.\n\nPractices should plan for a skeleton service at their premises and patients should be able to access the practice to collect prescriptions\, etc.\n\nIf you are aware of a member of your practice team who has not received the email invitation\, please advise Jessie Oghenegweke on j.oghenegweke@nhs.net who will be happy to ensure that their details are added to the circulation list.
URL:https://neltraininghub.org/event/newham-protected-learning-time-january-2026/
LOCATION:Online Session\, United Kingdom
CATEGORIES:Administrators,Advanced Clinical Practitioners,Advanced Nurse Practitioner,Allied Health Professionals,Care Coordinators,Care Home Staff / Managers,Clinical Directors,Clinical Pharmacists,Community Link Workers,Community Nurse,Dietitians,Digital Transformation Leads,Emergency Care Practitioners,Enhanced Nurses,First Contact Physiotherapists,General Practice Nurses,GP Assistant,GPs & GP Trainees,Health and Wellbeing Coaches,Health Care Assistants,Mental Health Practitioners,Nursing Associates,Occupational Therapists,Paramedics,Patient Representative,Pharmacists,Pharmacy Technicians,Phlebotomists,Physician Associates,Physiotherapists,Podiatrists,Practice Managers,Receptionists,Social Care Staff,Social Prescribers,Supervisors & Educators,Voluntary Sector Workers,Workforce Leads
ATTACH;FMTTYPE=image/png:https://neltraininghub.org/wp-content/uploads/2023/05/Screenshot-2023-06-09-at-14.16.02.png
END:VEVENT
END:VCALENDAR