BEGIN:VCALENDAR
VERSION:2.0
PRODID:-//NEL Training Hub - ECPv6.15.20//NONSGML v1.0//EN
CALSCALE:GREGORIAN
METHOD:PUBLISH
X-WR-CALNAME:NEL Training Hub
X-ORIGINAL-URL:https://neltraininghub.org
X-WR-CALDESC:Events for NEL Training Hub
REFRESH-INTERVAL;VALUE=DURATION:PT1H
X-Robots-Tag:noindex
X-PUBLISHED-TTL:PT1H
BEGIN:VTIMEZONE
TZID:Europe/London
BEGIN:DAYLIGHT
TZOFFSETFROM:+0000
TZOFFSETTO:+0100
TZNAME:BST
DTSTART:20240331T010000
END:DAYLIGHT
BEGIN:STANDARD
TZOFFSETFROM:+0100
TZOFFSETTO:+0000
TZNAME:GMT
DTSTART:20241027T010000
END:STANDARD
BEGIN:DAYLIGHT
TZOFFSETFROM:+0000
TZOFFSETTO:+0100
TZNAME:BST
DTSTART:20250330T010000
END:DAYLIGHT
BEGIN:STANDARD
TZOFFSETFROM:+0100
TZOFFSETTO:+0000
TZNAME:GMT
DTSTART:20251026T010000
END:STANDARD
BEGIN:DAYLIGHT
TZOFFSETFROM:+0000
TZOFFSETTO:+0100
TZNAME:BST
DTSTART:20260329T010000
END:DAYLIGHT
BEGIN:STANDARD
TZOFFSETFROM:+0100
TZOFFSETTO:+0000
TZNAME:GMT
DTSTART:20261025T010000
END:STANDARD
END:VTIMEZONE
BEGIN:VEVENT
DTSTART;TZID=Europe/London:20251022T093000
DTEND;TZID=Europe/London:20251022T123000
DTSTAMP:20260420T073819
CREATED:20250703T104805Z
LAST-MODIFIED:20250703T105414Z
UID:10003571-1761125400-1761136200@neltraininghub.org
SUMMARY:NEL CPD: Red Flags (CPD FOR GPNS\, NAS\, DIETICIANS\, PARAMEDICS\, PHYSIOTHERAPISTS\, PODIATRISTS AND OCCUPATIONAL THERAPISTS)
DESCRIPTION:Dates:\n\n\n\n\n\n\nWednesday 22nd October  Red Flags 9\,30-12.30\nWednesday 25th February Red Flags 13.00 -16.00\n\n\nDescription\nTo support those clinicians involved in patient triage to assess for\, identify\, and/or exclude any clinical signs/symptoms which may indicate serious illness or injury requiring immediate intervention or referral.\nLink \nhttps://medtribe.com/courses/nel-cpd-red-flags?utm_medium=copy-link&utm_source=share-modal\n\n\n\n\n\nThese courses are fully funded\, therefore please ensure you read the cancellation and DNA policy carefully before booking.\nThese courses are for the following job roles only:  \n\nGeneral Practice Nurses (including ANP & ACP) \nNurse Associates \nDieticians \nOccupational Therapists\nParamedics \nPhysiotherapists \nPodiatrists \n\nBooking Information  \nTicket sales for all events close 2 weeks prior to the start of the session.  \nYou will be asked to sign up to MedTribe if you would like to book a course. You will register once\, and will be able to use the same account to book all future NEL Training Hub events with this account. \nSigning up is completely free and only takes a few seconds. Need help? You can follow the step-by-step sign-up guide for support. \nYou will be informed by email if you are on the training or if you are on the waiting list. This is due to:  \n\nThe high volume of applications for some of the training\, which comes in at a faster rate than can be effectively managed in real time. \nIncomplete or missing information that means your application will be rejected. \nFinding that you have applied for inappropriate training for your job role. \n\n\n\n\n\n\n\n\n\n\n\n\n\n\n\nPreparing for the Training Session \n\nOnly apply for training you are eligible for.\n\n\nCheck you have the joining link a minimum of 48hrs before the start date and time.\n\n\nIf you do not have a link – first check your junk email folder – then email nelondonicb.cpd@nhs.net.\n\n\nComplete any pre-training work you have been sent.\n\n\nIf you are asked for an address for physical training materials\, give your home address – they will not be posted to your work.\n\n\n\n\n\n\n\n\n\n\n\n\n\n\n\n\n\n\n\n\n\nDuring the Training Session \n\nLogin a minimum of 15 mins before the training session starts (then go to the loo and make a cuppa).\n\n\nCheck you have a working camera and microphone\, and in a place you can fully interact.\n\n\nMobile phone use is not allowed – however some providers use them for interactive elements\, such as quizzes.\n\n\n\n\n\n\n\n\n\n\n\n\n\n\n\n\n\n\n\n\n\nCancellation Policy \n\nSome training sessions are very popular and so will have a 2 week cancellation notice date.\n\n\nSome training sessions allow for larger numbers and/or are more niche and have a 1 week cancellation notice date.\n\n\nThe date will always be on the booking page and on your confirmation email from nelondonicb.cpd@nhs.net.\n\n\nTo cancel\, please use your MedTribe account. If you need further help\, email neldondonicb.cpd@nhs.net\n\n\n\n\n\n\n\n\n\n\n\n\n\n\n\n\n\n\n\n\n\nDNA Policy – Things that count as a DNA \n\nIf you email to cancel after the final cancellation date detailed in your confirmation email.\n\n\nIf you cannot login before the training ‘room’ is locked\, and you have not emailed nelondonicb.cpd@nhs.net a minimum of 15 minutes before the start of the training.\n\n\nIf you are ejected from a training session because you are using an inappropriate device.\n\n\nIf you book on training that is not appropriate for your job role\, and try to attend – there will not be 2 chances if this is the case\, you will be removed from all further training.\n\n\nIf you have not received the joining link / cannot find the joining link\, but you have not emailed nelondonicb.cpd@nhs.net a minimum of 48hrs before the training date and time.\n\n\nIf the emails are in your junk email folder and you have not checked this.\n\n\n\n\n\n\n\n\n\n\n\n\n\n\n\n\n\n\n\n\n\nDNA Policy – What happens when you DNA \n\n1st DNA: You and your Manager will receive an email informing you that you have DNA’d a pre-booked session without cancellation.\n2nd DNA: You will automatically be removed from any further CPD training for the current financial year. You and your Manager will receive confirmation of this by email.\n\n\nYou will have an opportunity to appeal\, but please read the DNA Policy – Things that count as a DNA page first.\nIf you have to cancel your place later than 5 full working days prior to the start of the session\, please email nelondonicb.cpd@nhs.net explaining your exceptional circumstances\, and these will be taken into consideration when deciding whether it counts as a DNA.
URL:https://neltraininghub.org/event/nel-cpd-red-flags-cpd-for-gpns-nas-dieticians-paramedics-physiotherapists-podiatrists-and-occupational-therapists/2025-10-22/
LOCATION:Online Session\, United Kingdom
CATEGORIES:Advanced Clinical Practitioners,Advanced Nurse Practitioner,CPD GPN AHP NA,CPD HCA,Dietitians,Enhanced Nurses,General Practice Nurses,Nursing Associates,Occupational Therapists,Paramedics,Physiotherapists,Podiatrists
ATTACH;FMTTYPE=image/png:https://neltraininghub.org/wp-content/uploads/2024/11/Screenshot-2025-05-23-at-08.02.05.png
END:VEVENT
BEGIN:VEVENT
DTSTART;TZID=Europe/London:20251022T130000
DTEND;TZID=Europe/London:20251022T140000
DTSTAMP:20260420T073819
CREATED:20250902T081331Z
LAST-MODIFIED:20250902T081504Z
UID:10003623-1761138000-1761141600@neltraininghub.org
SUMMARY:General Practice staff wellbeing support Webinars - Guided Mindfulness
DESCRIPTION:NEL Training Hub are pleased to introduce newly launched programmes to support staff wellbeing. The programmes are accessible for all staff and practices across NEL. The programme is set up to equip staff on various tools and techniques to support self care and wellness. Please share this across your teams. \nOFFER 1: Monthly Lunchtime wellbeing webinars\nNEL Training Hub are pleased to offer monthly staff wellbeing webinars. All primary care staff are invited to these lunch time sessions aiming to equip staff on various tools and techniques to support self care and wellness. \nQi Gong\nGentle mindful movement for physical and mental relaxation. This practice helps to energise the body\, release stress and increase overall feelings of wellbeing.\nThurs 19th Sept\, 1200 – 1300\nThurs 18th Dec\, 1300 – 1400\nBOOK NOW \nGuided Mindfulness\nGuided relaxation to soothe the nervous system. This session has been specifically created for staff to reduce the impact of ‘fight/flight/freeze’ responses that occur in our bodies in times of stress. These ‘stressors’ can be internal (health) and/or external. You will learn techniques to raise your level of body awareness to invite relaxation into your system and build energy reserves.\nWeds 22nd Oct\, 1300 – 1400\nBOOK NOW \nBody Wisdom\nThis session will empower staff with techniques to bring relief\, reduce pain and improve function around physical postures and movement. You will learn to use self-massage and breathwork to bring the body back into balance\nThurs 20th Nov\, 1200 – 1300\nBOOK NOW \nOFFER 2: In-Practice Whole Team Wellbeing Session\nApply for an interactive\, team-based session delivered in your practice. These sessions\, offered in person and virtually\, can foster collective reflection\, connection and shared strategies to boost team morale and cohesion. For in person sessions\, your team can have access to hand massage or ear acupuncture session. Book up to 90mins slot with our Wellbeing Practitioner Farrah Idris at farrah.idris@nhs.net \nPlease note typically 4-6 notice is required for bookings. Expectation is to have some protected time and space available for staff to benefit from this support service
URL:https://neltraininghub.org/event/general-practice-staff-wellbeing-support-webinars-guided-mindfulness/
LOCATION:Online Session\, United Kingdom
CATEGORIES:Administrators,Advanced Clinical Practitioners,Advanced Nurse Practitioner,Allied Health Professionals,Care Coordinators,Care Home Staff / Managers,Clinical Directors,Clinical Pharmacists,Community Link Workers,Community Nurse,Dietitians,Digital Transformation Leads,Emergency Care Practitioners,Enhanced Nurses,First Contact Physiotherapists,General Practice Nurses,GP Assistant,GPs & GP Trainees,Health and Wellbeing Coaches,Health Care Assistants,Mental Health Practitioners,Nursing Associates,Occupational Therapists,Paramedics,Patient Representative,Pharmacists,Pharmacy Technicians,Phlebotomists,Physician Associates,Physiotherapists,Podiatrists,Practice Managers,Receptionists,Social Care Staff,Social Prescribers,Supervisors & Educators,Voluntary Sector Workers,Workforce Leads
ATTACH;FMTTYPE=image/jpeg:https://neltraininghub.org/wp-content/uploads/2025/09/iStock-1222623988-678x381-1.jpg
END:VEVENT
BEGIN:VEVENT
DTSTART;TZID=Europe/London:20251022T130000
DTEND;TZID=Europe/London:20251022T143000
DTSTAMP:20260420T073819
CREATED:20250514T085429Z
LAST-MODIFIED:20250623T131702Z
UID:10003488-1761138000-1761143400@neltraininghub.org
SUMMARY:NEL CPD - Bitesize: CVD/Lipids (CPD Training for Social Care & General Practice)
DESCRIPTION:Training Provider: Bev Bostock\nTime of Training: 13:00-14:30\nNumber of CPD Hours: 1.5\nCategory: Social Care & General Practice \nDates:\n\nWednesday 22/10/2025\n\nRegistration Link \n\n\n\nThese courses are fully funded\, therefore please ensure you read the cancellation and DNA policy carefully before booking.\nThese courses are for the following job roles only:  \n\nGeneral Practice Nurses (including ANP & ACP) \nNurse Associates \nDieticians \nParamedics \nPhysiotherapists \nPodiatrists \nOccupational Therapists\nSocial Care Staff\n\nBooking Information  \nTicket sales for all events close 2 weeks prior to the start of the session.  \nYou will be asked to sign up to MedTribe if you would like to book a course. You will register once\, and will be able to use the same account to book all future NEL Training Hub events with this account. \nSigning up is completely free and only takes a few seconds. Need help? You can follow the step-by-step sign-up guide for support. \nYou will be informed by email if you are on the training or if you are on the waiting list. This is due to:  \n\nThe high volume of applications for some of the training\, which comes in at a faster rate than can be effectively managed in real time. \nIncomplete or missing information that means your application will be rejected. \nFinding that you have applied for inappropriate training for your job role. \n\n\n\n\n\n\n\n\n\n\n\n\n\n\n\nPreparing for the Training Session \n\nOnly apply for training you are eligible for.\n\n\nCheck you have the joining link a minimum of 48hrs before the start date and time.\n\n\nIf you do not have a link – first check your junk email folder – then email nelondonicb.cpd@nhs.net.\n\n\nComplete any pre-training work you have been sent.\n\n\nIf you are asked for an address for physical training materials\, give your home address – they will not be posted to your work.\n\n\n\n\n\n\n\n\n\n\n\n\n\n\n\n\n\n\n\n\n\nDuring the Training Session \n\nLogin a minimum of 15 mins before the training session starts (then go to the loo and make a cuppa).\n\n\nCheck you have a working camera and microphone\, and in a place you can fully interact.\n\n\nMobile phone use is not allowed – however some providers use them for interactive elements\, such as quizzes.\n\n\n\n\n\n\n\n\n\n\n\n\n\n\n\n\n\n\n\n\n\nCancellation Policy \n\nSome training sessions are very popular and so will have a 2 week cancellation notice date.\n\n\nSome training sessions allow for larger numbers and/or are more niche and have a 1 week cancellation notice date.\n\n\nThe date will always be on the booking page and on your confirmation email from nelondonicb.cpd@nhs.net.\n\n\nTo cancel\, please use your MedTribe account. If you need further help\, email neldondonicb.cpd@nhs.net\n\n\n\n\n\n\n\n\n\n\n\n\n\n\n\n\n\n\n\n\n\nDNA Policy – Things that count as a DNA \n\nIf you email to cancel after the final cancellation date detailed in your confirmation email.\n\n\nIf you cannot login before the training ‘room’ is locked\, and you have not emailed nelondonicb.cpd@nhs.net a minimum of 15 minutes before the start of the training.\n\n\nIf you are ejected from a training session because you are using an inappropriate device.\n\n\nIf you book on training that is not appropriate for your job role\, and try to attend – there will not be 2 chances if this is the case\, you will be removed from all further training.\n\n\nIf you have not received the joining link / cannot find the joining link\, but you have not emailed nelondonicb.cpd@nhs.net a minimum of 48hrs before the training date and time.\n\n\nIf the emails are in your junk email folder and you have not checked this.\n\n\n\n\n\n\n\n\n\n\n\n\n\n\n\n\n\n\n\n\n\nDNA Policy – What happens when you DNA \n\n1st DNA: You and your Manager will receive an email informing you that you have DNA’d a pre-booked session without cancellation.\n2nd DNA: You will automatically be removed from any further CPD training for the current financial year. You and your Manager will receive confirmation of this by email.\n\n\nYou will have an opportunity to appeal\, but please read the DNA Policy – Things that count as a DNA page first.\nIf you have to cancel your place later than 5 full working days prior to the start of the session\, please email nelondonicb.cpd@nhs.net explaining your exceptional circumstances\, and these will be taken into consideration when deciding whether it counts as a DNA.
URL:https://neltraininghub.org/event/nel-cpd-bitesize-cvd-lipids-cpd-training-for-social-care-general-practice/
CATEGORIES:Advanced Nurse Practitioner,Allied Health Professionals,CPD GPN AHP NA,Dietitians,Enhanced Nurses,General Practice Nurses,Nursing Associates,Occupational Therapists,Paramedics,Physiotherapists,Podiatrists,Social Care Staff
ATTACH;FMTTYPE=image/png:https://neltraininghub.org/wp-content/uploads/2024/11/Screenshot-2025-05-23-at-08.02.05.png
END:VEVENT
END:VCALENDAR