BEGIN:VCALENDAR
VERSION:2.0
PRODID:-//NEL Training Hub - ECPv6.15.20//NONSGML v1.0//EN
CALSCALE:GREGORIAN
METHOD:PUBLISH
X-ORIGINAL-URL:https://neltraininghub.org
X-WR-CALDESC:Events for NEL Training Hub
REFRESH-INTERVAL;VALUE=DURATION:PT1H
X-Robots-Tag:noindex
X-PUBLISHED-TTL:PT1H
BEGIN:VTIMEZONE
TZID:Europe/London
BEGIN:DAYLIGHT
TZOFFSETFROM:+0000
TZOFFSETTO:+0100
TZNAME:BST
DTSTART:20240331T010000
END:DAYLIGHT
BEGIN:STANDARD
TZOFFSETFROM:+0100
TZOFFSETTO:+0000
TZNAME:GMT
DTSTART:20241027T010000
END:STANDARD
BEGIN:DAYLIGHT
TZOFFSETFROM:+0000
TZOFFSETTO:+0100
TZNAME:BST
DTSTART:20250330T010000
END:DAYLIGHT
BEGIN:STANDARD
TZOFFSETFROM:+0100
TZOFFSETTO:+0000
TZNAME:GMT
DTSTART:20251026T010000
END:STANDARD
BEGIN:DAYLIGHT
TZOFFSETFROM:+0000
TZOFFSETTO:+0100
TZNAME:BST
DTSTART:20260329T010000
END:DAYLIGHT
BEGIN:STANDARD
TZOFFSETFROM:+0100
TZOFFSETTO:+0000
TZNAME:GMT
DTSTART:20261025T010000
END:STANDARD
END:VTIMEZONE
BEGIN:VEVENT
DTSTART;TZID=Europe/London:20250610T103000
DTEND;TZID=Europe/London:20250612T163000
DTSTAMP:20260420T124822
CREATED:20250509T083327Z
LAST-MODIFIED:20250509T083328Z
UID:10003476-1749551400-1749745800@neltraininghub.org
SUMMARY:Making a Difference - The London Green Celebration Event\, 10-12th June 2025
DESCRIPTION:Join us as we shine a spotlight on the incredible people and projects driving sustainability across London’s NHS.   This event is all about celebrating progress\, sharing lessons\, and inspiring change. \n\n\n\n\n\n\n\n\n\n\n\n\n\n\n\nAn online event over three days\, 10-12 June 2025\n20 inspiring presentationsfrom net zero experts across London\nA welcome sessionfeaturing Caroline Clarke\, Regional Director for the NHS in London\n\n·       Three ways to get involved: \n1.      Register as an attendee byclicking here\n2.      Take part as a speaker – we’re looking for NHS staff across London to present their net zero projects – no matter the size.Click here to put your name down\n3.      Nominate someone for a ‘You made a Difference’ Award(see below ) \nFor more details on what to expect from the event\, and to get involved\, see below.\n\n\n\n\n\n\n\n\n\nTake part as an attendee\nRegister here\n\n\n🎉What to Expect\nThis three-day virtual celebration will be launched by NHS leaders:\n\nCaroline Clarke\, London Regional Director\nUsman Khan\, Regional Director of Improvement\, Transformation and Partnerships\nDr. Josephine Sauvage\, Chief Medical Officer\, CMO & Place Directorate\n\n\nThey’ll kick off a series of powerful sessions where colleagues across London will present theirnet zero success stories—what they did\, how they did it\, and the difference it’s making.\n\n💡Whether you’re already leading green initiatives or just getting started\, this is your chance to:\n\n\nDiscover fresh\, practical sustainability ideas\nLearn directly from those making it happen\nConnect with like-minded NHS colleagues\nLeave feeling inspired and energised to act\n\n\n\n\n\n\nTake part as a speaker\n\nPut your name down here\n\n\n✅The London Green celebration event returns champion the incredible work of colleagues across London who are delivering sustainability initiatives that contribute to NHS net zero. We’re looking for NHS staff across London to present their net zero projects – no matter the size – at this online London celebration event in June. This is your chance to inspire others by showcasing what you’ve done\, how you did it\, and the impact it’s having.\n\nTo find out more see attached and to register as a speakerclick here\n\n\n\n\n\nNominate someone for a ‘You made a Difference’ Award\n\n\nEmail:james.colley@selondonics.nhs.uk\n\n\n🌱Nominate a Net Zero Hero – You Made a Difference Awards🌱\nDo you know a colleague whose work is helping drive the NHS towards its net zero goals? Whether they’re an admin superstar\, a waste wizard\, a sustainable surgeon\, or a mindful leader\, we want to hear about them!\nAs part of our Green Celebration\, we’re launching our first-ever “You Made a Difference” Awards – honouring everyday sustainability champions across London’s NHS whose efforts – big or small – are making a real difference in sustainability. All nominees will be celebrated throughout the three-day event\, with recognition in every session.\n\n🟢How to Nominate\nIf you have a colleague or team contributing to our net zero ambition\, send your nomination tonetzero@selondonics.nhs.uk.\nInclude:\n\nTheir name\nJob title\nA short description of how their work supports the NHS net zero targets\n\n\nThey’ll receive a special award and be recognised during our celebration for their impactful efforts.\n\n\n\n\n\n\n\n\n\n\n\n\n\n\nFor additional information\, please contact: nilam.jadav1@nhs.net
URL:https://neltraininghub.org/event/making-a-difference-the-london-green-celebration-event-10-12th-june-2025/
LOCATION:Online Session\, United Kingdom
CATEGORIES:Administrators,Advanced Clinical Practitioners,Advanced Nurse Practitioner,Allied Health Professionals,Care Coordinators,Care Home Staff / Managers,Clinical Directors,Clinical Pharmacists,Community Link Workers,Community Nurse,Dietitians,Digital Transformation Leads,Emergency Care Practitioners,Enhanced Nurses,First Contact Physiotherapists,General Practice Nurses,GP Assistant,GPs & GP Trainees,Health and Wellbeing Coaches,Health Care Assistants,Mental Health Practitioners,Nursing Associates,Occupational Therapists,Paramedics,Patient Representative,Pharmacists,Pharmacy Technicians,Phlebotomists,Physician Associates,Physiotherapists,Podiatrists,Practice Managers,Receptionists,Social Care Staff,Social Prescribers,Supervisors & Educators,Voluntary Sector Workers,Workforce Leads
ATTACH;FMTTYPE=image/png:https://neltraininghub.org/wp-content/uploads/2025/05/image002.png
END:VEVENT
BEGIN:VEVENT
DTSTART;TZID=Europe/London:20250610T123000
DTEND;TZID=Europe/London:20250610T133000
DTSTAMP:20260420T124822
CREATED:20250527T143841Z
LAST-MODIFIED:20250527T144031Z
UID:10003524-1749558600-1749562200@neltraininghub.org
SUMMARY:Developing a Children & Young People Social Prescribing Service
DESCRIPTION:CLICK HERE TO REGISTER \nYorkshire Health Partners have been delivering CYP Social Prescribing services since 2021. We have experienced the pitfalls\, success and developed a CYP SP Service Blueprint from inception\, ideas through to full-service development. We developed the service from GP referrals only to including self-referrals\, schools and colleges and Voluntary and Community Groups. \nOur service is data informed; voice of service users and partners\, commissioner engagement and driven by robust and meaningful data analyses. \nAs the Health landscape evolves\, developing prevent\, out of hospital care and locally led partnerships CYP Social Prescribing is a great example of a community service in action. \nWe invite you to join us on the 10th June from 12.30 to 13.30. Bring your lunch\, bring your questions\, and let’s explore together! \nIntroduction \nEstablishing a CYP Social Prescribing team can profoundly enhance the well-being\, development and resilience for children and young people. Early intervention is a proven tool to prevention and mitigates crisis management\, can reduce CAMHs waiting lists and lengthy waits for support where mental health conditions can be exacerbated. \nCYP Social Prescribing employs a holistic approach to address the social\, emotional\, and practical needs of the younger population\, providing them with personalised support and connections to community resources. By fostering resilience and improving mental health\, the CYP Social Prescribing team can empower children and young people to thrive across many spheres of their lives\, education\, family\, personal and relationships. Building a foundation for long-term success and prosperity for children and young people. \nWhat does the session cover? \nOur session will cover key topics such as setting up a CYP Social Prescribing Service\, harnessing collaboration\, developing a business case\, and more – \n\nWhy set up a CYP Social Prescribing Service\nHow to harness collaboration and engagement across your locality\nHow to develop a business case and access funding opportunities\nDeveloping tools and blueprints to deliver a successful CYP Social Prescribing Service\nWhat do we mean by informed and data led\nWhat our service users say and how to harness the voice of our children and young people\n\nWho is the session aimed at? \nWhether you’re a commissioner\, potential service provider\, Community and Voluntary Sector\, CAMHs lead\, or looking to develop place-based services\, this session is for you. \nDon’t miss out on this opportunity to learn and connect. Join us for an insightful and engaging session
URL:https://neltraininghub.org/event/developing-a-children-young-people-social-prescribing-service/
LOCATION:Online Session\, United Kingdom
CATEGORIES:Administrators,Advanced Clinical Practitioners,Advanced Nurse Practitioner,Allied Health Professionals,Care Coordinators,Care Home Staff / Managers,Clinical Directors,Clinical Pharmacists,Community Link Workers,Community Nurse,Dietitians,Digital Transformation Leads,Emergency Care Practitioners,Enhanced Nurses,First Contact Physiotherapists,General Practice Nurses,GP Assistant,GPs & GP Trainees,Health and Wellbeing Coaches,Health Care Assistants,Mental Health Practitioners,Nursing Associates,Occupational Therapists,Paramedics,Patient Representative,Pharmacists,Pharmacy Technicians,Phlebotomists,Physician Associates,Physiotherapists,Podiatrists,Practice Managers,Receptionists,Social Care Staff,Social Prescribers,Supervisors & Educators,Voluntary Sector Workers,Workforce Leads
ATTACH;FMTTYPE=image/png:https://neltraininghub.org/wp-content/uploads/2025/05/Screenshot-2025-05-27-at-15.38.23.png
END:VEVENT
END:VCALENDAR