BEGIN:VCALENDAR
VERSION:2.0
PRODID:-//NEL Training Hub - ECPv6.15.20//NONSGML v1.0//EN
CALSCALE:GREGORIAN
METHOD:PUBLISH
X-WR-CALNAME:NEL Training Hub
X-ORIGINAL-URL:https://neltraininghub.org
X-WR-CALDESC:Events for NEL Training Hub
REFRESH-INTERVAL;VALUE=DURATION:PT1H
X-Robots-Tag:noindex
X-PUBLISHED-TTL:PT1H
BEGIN:VTIMEZONE
TZID:Europe/London
BEGIN:DAYLIGHT
TZOFFSETFROM:+0000
TZOFFSETTO:+0100
TZNAME:BST
DTSTART:20240331T010000
END:DAYLIGHT
BEGIN:STANDARD
TZOFFSETFROM:+0100
TZOFFSETTO:+0000
TZNAME:GMT
DTSTART:20241027T010000
END:STANDARD
BEGIN:DAYLIGHT
TZOFFSETFROM:+0000
TZOFFSETTO:+0100
TZNAME:BST
DTSTART:20250330T010000
END:DAYLIGHT
BEGIN:STANDARD
TZOFFSETFROM:+0100
TZOFFSETTO:+0000
TZNAME:GMT
DTSTART:20251026T010000
END:STANDARD
BEGIN:DAYLIGHT
TZOFFSETFROM:+0000
TZOFFSETTO:+0100
TZNAME:BST
DTSTART:20260329T010000
END:DAYLIGHT
BEGIN:STANDARD
TZOFFSETFROM:+0100
TZOFFSETTO:+0000
TZNAME:GMT
DTSTART:20261025T010000
END:STANDARD
END:VTIMEZONE
BEGIN:VEVENT
DTSTART;TZID=Europe/London:20250513T093000
DTEND;TZID=Europe/London:20250513T163000
DTSTAMP:20260420T143518
CREATED:20250501T143424Z
LAST-MODIFIED:20250501T143424Z
UID:10003461-1747128600-1747153800@neltraininghub.org
SUMMARY:Motivational Interviewing Face To Face Training Course
DESCRIPTION:With lunch provided\, in Leyton\, open to all WF Social Prescribers and Link workers and NEL Social Prescribers. \nIf you are interested in attending this face to face training in Leyton E10\, please email\, Social.prescribing@walthamforest.gov.uk  \nMotivational Interviewing (MI) training helps practitioners/Link workers develop a person-centred approach to counselling\, guiding clients to explore their own motivations for change. It focuses on building rapport\, eliciting change talk\, and supporting clients in their journey toward desired behaviours. MI training typically covers the four core skills: engaging\, focusing\, evoking\, and planning. \nExternal facilitator – Chris Glover \nVenue:  Leyton Orient Football Club\, 5th Floor Meeting Room\, Gaughan Group Stadium\,  Oliver Road\, Leyton E10 5NF. No parking available at this venue. \nNumbers:  20 participants. \nTimings: 9.30 am -4 pm\, morning break 10.30/11am\, lunch at 12.30\,  and afternoon break 2.30pm. \nRefreshments & Light Lunch will be available\, please tell us of any dietary requirements or allergies at booking. \nBooking via Social.prescribing@walthamforest.gov.uk
URL:https://neltraininghub.org/event/motivational-interviewing-face-to-face-training-course/
LOCATION:Leyton Orient Football Club\, Leyton Orient Football Club\, 5th Floor Meeting Room\, Gaughan Group Stadium\,  Oliver Road\, Leyton\, E10 5NF\, United Kingdom
CATEGORIES:Administrators,Advanced Clinical Practitioners,Advanced Nurse Practitioner,Allied Health Professionals,Care Coordinators,Care Home Staff / Managers,Clinical Directors,Clinical Pharmacists,Community Link Workers,Community Nurse,Dietitians,Digital Transformation Leads,Emergency Care Practitioners,Enhanced Nurses,First Contact Physiotherapists,General Practice Nurses,GP Assistant,GPs & GP Trainees,Health and Wellbeing Coaches,Health Care Assistants,Mental Health Practitioners,Nursing Associates,Occupational Therapists,Paramedics,Patient Representative,Pharmacists,Pharmacy Technicians,Phlebotomists,Physician Associates,Physiotherapists,Podiatrists,Practice Managers,Receptionists,Social Care Staff,Social Prescribers,Supervisors & Educators,Voluntary Sector Workers,Workforce Leads
ATTACH;FMTTYPE=image/webp:https://neltraininghub.org/wp-content/uploads/2025/05/motivational_interviewing.webp
GEO:51.5601583;-0.0126087
X-APPLE-STRUCTURED-LOCATION;VALUE=URI;X-ADDRESS=Leyton Orient Football Club Leyton Orient Football Club 5th Floor Meeting Room Gaughan Group Stadium  Oliver Road Leyton E10 5NF United Kingdom;X-APPLE-RADIUS=500;X-TITLE=Leyton Orient Football Club\, 5th Floor Meeting Room\, Gaughan Group Stadium\,  Oliver Road:geo:-0.0126087,51.5601583
END:VEVENT
END:VCALENDAR