BEGIN:VCALENDAR
VERSION:2.0
PRODID:-//NEL Training Hub - ECPv6.15.20//NONSGML v1.0//EN
CALSCALE:GREGORIAN
METHOD:PUBLISH
X-ORIGINAL-URL:https://neltraininghub.org
X-WR-CALDESC:Events for NEL Training Hub
REFRESH-INTERVAL;VALUE=DURATION:PT1H
X-Robots-Tag:noindex
X-PUBLISHED-TTL:PT1H
BEGIN:VTIMEZONE
TZID:Europe/London
BEGIN:DAYLIGHT
TZOFFSETFROM:+0000
TZOFFSETTO:+0100
TZNAME:BST
DTSTART:20240331T010000
END:DAYLIGHT
BEGIN:STANDARD
TZOFFSETFROM:+0100
TZOFFSETTO:+0000
TZNAME:GMT
DTSTART:20241027T010000
END:STANDARD
BEGIN:DAYLIGHT
TZOFFSETFROM:+0000
TZOFFSETTO:+0100
TZNAME:BST
DTSTART:20250330T010000
END:DAYLIGHT
BEGIN:STANDARD
TZOFFSETFROM:+0100
TZOFFSETTO:+0000
TZNAME:GMT
DTSTART:20251026T010000
END:STANDARD
BEGIN:DAYLIGHT
TZOFFSETFROM:+0000
TZOFFSETTO:+0100
TZNAME:BST
DTSTART:20260329T010000
END:DAYLIGHT
BEGIN:STANDARD
TZOFFSETFROM:+0100
TZOFFSETTO:+0000
TZNAME:GMT
DTSTART:20261025T010000
END:STANDARD
END:VTIMEZONE
BEGIN:VEVENT
DTSTART;TZID=Europe/London:20250211T120000
DTEND;TZID=Europe/London:20250211T140000
DTSTAMP:20260420T193619
CREATED:20250205T095014Z
LAST-MODIFIED:20250206T165132Z
UID:10003365-1739275200-1739282400@neltraininghub.org
SUMMARY:Population Health (FOR HCAS AND ASPIRING HCAS IN PRIMARY CARE) (7.5 CPD HOURS)
DESCRIPTION:CLICK HERE TO REGISTER \nTraining Provider: Lauren Nardo\nTime of Training: Tuesday 11/2/25 – 12:00-14:00\nNumber of CPD Hours: 2\nCategory: HCA
URL:https://neltraininghub.org/event/population-health-for-hcas-and-aspiring-hcas-in-primary-care-7-5-cpd-hours/
LOCATION:Online Session\, United Kingdom
CATEGORIES:Administrators,Advanced Clinical Practitioners,Advanced Nurse Practitioner,Allied Health Professionals,Care Coordinators,Care Home Staff / Managers,Clinical Directors,Clinical Pharmacists,Community Link Workers,Community Nurse,Dietitians,Digital Transformation Leads,Emergency Care Practitioners,Enhanced Nurses,First Contact Physiotherapists,General Practice Nurses,GP Assistant,GPs & GP Trainees,Health and Wellbeing Coaches,Health Care Assistants,Mental Health Practitioners,Nursing Associates,Occupational Therapists,Paramedics,Patient Representative,Pharmacists,Pharmacy Technicians,Phlebotomists,Physician Associates,Physiotherapists,Podiatrists,Practice Managers,Receptionists,Social Care Staff,Social Prescribers,Supervisors & Educators,Voluntary Sector Workers,Workforce Leads
ATTACH;FMTTYPE=image/png:https://neltraininghub.org/wp-content/uploads/2025/02/Screenshot-2025-02-06-at-16.33.42.png
END:VEVENT
BEGIN:VEVENT
DTSTART;TZID=Europe/London:20250211T130000
DTEND;TZID=Europe/London:20250211T140000
DTSTAMP:20260420T193619
CREATED:20250115T111349Z
LAST-MODIFIED:20250115T111449Z
UID:10003323-1739278800-1739282400@neltraininghub.org
SUMMARY:Enhance Webinar 2: Getting Creative with Health and Care
DESCRIPTION:Registration Link: https://events.teams.microsoft.com/event/f93c24a3-4d90-4b11-b910-beb173187d69@37c354b2-85b0-47f5-b222-07b48d774ee3 \n\nThere is a strong body of evidence\, on a national and global scale\, that creative health is a key enabler in reducing inequalities in our communities. But what is creative health and why is it important? How can we harness these key assets within our system to create lasting change?\n\n\nVCFSE\, artists and cultural organisations are already delivering creative health programmes in North East London\, from supporting children’s mental health by developing skills in creativity\, confidence and teamwork\, to helping people with long term conditions to thrive through music\, cooking and art-making.\n\n\n\nJoin Conni Rosewarne\, NEL Creative Health Associate and Dan Hopewell\, Director of Knowledge and Innovation at Bromley By Bow Insights to think together about how creative activities can support holistic health and care\, and share insights on how you can embed creativity into your neighbourhoods.\n\n\nFor more detail about the programme\, please visit the Health Equity Academy FutureNHS page.\n  \n\nWelcome to the launch of the pilot North East London Enhance programme!\nNEL Enhance is a workforce development programme\, open to all people working right across health\, local authority\, social care and the VCFSE sector. The programme is supported by NEL ICB Health Inclusion and Improvement and the Health Equity Academy\, and funded by NHSE Education Reform.\nThe key themes covered by the programme are:\n\n\n\n\n\nPerson-centred practice\n\n\nComplex multimorbidity\n\n\nSystem working\n\n\n\n\nPopulation health\n\n\nSocial justice & health equity\n\n\nEnvironmental sustainability\n\n\n\n\n\n\nThe NEL Enhance pilot provides an opportunity to think together about how we can foster deeper collaboration and connection. We know that to truly have an impact on health inequalities we need to work together across professional and organisational boundaries.No one part of a system\, or a single profession\, can do this work on its own.\nThe Enhance programme kicks off in January 2025 with six webinars bringing speakers and experts from across our system and beyond. They will start the conversation on the above themes by sharing real life examples and ideas to inspire work in your neighbourhood.\nYou will also hear about the next phase of NEL Enhance\, coming later in the year\, where you can apply to be a part of a tailored\, funded programme\, supporting you in putting the themes into practice to address a local need.\nYour Neighbourhood\, Your Future: Be Part of the Conversation
URL:https://neltraininghub.org/event/enhance-webinar-2-getting-creative-with-health-and-care/
LOCATION:Online Session\, United Kingdom
CATEGORIES:Administrators,Advanced Clinical Practitioners,Advanced Nurse Practitioner,Allied Health Professionals,Care Coordinators,Care Home Staff / Managers,Clinical Directors,Clinical Pharmacists,Community Link Workers,Community Nurse,Dietitians,Digital Transformation Leads,Emergency Care Practitioners,Enhanced Nurses,First Contact Physiotherapists,General Practice Nurses,GP Assistant,GPs & GP Trainees,Health and Wellbeing Coaches,Health Care Assistants,Mental Health Practitioners,Nursing Associates,Occupational Therapists,Paramedics,Patient Representative,Pharmacists,Pharmacy Technicians,Phlebotomists,Physician Associates,Physiotherapists,Podiatrists,Practice Managers,Receptionists,Social Care Staff,Social Prescribers,Supervisors & Educators,Voluntary Sector Workers,Workforce Leads
ATTACH;FMTTYPE=image/png:https://neltraininghub.org/wp-content/uploads/2025/01/Screenshot-2025-01-15-at-11.08.45-1.png
END:VEVENT
BEGIN:VEVENT
DTSTART;TZID=Europe/London:20250211T130000
DTEND;TZID=Europe/London:20250211T140000
DTSTAMP:20260420T193619
CREATED:20250117T121606Z
LAST-MODIFIED:20250117T122050Z
UID:10003328-1739278800-1739282400@neltraininghub.org
SUMMARY:NEL Enhance programme - Webinar 2: Getting Creative with Health and Care
DESCRIPTION:There is a strong body of evidence\, on a national and global scale\, that creative health is a key enabler in reducing inequalities in our communities. But what is creative health and why is it important? How can we harness these key assets within our system to create lasting change? \nVCFSE\, artists and cultural organisations are already delivering creative health programmes in North East London\, from supporting children’s mental health by developing skills in creativity\, confidence and teamwork\, to helping people with long term conditions to thrive through music\, cooking and art-making.\nJoin Conni Rosewarne\, NEL Creative Health Associate and Dan Hopewell\, Director of Knowledge and Innovation at Bromley By Bow Insights to think together about how creative activities can support holistic health and care\, and share insights on how you can embed creativity into your neighbourhoods. \nFor more detail about the programme\, please visit the Health Equity Academy FutureNHS page. \nREGISTER HERE. \n 
URL:https://neltraininghub.org/event/nel-enhance-programme-webinar-1-introducing-enhance-how-we-can-build-stronger-healthier-communities/
LOCATION:Online Session\, United Kingdom
CATEGORIES:Administrators,Advanced Clinical Practitioners,Advanced Nurse Practitioner,Allied Health Professionals,Care Coordinators,Care Home Staff / Managers,Clinical Directors,Clinical Pharmacists,Community Link Workers,Community Nurse,Dietitians,Digital Transformation Leads,Emergency Care Practitioners,Enhanced Nurses,First Contact Physiotherapists,General Practice Nurses,GP Assistant,GPs & GP Trainees,Health and Wellbeing Coaches,Health Care Assistants,Mental Health Practitioners,Nursing Associates,Occupational Therapists,Paramedics,Patient Representative,Pharmacists,Pharmacy Technicians,Phlebotomists,Physician Associates,Physiotherapists,Podiatrists,Practice Managers,Receptionists,Social Care Staff,Social Prescribers,Supervisors & Educators,Voluntary Sector Workers,Workforce Leads
ATTACH;FMTTYPE=image/png:https://neltraininghub.org/wp-content/uploads/2025/01/NELE2.png
END:VEVENT
BEGIN:VEVENT
DTSTART;TZID=Europe/London:20250211T130000
DTEND;TZID=Europe/London:20250211T140000
DTSTAMP:20260420T193619
CREATED:20250129T154843Z
LAST-MODIFIED:20250129T154843Z
UID:10003356-1739278800-1739282400@neltraininghub.org
SUMMARY:A Trauma Informed Approach to the 6-8 week GP Postnatal Check for Mothers
DESCRIPTION:This event will be chaired by Sunita Sharma (London Postnatal Clinical Lead\, Obstetrician) and will include a presentation by Dr Chrishanthy Grace Jayarajah MBBS MRCPSYCH DFSRH (Consultant Perinatal Psychiatrist and Clinical Lead CNWL Perinatal Mental Health Services) \n\n\n\n\nPLEASE CLICK HERE TO REGISTER YOUR ATTENDANCE\n\nWe would also appreciate if you took some time to complete the pre-event survey.\n\n\n\n\n\nPlease don’t hesitate to contact me with any queries (Maisie.nair@nhs.net)]
URL:https://neltraininghub.org/event/a-trauma-informed-approach-to-the-6-8-week-gp-postnatal-check-for-mothers/
LOCATION:Online Session\, United Kingdom
CATEGORIES:Administrators,Advanced Clinical Practitioners,Advanced Nurse Practitioner,Allied Health Professionals,Care Coordinators,Care Home Staff / Managers,Clinical Directors,Clinical Pharmacists,Community Link Workers,Community Nurse,Dietitians,Digital Transformation Leads,Emergency Care Practitioners,Enhanced Nurses,First Contact Physiotherapists,General Practice Nurses,GP Assistant,GPs & GP Trainees,Health and Wellbeing Coaches,Health Care Assistants,Mental Health Practitioners,Nursing Associates,Occupational Therapists,Paramedics,Patient Representative,Pharmacists,Pharmacy Technicians,Phlebotomists,Physician Associates,Physiotherapists,Podiatrists,Practice Managers,Receptionists,Social Care Staff,Social Prescribers,Supervisors & Educators,Voluntary Sector Workers,Workforce Leads
ATTACH;FMTTYPE=image/png:https://neltraininghub.org/wp-content/uploads/2025/01/Screenshot-2025-01-29-at-15.48.06.png
END:VEVENT
BEGIN:VEVENT
DTSTART;TZID=Europe/London:20250211T130000
DTEND;TZID=Europe/London:20250211T140000
DTSTAMP:20260420T193619
CREATED:20250131T140249Z
LAST-MODIFIED:20250131T140249Z
UID:10003361-1739278800-1739282400@neltraininghub.org
SUMMARY:A Trauma Informed Approach to the 6-8 week GP Postnatal Check for Mothers
DESCRIPTION:London Maternity Clinical Network initiative. \nThis event will be chaired by Sunita Sharma (London Postnatal Clinical Lead\, Obstetrician) and will include a presentation by Dr Chrishanthy Grace Jayarajah MBBS MRCPSYCH DFSRH (Consultant Perinatal Psychiatrist and Clinical Lead CNWL Perinatal Mental Health Services) \nPLEASE CLICK HERE TO REGISTER YOUR ATTENDANCE \nWe would also appreciate if you took some time to complete the pre-event survey. \nPlease don’t hesitate to contact me with any queries (Maisie.nair@nhs.net)]
URL:https://neltraininghub.org/event/a-trauma-informed-approach-to-the-6-8-week-gp-postnatal-check-for-mothers-2/
LOCATION:Online Session\, United Kingdom
CATEGORIES:Administrators,Advanced Clinical Practitioners,Advanced Nurse Practitioner,Allied Health Professionals,Care Coordinators,Care Home Staff / Managers,Clinical Directors,Clinical Pharmacists,Community Link Workers,Community Nurse,Dietitians,Digital Transformation Leads,Emergency Care Practitioners,Enhanced Nurses,First Contact Physiotherapists,General Practice Nurses,GP Assistant,GPs & GP Trainees,Health and Wellbeing Coaches,Health Care Assistants,Mental Health Practitioners,Nursing Associates,Occupational Therapists,Paramedics,Patient Representative,Pharmacists,Pharmacy Technicians,Phlebotomists,Physician Associates,Physiotherapists,Podiatrists,Practice Managers,Receptionists,Social Care Staff,Social Prescribers,Supervisors & Educators,Voluntary Sector Workers,Workforce Leads
ATTACH;FMTTYPE=image/png:https://neltraininghub.org/wp-content/uploads/2025/01/Mat-Feb25.png
END:VEVENT
END:VCALENDAR