BEGIN:VCALENDAR
VERSION:2.0
PRODID:-//NEL Training Hub - ECPv6.15.20//NONSGML v1.0//EN
CALSCALE:GREGORIAN
METHOD:PUBLISH
X-ORIGINAL-URL:https://neltraininghub.org
X-WR-CALDESC:Events for NEL Training Hub
REFRESH-INTERVAL;VALUE=DURATION:PT1H
X-Robots-Tag:noindex
X-PUBLISHED-TTL:PT1H
BEGIN:VTIMEZONE
TZID:Europe/London
BEGIN:DAYLIGHT
TZOFFSETFROM:+0000
TZOFFSETTO:+0100
TZNAME:BST
DTSTART:20240331T010000
END:DAYLIGHT
BEGIN:STANDARD
TZOFFSETFROM:+0100
TZOFFSETTO:+0000
TZNAME:GMT
DTSTART:20241027T010000
END:STANDARD
BEGIN:DAYLIGHT
TZOFFSETFROM:+0000
TZOFFSETTO:+0100
TZNAME:BST
DTSTART:20250330T010000
END:DAYLIGHT
BEGIN:STANDARD
TZOFFSETFROM:+0100
TZOFFSETTO:+0000
TZNAME:GMT
DTSTART:20251026T010000
END:STANDARD
BEGIN:DAYLIGHT
TZOFFSETFROM:+0000
TZOFFSETTO:+0100
TZNAME:BST
DTSTART:20260329T010000
END:DAYLIGHT
BEGIN:STANDARD
TZOFFSETFROM:+0100
TZOFFSETTO:+0000
TZNAME:GMT
DTSTART:20261025T010000
END:STANDARD
END:VTIMEZONE
BEGIN:VEVENT
DTSTART;TZID=Europe/London:20250206T130000
DTEND;TZID=Europe/London:20250206T140000
DTSTAMP:20260420T193533
CREATED:20250117T120022Z
LAST-MODIFIED:20250117T120022Z
UID:10003327-1738846800-1738850400@neltraininghub.org
SUMMARY:NEL AI and Innovation in Primary Care: Bridging the Gap
DESCRIPTION:This webinar will delve into the exciting world of AI and innovation in Primary Care. We’ll examine the journey so far\, explore the current challenges facing Primary Care and its IT infrastructure\, and discuss the aspirations for the future. A Q&A session with NHS England’s London region clinical lead in digital health primary care transformation will provide valuable insights. This webinar is ideal for all healthcare professionals interested in the future of digital health in Primary Care.\n\nChair Dr Martin Edobor – Clinical Lead\, IT and Digital Transformation (Newham)\, NHS North East London\, Clinical Lead\, Newham Improvement and Innovation Hub\nGP\n\nGuest speaker – Dr Shankar Vijayadeva\, London Region GP Clinical Lead Digital Transformation\, Primary Care – NHS England\, SystmOne NWL Lead & Ealing Borough Digital and IT Lead – NHS North West London ICB\, Sessional GP\n\nREGISTER HERE.
URL:https://neltraininghub.org/event/nel-ai-and-innovation-in-primary-care-bridging-the-gap/
LOCATION:Online Session\, United Kingdom
CATEGORIES:Administrators,Advanced Clinical Practitioners,Advanced Nurse Practitioner,Allied Health Professionals,Care Coordinators,Care Home Staff / Managers,Clinical Directors,Clinical Pharmacists,Community Link Workers,Community Nurse,Dietitians,Digital Transformation Leads,Emergency Care Practitioners,Enhanced Nurses,First Contact Physiotherapists,General Practice Nurses,GP Assistant,GPs & GP Trainees,Health and Wellbeing Coaches,Health Care Assistants,Mental Health Practitioners,Nursing Associates,Occupational Therapists,Paramedics,Patient Representative,Pharmacists,Pharmacy Technicians,Phlebotomists,Physician Associates,Physiotherapists,Podiatrists,Practice Managers,Receptionists,Social Care Staff,Social Prescribers,Supervisors & Educators,Voluntary Sector Workers,Workforce Leads
ATTACH;FMTTYPE=image/png:https://neltraininghub.org/wp-content/uploads/2025/01/NELAI.png
END:VEVENT
END:VCALENDAR