BEGIN:VCALENDAR
VERSION:2.0
PRODID:-//NEL Training Hub - ECPv6.15.20//NONSGML v1.0//EN
CALSCALE:GREGORIAN
METHOD:PUBLISH
X-WR-CALNAME:NEL Training Hub
X-ORIGINAL-URL:https://neltraininghub.org
X-WR-CALDESC:Events for NEL Training Hub
REFRESH-INTERVAL;VALUE=DURATION:PT1H
X-Robots-Tag:noindex
X-PUBLISHED-TTL:PT1H
BEGIN:VTIMEZONE
TZID:Europe/London
BEGIN:DAYLIGHT
TZOFFSETFROM:+0000
TZOFFSETTO:+0100
TZNAME:BST
DTSTART:20240331T010000
END:DAYLIGHT
BEGIN:STANDARD
TZOFFSETFROM:+0100
TZOFFSETTO:+0000
TZNAME:GMT
DTSTART:20241027T010000
END:STANDARD
BEGIN:DAYLIGHT
TZOFFSETFROM:+0000
TZOFFSETTO:+0100
TZNAME:BST
DTSTART:20250330T010000
END:DAYLIGHT
BEGIN:STANDARD
TZOFFSETFROM:+0100
TZOFFSETTO:+0000
TZNAME:GMT
DTSTART:20251026T010000
END:STANDARD
BEGIN:DAYLIGHT
TZOFFSETFROM:+0000
TZOFFSETTO:+0100
TZNAME:BST
DTSTART:20260329T010000
END:DAYLIGHT
BEGIN:STANDARD
TZOFFSETFROM:+0100
TZOFFSETTO:+0000
TZNAME:GMT
DTSTART:20261025T010000
END:STANDARD
END:VTIMEZONE
BEGIN:VEVENT
DTSTART;TZID=Europe/London:20250128T130000
DTEND;TZID=Europe/London:20250128T140000
DTSTAMP:20260420T193411
CREATED:20250108T170915Z
LAST-MODIFIED:20250108T170915Z
UID:10003313-1738069200-1738072800@neltraininghub.org
SUMMARY:All East Primary Care Teaching Sessions
DESCRIPTION:All East Primary Care Upcoming Teaching Sessions for Newham\, Tower Hamlets and Waltham Forest primary care colleagues.  \n\nTuesday 28 January 2025\, 1pm – 2pm – All you need to know about HRT – Delivered by Brenda Chizana from All East\nTuesday 25 February 2025\, 1pm – 2pm – PCOS and Contraception – Delivered by Brenda Chizana from All East\nTuesday 25 March 2025\, 1pm – 2pm – Psychosex – Delivered by Stuart Gibson from All East\n\nClick HERE to register to the sessions!
URL:https://neltraininghub.org/event/all-east-primary-care-teaching-sessions/2025-01-28/
LOCATION:Online Session\, United Kingdom
CATEGORIES:Advanced Clinical Practitioners,Advanced Nurse Practitioner,Allied Health Professionals,Clinical Directors,Clinical Pharmacists,Community Nurse,Emergency Care Practitioners,Enhanced Nurses,First Contact Physiotherapists,General Practice Nurses,GPs & GP Trainees,Health Care Assistants,Nursing Associates,Occupational Therapists,Paramedics,Pharmacists,Pharmacy Technicians,Phlebotomists,Physician Associates,Physiotherapists,Podiatrists,Supervisors & Educators
ATTACH;FMTTYPE=image/png:https://neltraininghub.org/wp-content/uploads/2025/01/All-East-Logo.png
END:VEVENT
BEGIN:VEVENT
DTSTART;TZID=Europe/London:20250128T130000
DTEND;TZID=Europe/London:20250128T140000
DTSTAMP:20260420T193411
CREATED:20250115T111007Z
LAST-MODIFIED:20250115T111008Z
UID:10003322-1738069200-1738072800@neltraininghub.org
SUMMARY:Enhance Webinar 1: Introducing Enhance - How we can build stronger\, healthier communities
DESCRIPTION:We know that collaboration is at the heart of building stronger\, healthier communities. The workforce is central to this: working together\, learning together. \nRegistration Link: https://events.teams.microsoft.com/event/424a4682-3030-4156-99dd-3b76db7db872@37c354b2-85b0-47f5-b222-07b48d774ee3 \nIn this session you will get an overview of the NEL Enhance programme\, from understanding what the Enhance programme is with its six component domains\, to what it means for you and your work in north east London in making a difference\, and how you can get involved. \nWe’re so pleased to welcome guest speaker\, Dr Jagan John from Barking & Dagenham\, to talk about neighbourhoods in action. Jagan will share his own experience of how taking an innovative neighbourhood approach really began to tackle health inequalities at scale and empower local people. Hear about what worked\, what was challenging\, and what the learning is for you to take forward in your own work and communities. \nPlease note this session will be recorded. \nFor more information\, please visit the NEL Enhance Pilot section of the NEL Health Equity Academy FutureNHS site. \nYour Neighbourhood\, Your Future: Be Part of the Conversation \n  \n\nWelcome to the launch of the pilot North East London Enhance programme!\nNEL Enhance is a workforce development programme\, open to all people working right across health\, local authority\, social care and the VCFSE sector. The programme is supported by NEL ICB Health Inclusion and Improvement and the Health Equity Academy\, and funded by NHSE Education Reform.\nThe key themes covered by the programme are:\n\n\n\n\n\nPerson-centred practice\n\n\nComplex multimorbidity\n\n\nSystem working\n\n\n\n\nPopulation health\n\n\nSocial justice & health equity\n\n\nEnvironmental sustainability\n\n\n\n\n\n\nThe NEL Enhance pilot provides an opportunity to think together about how we can foster deeper collaboration and connection. We know that to truly have an impact on health inequalities we need to work together across professional and organisational boundaries.No one part of a system\, or a single profession\, can do this work on its own.\nThe Enhance programme kicks off in January 2025 with six webinars bringing speakers and experts from across our system and beyond. They will start the conversation on the above themes by sharing real life examples and ideas to inspire work in your neighbourhood.\nYou will also hear about the next phase of NEL Enhance\, coming later in the year\, where you can apply to be a part of a tailored\, funded programme\, supporting you in putting the themes into practice to address a local need.\nYour Neighbourhood\, Your Future: Be Part of the Conversation
URL:https://neltraininghub.org/event/enhance-webinar-1-introducing-enhance-how-we-can-build-stronger-healthier-communities/
LOCATION:Online Session\, United Kingdom
CATEGORIES:Administrators,Advanced Clinical Practitioners,Advanced Nurse Practitioner,Allied Health Professionals,Care Coordinators,Care Home Staff / Managers,Clinical Directors,Clinical Pharmacists,Community Link Workers,Community Nurse,Dietitians,Digital Transformation Leads,Emergency Care Practitioners,Enhanced Nurses,First Contact Physiotherapists,General Practice Nurses,GP Assistant,GPs & GP Trainees,Health and Wellbeing Coaches,Health Care Assistants,Mental Health Practitioners,Nursing Associates,Occupational Therapists,Paramedics,Patient Representative,Pharmacists,Pharmacy Technicians,Phlebotomists,Physician Associates,Physiotherapists,Podiatrists,Practice Managers,Receptionists,Social Care Staff,Social Prescribers,Supervisors & Educators,Voluntary Sector Workers,Workforce Leads
ATTACH;FMTTYPE=image/png:https://neltraininghub.org/wp-content/uploads/2025/01/Screenshot-2025-01-15-at-11.08.45.png
END:VEVENT
END:VCALENDAR