BEGIN:VCALENDAR
VERSION:2.0
PRODID:-//NEL Training Hub - ECPv6.15.20//NONSGML v1.0//EN
CALSCALE:GREGORIAN
METHOD:PUBLISH
X-WR-CALNAME:NEL Training Hub
X-ORIGINAL-URL:https://neltraininghub.org
X-WR-CALDESC:Events for NEL Training Hub
REFRESH-INTERVAL;VALUE=DURATION:PT1H
X-Robots-Tag:noindex
X-PUBLISHED-TTL:PT1H
BEGIN:VTIMEZONE
TZID:Europe/London
BEGIN:DAYLIGHT
TZOFFSETFROM:+0000
TZOFFSETTO:+0100
TZNAME:BST
DTSTART:20240331T010000
END:DAYLIGHT
BEGIN:STANDARD
TZOFFSETFROM:+0100
TZOFFSETTO:+0000
TZNAME:GMT
DTSTART:20241027T010000
END:STANDARD
BEGIN:DAYLIGHT
TZOFFSETFROM:+0000
TZOFFSETTO:+0100
TZNAME:BST
DTSTART:20250330T010000
END:DAYLIGHT
BEGIN:STANDARD
TZOFFSETFROM:+0100
TZOFFSETTO:+0000
TZNAME:GMT
DTSTART:20251026T010000
END:STANDARD
BEGIN:DAYLIGHT
TZOFFSETFROM:+0000
TZOFFSETTO:+0100
TZNAME:BST
DTSTART:20260329T010000
END:DAYLIGHT
BEGIN:STANDARD
TZOFFSETFROM:+0100
TZOFFSETTO:+0000
TZNAME:GMT
DTSTART:20261025T010000
END:STANDARD
END:VTIMEZONE
BEGIN:VEVENT
DTSTART;TZID=Europe/London:20250122T090000
DTEND;TZID=Europe/London:20250122T110000
DTSTAMP:20260421T042537
CREATED:20241128T092017Z
LAST-MODIFIED:20241128T094404Z
UID:10003281-1737536400-1737543600@neltraininghub.org
SUMMARY:Responding to Clinical Complaints (CPD Training for GPNs\, AHPs and NAs only)
DESCRIPTION:This training is for GPNs\, AHPs and NAs. \nTraining Provider: Ewan Armitage\nTime of Training: Wednesday 22/01/2025 (09:00-11:00)\nNumber of CPD Hours: 2 \nRegistration link: https://forms.office.com/e/Rs1XXnAGfR \nClick HERE for the courses and the booking information.\nAlso\, here is the Step-By Step Guide to Booking Training on Microsoft Forms
URL:https://neltraininghub.org/event/responding-to-clinical-complaints/
LOCATION:Online Session\, United Kingdom
CATEGORIES:Advanced Nurse Practitioner,Allied Health Professionals,Dietitians,General Practice Nurses,Nursing Associates,Paramedics,Physiotherapists,Podiatrists
ATTACH;FMTTYPE=image/jpeg:https://neltraininghub.org/wp-content/uploads/2024/11/image.jpg
END:VEVENT
END:VCALENDAR