BEGIN:VCALENDAR
VERSION:2.0
PRODID:-//NEL Training Hub - ECPv6.15.20//NONSGML v1.0//EN
CALSCALE:GREGORIAN
METHOD:PUBLISH
X-WR-CALNAME:NEL Training Hub
X-ORIGINAL-URL:https://neltraininghub.org
X-WR-CALDESC:Events for NEL Training Hub
REFRESH-INTERVAL;VALUE=DURATION:PT1H
X-Robots-Tag:noindex
X-PUBLISHED-TTL:PT1H
BEGIN:VTIMEZONE
TZID:Europe/London
BEGIN:DAYLIGHT
TZOFFSETFROM:+0000
TZOFFSETTO:+0100
TZNAME:BST
DTSTART:20240331T010000
END:DAYLIGHT
BEGIN:STANDARD
TZOFFSETFROM:+0100
TZOFFSETTO:+0000
TZNAME:GMT
DTSTART:20241027T010000
END:STANDARD
BEGIN:DAYLIGHT
TZOFFSETFROM:+0000
TZOFFSETTO:+0100
TZNAME:BST
DTSTART:20250330T010000
END:DAYLIGHT
BEGIN:STANDARD
TZOFFSETFROM:+0100
TZOFFSETTO:+0000
TZNAME:GMT
DTSTART:20251026T010000
END:STANDARD
BEGIN:DAYLIGHT
TZOFFSETFROM:+0000
TZOFFSETTO:+0100
TZNAME:BST
DTSTART:20260329T010000
END:DAYLIGHT
BEGIN:STANDARD
TZOFFSETFROM:+0100
TZOFFSETTO:+0000
TZNAME:GMT
DTSTART:20261025T010000
END:STANDARD
END:VTIMEZONE
BEGIN:VEVENT
DTSTART;TZID=Europe/London:20250116T084500
DTEND;TZID=Europe/London:20250116T170000
DTSTAMP:20260421T055938
CREATED:20241115T154840Z
LAST-MODIFIED:20241128T094215Z
UID:10003261-1737017100-1737046800@neltraininghub.org
SUMMARY:Travel Health Foundation Training (2-day course) (CPD Training for GPNs\, AHPs and NAs only)
DESCRIPTION:Registration link: https://forms.office.com/e/HJKHGuYwWt \nThese courses are for the following job roles only:\n– General Practice Nurses (including ANP & ACP)\n– Nurse Associates\n– Dieticians\n– Paramedics\n– Physiotherapists\n– Podiatrists \nClick HERE for the courses and the booking information.\nAlso\, here is the Step-By Step Guide to Booking Training on Microsoft Forms \n 
URL:https://neltraininghub.org/event/travel-health-foundation-training-2-day-course/2025-01-16/
LOCATION:Online Session\, United Kingdom
CATEGORIES:Advanced Clinical Practitioners,Advanced Nurse Practitioner,Dietitians,General Practice Nurses,Nursing Associates,Paramedics,Physiotherapists,Podiatrists
ATTACH;FMTTYPE=image/png:https://neltraininghub.org/wp-content/uploads/2024/11/Screenshot-2024-11-15-at-15.48.22.png
END:VEVENT
END:VCALENDAR