BEGIN:VCALENDAR
VERSION:2.0
PRODID:-//NEL Training Hub - ECPv6.15.20//NONSGML v1.0//EN
CALSCALE:GREGORIAN
METHOD:PUBLISH
X-WR-CALNAME:NEL Training Hub
X-ORIGINAL-URL:https://neltraininghub.org
X-WR-CALDESC:Events for NEL Training Hub
REFRESH-INTERVAL;VALUE=DURATION:PT1H
X-Robots-Tag:noindex
X-PUBLISHED-TTL:PT1H
BEGIN:VTIMEZONE
TZID:Europe/London
BEGIN:DAYLIGHT
TZOFFSETFROM:+0000
TZOFFSETTO:+0100
TZNAME:BST
DTSTART:20240331T010000
END:DAYLIGHT
BEGIN:STANDARD
TZOFFSETFROM:+0100
TZOFFSETTO:+0000
TZNAME:GMT
DTSTART:20241027T010000
END:STANDARD
BEGIN:DAYLIGHT
TZOFFSETFROM:+0000
TZOFFSETTO:+0100
TZNAME:BST
DTSTART:20250330T010000
END:DAYLIGHT
BEGIN:STANDARD
TZOFFSETFROM:+0100
TZOFFSETTO:+0000
TZNAME:GMT
DTSTART:20251026T010000
END:STANDARD
BEGIN:DAYLIGHT
TZOFFSETFROM:+0000
TZOFFSETTO:+0100
TZNAME:BST
DTSTART:20260329T010000
END:DAYLIGHT
BEGIN:STANDARD
TZOFFSETFROM:+0100
TZOFFSETTO:+0000
TZNAME:GMT
DTSTART:20261025T010000
END:STANDARD
END:VTIMEZONE
BEGIN:VEVENT
DTSTART;TZID=Europe/London:20250805T170000
DTEND;TZID=Europe/London:20250805T180000
DTSTAMP:20260420T074327
CREATED:20250815T211735Z
LAST-MODIFIED:20250815T211759Z
UID:10003600-1754413200-1754416800@neltraininghub.org
SUMMARY:Raising the Bar: Advanced Practice Supervision
DESCRIPTION:Centre for Advancing Practice Masterclasses\n\n\n\n\n\n\n\n\n\n\n\n\n\n\n\n\n\n\n\n\n\n\n\n\nRaising the Bar: Advanced Practice Supervision\nDate: 5 August 2025 \nTime: 17:00 to 18:00 \nSupervision is a cornerstone of safe\, effective\, and sustainable advanced practice. This session introduces the national minimum standards for supervision\, providing clarity on expectations for both supervisors and supervisees across the advanced practice workforce. Attendees will explore the principles underpinning high-quality supervision\, the structures that support it\, and the role it plays in professional development\, clinical governance\, and workforce retention. Whether you’re new to supervision or refining your approach. \n\n\n\n\n\n\n\n\n\n\n\n\n\n\n\n\n\n\n\n\n\n\nRegister Now
URL:https://neltraininghub.org/event/raising-the-bar-advanced-practice-supervision/
LOCATION:Online Session\, United Kingdom
CATEGORIES:Administrators,Advanced Clinical Practitioners,Advanced Nurse Practitioner,Allied Health Professionals,Care Coordinators,Care Home Staff / Managers,Clinical Directors,Clinical Pharmacists,Community Link Workers,Community Nurse,Dietitians,Digital Transformation Leads,Emergency Care Practitioners,Enhanced Nurses,First Contact Physiotherapists,General Practice Nurses,GP Assistant,GPs & GP Trainees,Health and Wellbeing Coaches,Health Care Assistants,Mental Health Practitioners,Nursing Associates,Occupational Therapists,Paramedics,Patient Representative,Pharmacists,Pharmacy Technicians,Phlebotomists,Physician Associates,Physiotherapists,Podiatrists,Practice Managers,Receptionists,Social Care Staff,Social Prescribers,Supervisors & Educators,Voluntary Sector Workers,Workforce Leads
ATTACH;FMTTYPE=image/png:https://neltraininghub.org/wp-content/uploads/2025/08/Screenshot-2025-08-15-at-22.17.14.png
END:VEVENT
BEGIN:VEVENT
DTSTART;TZID=Europe/London:20250811T090000
DTEND;TZID=Europe/London:20250812T170000
DTSTAMP:20260420T074327
CREATED:20250516T102353Z
LAST-MODIFIED:20250523T072602Z
UID:10003501-1754902800-1755018000@neltraininghub.org
SUMMARY:NEL CPD: Immunisation Foundation Training - 2 day (CPD FOR GPNS\, NAS\, DIETICIANS\, PARAMEDICS\, PHYSIOTHERAPISTS\, PODIATRISTS AND OCCUPATIONAL THERAPISTS)
DESCRIPTION:(CPD FOR GPNS\, NAS\, DIETICIANS\, PARAMEDICS\, PHYSIOTHERAPISTS\, PODIATRISTS AND OCCUPATIONAL THERAPISTS) \nDate:\nMonday 11/08/2025 & Tuesday 12/08/2025\n\nTime of Training: 09:00 – 17:00\nCPD Hours: 15 \n\n\nCLICK HERE TO REGISTER.\n\n\n\n\n\nThese courses are fully funded\, therefore please ensure you read the cancellation and DNA policy carefully before booking.\nThese courses are for the following job roles only:  \n\nGeneral Practice Nurses (including ANP & ACP) \nNurse Associates \nDieticians \nOccupational Therapists\nParamedics \nPhysiotherapists \nPodiatrists \n\nBooking Information  \nTicket sales for all events close 2 weeks prior to the start of the session.  \nYou will be asked to sign up to MedTribe if you would like to book a course. You will register once\, and will be able to use the same account to book all future NEL Training Hub events with this account. \nSigning up is completely free and only takes a few seconds. Need help? You can follow the step-by-step sign-up guide for support. \nYou will be informed by email if you are on the training or if you are on the waiting list. This is due to:  \n\nThe high volume of applications for some of the training\, which comes in at a faster rate than can be effectively managed in real time. \nIncomplete or missing information that means your application will be rejected. \nFinding that you have applied for inappropriate training for your job role. \n\n\n\n\n\n\n\n\n\n\n\n\n\n\n\nPreparing for the Training Session \n\nOnly apply for training you are eligible for.\n\n\nCheck you have the joining link a minimum of 48hrs before the start date and time.\n\n\nIf you do not have a link – first check your junk email folder – then email nelondonicb.cpd@nhs.net.\n\n\nComplete any pre-training work you have been sent.\n\n\nIf you are asked for an address for physical training materials\, give your home address – they will not be posted to your work.\n\n\n\n\n\n\n\n\n\n\n\n\n\n\n\n\n\n\n\n\n\nDuring the Training Session \n\nLogin a minimum of 15 mins before the training session starts (then go to the loo and make a cuppa).\n\n\nCheck you have a working camera and microphone\, and in a place you can fully interact.\n\n\nMobile phone use is not allowed – however some providers use them for interactive elements\, such as quizzes.\n\n\n\n\n\n\n\n\n\n\n\n\n\n\n\n\n\n\n\n\n\nCancellation Policy \n\nSome training sessions are very popular and so will have a 2 week cancellation notice date.\n\n\nSome training sessions allow for larger numbers and/or are more niche and have a 1 week cancellation notice date.\n\n\nThe date will always be on the booking page and on your confirmation email from nelondonicb.cpd@nhs.net.\n\n\nTo cancel\, please use your MedTribe account. If you need further help\, email neldondonicb.cpd@nhs.net\n\n\n\n\n\n\n\n\n\n\n\n\n\n\n\n\n\n\n\n\n\nDNA Policy – Things that count as a DNA \n\nIf you email to cancel after the final cancellation date detailed in your confirmation email.\n\n\nIf you cannot login before the training ‘room’ is locked\, and you have not emailed nelondonicb.cpd@nhs.net a minimum of 15 minutes before the start of the training.\n\n\nIf you are ejected from a training session because you are using an inappropriate device.\n\n\nIf you book on training that is not appropriate for your job role\, and try to attend – there will not be 2 chances if this is the case\, you will be removed from all further training.\n\n\nIf you have not received the joining link / cannot find the joining link\, but you have not emailed nelondonicb.cpd@nhs.net a minimum of 48hrs before the training date and time.\n\n\nIf the emails are in your junk email folder and you have not checked this.\n\n\n\n\n\n\n\n\n\n\n\n\n\n\n\n\n\n\n\n\n\nDNA Policy – What happens when you DNA \n\n1st DNA: You and your Manager will receive an email informing you that you have DNA’d a pre-booked session without cancellation.\n2nd DNA: You will automatically be removed from any further CPD training for the current financial year. You and your Manager will receive confirmation of this by email.\n\n\nYou will have an opportunity to appeal\, but please read the DNA Policy – Things that count as a DNA page first.\nIf you have to cancel your place later than 5 full working days prior to the start of the session\, please email nelondonicb.cpd@nhs.net explaining your exceptional circumstances\, and these will be taken into consideration when deciding whether it counts as a DNA.
URL:https://neltraininghub.org/event/nel-cpd-immunisation-foundation-training-2-day-cpd-training-for-gpns-ahps-and-nas-only/
LOCATION:Online Session\, United Kingdom
CATEGORIES:Advanced Nurse Practitioner,Allied Health Professionals,CPD GPN AHP NA,Dietitians,Enhanced Nurses,General Practice Nurses,Nursing Associates,Occupational Therapists,Paramedics,Physiotherapists,Podiatrists
ATTACH;FMTTYPE=image/png:https://neltraininghub.org/wp-content/uploads/2024/11/Screenshot-2025-05-23-at-08.02.05.png
END:VEVENT
BEGIN:VEVENT
DTSTART;TZID=Europe/London:20250819T103000
DTEND;TZID=Europe/London:20250819T113000
DTSTAMP:20260420T074327
CREATED:20250808T112001Z
LAST-MODIFIED:20250808T112015Z
UID:10003595-1755599400-1755603000@neltraininghub.org
SUMMARY:Newham Pelvic Floor Workshop with Maggie Moo
DESCRIPTION:ANKH Place CIC presents \nPerinatal Mental Health and Parents and infants relationships programme \nAre you a mother\, female caregiver\, or female carer in Newham caring for a baby or infant up to 2 years? \n  \nJoin us for a gentle and supportive session just for women\, focusing on pelvic floor health and core care. Enjoy light movements\, practical tips\, and a relaxed space to share\, laugh\, and support one another. Perfect for mums\, expectant mothers\, and any woman wanting to reconnect with her body. \nRegister here.
URL:https://neltraininghub.org/event/pelvic-floor-workshop-with-maggie-moo/
LOCATION:Custom Made\, 25 Freemasons Road\, Custom House\, London\, E16 3AR
CATEGORIES:Administrators,Advanced Clinical Practitioners,Advanced Nurse Practitioner,Allied Health Professionals,Care Coordinators,Care Home Staff / Managers,Clinical Directors,Clinical Pharmacists,Community Link Workers,Community Nurse,Dietitians,Digital Transformation Leads,Emergency Care Practitioners,Enhanced Nurses,First Contact Physiotherapists,General Practice Nurses,GP Assistant,GPs & GP Trainees,Health and Wellbeing Coaches,Health Care Assistants,Mental Health Practitioners,Nursing Associates,Occupational Therapists,Paramedics,Patient Representative,Pharmacists,Pharmacy Technicians,Phlebotomists,Physician Associates,Physiotherapists,Podiatrists,Practice Managers,Receptionists,Social Care Staff,Social Prescribers,Supervisors & Educators,Voluntary Sector Workers,Workforce Leads
ATTACH;FMTTYPE=image/png:https://neltraininghub.org/wp-content/uploads/2025/08/PF.png
END:VEVENT
END:VCALENDAR