BEGIN:VCALENDAR
VERSION:2.0
PRODID:-//NEL Training Hub - ECPv6.15.20//NONSGML v1.0//EN
CALSCALE:GREGORIAN
METHOD:PUBLISH
X-WR-CALNAME:NEL Training Hub
X-ORIGINAL-URL:https://neltraininghub.org
X-WR-CALDESC:Events for NEL Training Hub
REFRESH-INTERVAL;VALUE=DURATION:PT1H
X-Robots-Tag:noindex
X-PUBLISHED-TTL:PT1H
BEGIN:VTIMEZONE
TZID:Europe/London
BEGIN:DAYLIGHT
TZOFFSETFROM:+0000
TZOFFSETTO:+0100
TZNAME:BST
DTSTART:20250330T010000
END:DAYLIGHT
BEGIN:STANDARD
TZOFFSETFROM:+0100
TZOFFSETTO:+0000
TZNAME:GMT
DTSTART:20251026T010000
END:STANDARD
BEGIN:DAYLIGHT
TZOFFSETFROM:+0000
TZOFFSETTO:+0100
TZNAME:BST
DTSTART:20260329T010000
END:DAYLIGHT
BEGIN:STANDARD
TZOFFSETFROM:+0100
TZOFFSETTO:+0000
TZNAME:GMT
DTSTART:20261025T010000
END:STANDARD
BEGIN:DAYLIGHT
TZOFFSETFROM:+0000
TZOFFSETTO:+0100
TZNAME:BST
DTSTART:20270328T010000
END:DAYLIGHT
BEGIN:STANDARD
TZOFFSETFROM:+0100
TZOFFSETTO:+0000
TZNAME:GMT
DTSTART:20271031T010000
END:STANDARD
END:VTIMEZONE
BEGIN:VEVENT
DTSTART;TZID=Europe/London:20260708T090000
DTEND;TZID=Europe/London:20260708T130000
DTSTAMP:20260419T212838
CREATED:20260416T145648Z
LAST-MODIFIED:20260416T145648Z
UID:10003918-1783501200-1783515600@neltraininghub.org
SUMMARY:Emotional Intelligence & Leadership - Preceptorship Module Catch-up Opportunities
DESCRIPTION:Are you a Practice Nurse or Nursing Associate New to Primary Care or need to catch up on preceptorship modules not completed? \n\nCompleting a preceptorship programme is crucial for newly qualified nurses and clinicians new to primary care as it provides structured support\, guidance and development. This will support you transition from being a trainee and into a primary care autonomous practitioner. The program will provide a safe space for you to network and essentially enhance your confidence\, competence\, and job satisfaction\, ultimately improving patient care.\n\n\nThe Open Doors Nursing Team will facilitate the following sessions from 9am – 13:00 in the Island Health offices.\n \nPlease book onto the sessions you have missed. \nYou will need to have completed ALL modules in order to receive the certificate of completion\n\n\nAccountability & Quality Improvement – Wednesday 20th May 2026: Click here to register\nWellbeing & System Stressors – Wednesday 10th June 2026: Click here to register\nCommunication\, Conflict & Difficult Conversations – Wednesday 24th June 2026: Click here to register\nEmotional Intelligence & Leadership -Wednesday 8th July 2026: Click here to register
URL:https://neltraininghub.org/event/emotional-intelligence-leadership-preceptorship-module-catch-up-opportunities/
LOCATION:Face to Face
CATEGORIES:General Practice Nurses,Nursing Associates
ATTACH;FMTTYPE=image/png:https://neltraininghub.org/wp-content/uploads/2025/05/NEL-logo-.png
END:VEVENT
END:VCALENDAR