BEGIN:VCALENDAR
VERSION:2.0
PRODID:-//NEL Training Hub - ECPv6.15.20//NONSGML v1.0//EN
CALSCALE:GREGORIAN
METHOD:PUBLISH
X-ORIGINAL-URL:https://neltraininghub.org
X-WR-CALDESC:Events for NEL Training Hub
REFRESH-INTERVAL;VALUE=DURATION:PT1H
X-Robots-Tag:noindex
X-PUBLISHED-TTL:PT1H
BEGIN:VTIMEZONE
TZID:Europe/London
BEGIN:DAYLIGHT
TZOFFSETFROM:+0000
TZOFFSETTO:+0100
TZNAME:BST
DTSTART:20250330T010000
END:DAYLIGHT
BEGIN:STANDARD
TZOFFSETFROM:+0100
TZOFFSETTO:+0000
TZNAME:GMT
DTSTART:20251026T010000
END:STANDARD
BEGIN:DAYLIGHT
TZOFFSETFROM:+0000
TZOFFSETTO:+0100
TZNAME:BST
DTSTART:20260329T010000
END:DAYLIGHT
BEGIN:STANDARD
TZOFFSETFROM:+0100
TZOFFSETTO:+0000
TZNAME:GMT
DTSTART:20261025T010000
END:STANDARD
BEGIN:DAYLIGHT
TZOFFSETFROM:+0000
TZOFFSETTO:+0100
TZNAME:BST
DTSTART:20270328T010000
END:DAYLIGHT
BEGIN:STANDARD
TZOFFSETFROM:+0100
TZOFFSETTO:+0000
TZNAME:GMT
DTSTART:20271031T010000
END:STANDARD
END:VTIMEZONE
BEGIN:VEVENT
DTSTART;TZID=Europe/London:20260610T090000
DTEND;TZID=Europe/London:20260610T130000
DTSTAMP:20260419T201519
CREATED:20260416T145610Z
LAST-MODIFIED:20260416T145626Z
UID:10003916-1781082000-1781096400@neltraininghub.org
SUMMARY:Wellbeing & System Stressors - Preceptorship Module Catch-up Opportunities
DESCRIPTION:Are you a Practice Nurse or Nursing Associate New to Primary Care or need to catch up on preceptorship modules not completed? \n\nCompleting a preceptorship programme is crucial for newly qualified nurses and clinicians new to primary care as it provides structured support\, guidance and development. This will support you transition from being a trainee and into a primary care autonomous practitioner. The program will provide a safe space for you to network and essentially enhance your confidence\, competence\, and job satisfaction\, ultimately improving patient care.\n\n\nThe Open Doors Nursing Team will facilitate the following sessions from 9am – 13:00 in the Island Health offices.\n \nPlease book onto the sessions you have missed. \nYou will need to have completed ALL modules in order to receive the certificate of completion\n\n\nAccountability & Quality Improvement – Wednesday 20th May 2026: Click here to register\nWellbeing & System Stressors – Wednesday 10th June 2026: Click here to register\nCommunication\, Conflict & Difficult Conversations – Wednesday 24th June 2026: Click here to register\nEmotional Intelligence & Leadership -Wednesday 8th July 2026: Click here to register
URL:https://neltraininghub.org/event/wellbeing-system-stressors-preceptorship-module-catch-up-opportunities/
LOCATION:Face to Face
CATEGORIES:General Practice Nurses,Nursing Associates
ATTACH;FMTTYPE=image/png:https://neltraininghub.org/wp-content/uploads/2025/05/NEL-logo-.png
END:VEVENT
BEGIN:VEVENT
DTSTART;TZID=Europe/London:20260610T110000
DTEND;TZID=Europe/London:20260610T180000
DTSTAMP:20260419T201520
CREATED:20260331T180434Z
LAST-MODIFIED:20260331T180434Z
UID:10003905-1781089200-1781114400@neltraininghub.org
SUMMARY:NEL Blood Results Interpretation Training for Physician Associates
DESCRIPTION:Click HERE to register \nWed\, 10 Jun 2026 at 11am to 6pm \nBlood Results Interpretation for Physician Associates ONLY \nAgenda: \n\n09h00 Haematology Investigations Full blood count (FBC)\, blood film interpretation\, immunoglobulins\, and myeloma screening\, with a focus on recognising red flags.\n10h00 Renal Blood Tests Interpretation of renal function tests and electrolyte abnormalities\, including potassium disturbances and when urgent action is required.\n11h00 Rheumatology Blood Tests Antibodies and inflammatory markers in autoimmune disease\, including limitations of testing.\nDr Sam Thenabadu A&E Consultant and Deputy Dean Kings Colege\nLunch 12h00\n1300 Adrenal Function Testing Cortisol interpretation and recognising features of adrenal insufficiency and endocrine disorders. Dr Jose Crespo\, GP UCC C&WH\n14h00 Women’s Health Blood Tests Fertility testing and interpretation of female sex hormones in primary care presentations. Dr Hayley Jenkins GPwSI Women’s Health\n15h00 Q&A – The topics below will be integrated into the programme.\nCase-Based Blood Results Interpretation Realistic primary care scenarios focusing on clinical reasoning\, escalation\, and safe decision-making.\nCommon Pitfalls in Blood Test Interpretation Avoiding errors\, understanding incidental findings\, and safe communication of results.\n16h00 Session close
URL:https://neltraininghub.org/event/nel-blood-results-interpretation-training-for-physician-associates/
LOCATION:Online Session\, United Kingdom
CATEGORIES:Physician Associates
ATTACH;FMTTYPE=image/png:https://neltraininghub.org/wp-content/uploads/2026/03/Screenshot-2026-03-31-at-21.03.44.png
END:VEVENT
END:VCALENDAR