BEGIN:VCALENDAR
VERSION:2.0
PRODID:-//NEL Training Hub - ECPv6.15.20//NONSGML v1.0//EN
CALSCALE:GREGORIAN
METHOD:PUBLISH
X-WR-CALNAME:NEL Training Hub
X-ORIGINAL-URL:https://neltraininghub.org
X-WR-CALDESC:Events for NEL Training Hub
REFRESH-INTERVAL;VALUE=DURATION:PT1H
X-Robots-Tag:noindex
X-PUBLISHED-TTL:PT1H
BEGIN:VTIMEZONE
TZID:Europe/London
BEGIN:DAYLIGHT
TZOFFSETFROM:+0000
TZOFFSETTO:+0100
TZNAME:BST
DTSTART:20250330T010000
END:DAYLIGHT
BEGIN:STANDARD
TZOFFSETFROM:+0100
TZOFFSETTO:+0000
TZNAME:GMT
DTSTART:20251026T010000
END:STANDARD
BEGIN:DAYLIGHT
TZOFFSETFROM:+0000
TZOFFSETTO:+0100
TZNAME:BST
DTSTART:20260329T010000
END:DAYLIGHT
BEGIN:STANDARD
TZOFFSETFROM:+0100
TZOFFSETTO:+0000
TZNAME:GMT
DTSTART:20261025T010000
END:STANDARD
BEGIN:DAYLIGHT
TZOFFSETFROM:+0000
TZOFFSETTO:+0100
TZNAME:BST
DTSTART:20270328T010000
END:DAYLIGHT
BEGIN:STANDARD
TZOFFSETFROM:+0100
TZOFFSETTO:+0000
TZNAME:GMT
DTSTART:20271031T010000
END:STANDARD
END:VTIMEZONE
BEGIN:VEVENT
DTSTART;TZID=Europe/London:20260603T120000
DTEND;TZID=Europe/London:20260603T150000
DTSTAMP:20260419T200736
CREATED:20260127T133740Z
LAST-MODIFIED:20260127T133741Z
UID:10003778-1780488000-1780498800@neltraininghub.org
SUMMARY:HERTS Cervical Sampling Mentor update and assessor training
DESCRIPTION:4th March 12noon to 3pm\nMicrosoft Teams meeting: https://teams.microsoft.com/meet/3475962105816?p=9wvC5hQph4TyA8r2Qr\nMeeting ID: 347 596 210 581 6\nPasscode: 7rk3QU3G \n3rd June 12noon – 3pm\nMicrosoft Teams meeting: https://teams.microsoft.com/meet/33826743397705?p=6H9iH8lJJ0IHL9CY8i\nMeeting ID: 338 267 433 977 05\nPasscode: xq7s6Jk3 \nTo register interest please email a.williams40@herts.ac.uk
URL:https://neltraininghub.org/event/herts-cervical-sampling-mentor-update-and-assessor-training/2026-06-03/
LOCATION:Online Session\, United Kingdom
CATEGORIES:Advanced Nurse Practitioner,General Practice Nurses,Nursing Associates
ATTACH;FMTTYPE=image/png:https://neltraininghub.org/wp-content/uploads/2026/01/Screenshot-2026-01-27-at-13.37.23.png
END:VEVENT
END:VCALENDAR