BEGIN:VCALENDAR
VERSION:2.0
PRODID:-//NEL Training Hub - ECPv6.15.20//NONSGML v1.0//EN
CALSCALE:GREGORIAN
METHOD:PUBLISH
X-WR-CALNAME:NEL Training Hub
X-ORIGINAL-URL:https://neltraininghub.org
X-WR-CALDESC:Events for NEL Training Hub
REFRESH-INTERVAL;VALUE=DURATION:PT1H
X-Robots-Tag:noindex
X-PUBLISHED-TTL:PT1H
BEGIN:VTIMEZONE
TZID:Europe/London
BEGIN:DAYLIGHT
TZOFFSETFROM:+0000
TZOFFSETTO:+0100
TZNAME:BST
DTSTART:20240331T010000
END:DAYLIGHT
BEGIN:STANDARD
TZOFFSETFROM:+0100
TZOFFSETTO:+0000
TZNAME:GMT
DTSTART:20241027T010000
END:STANDARD
BEGIN:DAYLIGHT
TZOFFSETFROM:+0000
TZOFFSETTO:+0100
TZNAME:BST
DTSTART:20250330T010000
END:DAYLIGHT
BEGIN:STANDARD
TZOFFSETFROM:+0100
TZOFFSETTO:+0000
TZNAME:GMT
DTSTART:20251026T010000
END:STANDARD
BEGIN:DAYLIGHT
TZOFFSETFROM:+0000
TZOFFSETTO:+0100
TZNAME:BST
DTSTART:20260329T010000
END:DAYLIGHT
BEGIN:STANDARD
TZOFFSETFROM:+0100
TZOFFSETTO:+0000
TZNAME:GMT
DTSTART:20261025T010000
END:STANDARD
END:VTIMEZONE
BEGIN:VEVENT
DTSTART;TZID=Europe/London:20250721T084500
DTEND;TZID=Europe/London:20250721T163000
DTSTAMP:20260420T004224
CREATED:20240607T081246Z
LAST-MODIFIED:20260307T100014Z
UID:10003429-1753087500-1753115400@neltraininghub.org
SUMMARY:NEL CPD: Imms Annual Update Training for Experienced GPNs (Infant\, Child & Adult) 7.5 CPD hours
DESCRIPTION:These courses are fully funded\, therefore please ensure you read the cancellation and DNA policy carefully before booking.  \nThese courses are for the following job roles only:  \n\nExperienced General Practice Nurses (including ANP & ACP) \n\nDates: \n\n11th June 2026\n16th June 2026\n03rd July 2026\n07th July 2026\n11th Aug 2026\n13th Aug 2026\n24th Sep 2026\n7th Oct 2026\n8th Oct 2026\n13th Oct 2026\n\nTime of Training: 08:45 – 16:30 \nCLICK HERE TO REGISTER \n  \n\n\n\nThese courses are fully funded\, therefore please ensure you read the cancellation and DNA policy carefully before booking.\nThese courses are for the following job roles only:  \n\nGeneral Practice Nurses (including ANP & ACP) \nNurse Associates \nDieticians \nParamedics \nPhysiotherapists \nPodiatrists \n\nBooking Information  \nTicket sales for all events close 2 weeks prior to the start of the session.  \nYou will be asked to sign up to MedTribe if you would like to book a course. You will register once\, and will be able to use the same account to book all future NEL Training Hub events with this account. \nSigning up is completely free and only takes a few seconds. Need help? You can follow the step-by-step sign-up guide for support. \nYou will be informed by email if you are on the training or if you are on the waiting list. This is due to:  \n\nThe high volume of applications for some of the training\, which comes in at a faster rate than can be effectively managed in real time. \nIncomplete or missing information that means your application will be rejected. \nFinding that you have applied for inappropriate training for your job role. \n\n\n\n\n\n\n\n\n\n\n\n\n\n\n\nPreparing for the Training Session \n\nOnly apply for training you are eligible for.\n\n\nCheck you have the joining link a minimum of 48hrs before the start date and time.\n\n\nIf you do not have a link – first check your junk email folder – then email nelondonicb.cpd@nhs.net.\n\n\nComplete any pre-training work you have been sent.\n\n\nIf you are asked for an address for physical training materials\, give your home address – they will not be posted to your work.\n\n\n\n\n\n\n\n\n\n\n\n\n\n\n\n\n\n\n\n\n\nDuring the Training Session \n\nLogin a minimum of 15 mins before the training session starts (then go to the loo and make a cuppa).\n\n\nCheck you have a working camera and microphone\, and in a place you can fully interact.\n\n\nMobile phone use is not allowed – however some providers use them for interactive elements\, such as quizzes.\n\n\n\n\n\n\n\n\n\n\n\n\n\n\n\n\n\n\n\n\n\nCancellation Policy \n\nSome training sessions are very popular and so will have a 2 week cancellation notice date.\n\n\nSome training sessions allow for larger numbers and/or are more niche and have a 1 week cancellation notice date.\n\n\nThe date will always be on the booking page and on your confirmation email from nelondonicb.cpd@nhs.net.\n\n\nTo cancel\, please use your MedTribe account. If you need further help\, email neldondonicb.cpd@nhs.net\n\n\n\n\n\n\n\n\n\n\n\n\n\n\n\n\n\n\n\n\n\nDNA Policy – Things that count as a DNA \n\nIf you email to cancel after the final cancellation date detailed in your confirmation email.\n\n\nIf you cannot login before the training ‘room’ is locked\, and you have not emailed nelondonicb.cpd@nhs.net a minimum of 15 minutes before the start of the training.\n\n\nIf you are ejected from a training session because you are using an inappropriate device.\n\n\nIf you book on training that is not appropriate for your job role\, and try to attend – there will not be 2 chances if this is the case\, you will be removed from all further training.\n\n\nIf you have not received the joining link / cannot find the joining link\, but you have not emailed nelondonicb.cpd@nhs.net a minimum of 48hrs before the training date and time.\n\n\nIf the emails are in your junk email folder and you have not checked this.\n\n\n\n\n\n\n\n\n\n\n\n\n\n\n\n\n\n\n\n\n\nDNA Policy – What happens when you DNA \n\n1st DNA: You and your Manager will receive an email informing you that you have DNA’d a pre-booked session without cancellation.\n2nd DNA: You will automatically be removed from any further CPD training for the current financial year. You and your Manager will receive confirmation of this by email.\n\n\nYou will have an opportunity to appeal\, but please read the DNA Policy – Things that count as a DNA page first.\nIf you have to cancel your place later than 5 full working days prior to the start of the session\, please email nelondonicb.cpd@nhs.net explaining your exceptional circumstances\, and these will be taken into consideration when deciding whether it counts as a DNA.
URL:https://neltraininghub.org/event/nel-cpd-imms-annual-update-training-for-experienced-gpns-infant-child-adult-7-5-cpd-hours/2025-07-21/
LOCATION:Online Session\, United Kingdom
CATEGORIES:Advanced Clinical Practitioners,Advanced Nurse Practitioner,CPD GPN AHP NA,General Practice Nurses
ATTACH;FMTTYPE=image/png:https://neltraininghub.org/wp-content/uploads/2024/11/Screenshot-2025-05-23-at-08.02.05.png
END:VEVENT
BEGIN:VEVENT
DTSTART;TZID=Europe/London:20250721T100000
DTEND;TZID=Europe/London:20250721T130000
DTSTAMP:20260420T004224
CREATED:20250617T163948Z
LAST-MODIFIED:20251008T143943Z
UID:10003545-1753092000-1753102800@neltraininghub.org
SUMMARY:NEL: Gypsy\, Roma and Traveller Engagement – Cultural Awareness Webinar
DESCRIPTION:Registration link: https://medtribe.com/courses/nel-gypsy-roma-and-traveller-engagement-cultural-awareness-webinar\n\nOverview: \nThis training offers a deeper understanding of Gypsy\, Traveller\, and Roma communities\, with a focus on health outcomes\, barriers to care\, and practical enablers. It explores cultural identity\, history\, and experiences of discrimination\, while raising awareness of cancer and promoting accessible support resources developed by FFT and RSG. Participants will gain insights to help deliver more inclusive\, culturally competent services.\nSpeakers:\n\nMichelle Gavin – Friends\, Families and Traveller\nGaba Smolinska Poffley & Simina Neagu – Roma Support Group\n\nTopics covered:\n\nIntroductions and session overview\nHistory and overview of Gypsy\, Roma and Traveller communities\nCulture and discrimination\nHealth perceptions and barriers for the Gypsy\, Roma and Traveller communities\nTips for social prescribers and frontline staff\nCancer resources presentation\nQ&A session
URL:https://neltraininghub.org/event/nel-gypsy-roma-and-traveller-engagement-cultural-awareness-webinar/2025-07-21/
LOCATION:Online Session\, United Kingdom
CATEGORIES:Administrators,Advanced Clinical Practitioners,Advanced Nurse Practitioner,Allied Health Professionals,Cancer,Care Coordinators,Care Home Staff / Managers,Clinical Directors,Clinical Pharmacists,Community Link Workers,Community Nurse,Dietitians,Digital Transformation Leads,Emergency Care Practitioners,Enhanced Nurses,First Contact Physiotherapists,General Practice Nurses,GP Assistant,GPs & GP Trainees,Health and Wellbeing Coaches,Health Care Assistants,Mental Health Practitioners,Nursing Associates,Occupational Therapists,Paramedics,Patient Representative,Pharmacists,Pharmacy Technicians,Phlebotomists,Physician Associates,Physiotherapists,Podiatrists,Practice Managers,Receptionists,Social Care Staff,Social Prescribers,Supervisors & Educators,Voluntary Sector Workers,Workforce Leads
ATTACH;FMTTYPE=image/png:https://neltraininghub.org/wp-content/uploads/2025/06/Screenshot-2025-06-17-at-17.38.26.png
END:VEVENT
BEGIN:VEVENT
DTSTART;TZID=Europe/London:20250721T130000
DTEND;TZID=Europe/London:20250721T140000
DTSTAMP:20260420T004224
CREATED:20250620T093507Z
LAST-MODIFIED:20250620T093508Z
UID:10003559-1753102800-1753106400@neltraininghub.org
SUMMARY:NEL MULTI-PROFESSIONAL FACULTY GROUP
DESCRIPTION:Supporting High-Quality Education Across the Healthcare Workforce \nThe NEL Multi-Professional Faculty Group (MPFG) has been established to develop\, support\, and sustain a high-quality\, locally rooted educational faculty for all clinical\, workplace\, and educational supervisors across the healthcare professions. \nWe are building a collaborative\, inclusive learning community that champions educator development and delivers real impact in practice. Join us in shaping the future of supervision across North East London. \nOpen to educators across all professions. \nJoin us for a series of engaging and practical sessions for current and aspiring educators – \nall sessions will be held between 1pm and 2pm: \nSession 1 – Mon 21 July 2025 – Creating Inclusive Learning Environments \nSession 2 – Mon 6 Oct 2025 – Giving Feedback That Works \nSession 3 – Mon 19 Jan 2026 – Innovations in Supervision Across Professions \nSession 4 – Mon 20 Apr 2026 – Managing Difficult or Complex Learners \nClick HERE to learn more and register
URL:https://neltraininghub.org/event/nel-multi-professional-faculty-group/2025-07-21/
LOCATION:Online Session\, United Kingdom
CATEGORIES:Advanced Clinical Practitioners,Advanced Nurse Practitioner,Allied Health Professionals,Clinical Directors,Clinical Pharmacists,Enhanced Nurses,First Contact Physiotherapists,General Practice Nurses,GP Assistant,GPs & GP Trainees,Health and Wellbeing Coaches,Mental Health Practitioners,Nursing Associates,Occupational Therapists,Paramedics,Pharmacists,Pharmacy Technicians,Phlebotomists,Physician Associates,Physiotherapists,Podiatrists,Practice Managers,Workforce Leads
ATTACH;FMTTYPE=image/png:https://neltraininghub.org/wp-content/uploads/2025/06/Screenshot-2025-06-20-at-10.31.22.png
END:VEVENT
END:VCALENDAR