BEGIN:VCALENDAR
VERSION:2.0
PRODID:-//NEL Training Hub - ECPv6.15.20//NONSGML v1.0//EN
CALSCALE:GREGORIAN
METHOD:PUBLISH
X-WR-CALNAME:NEL Training Hub
X-ORIGINAL-URL:https://neltraininghub.org
X-WR-CALDESC:Events for NEL Training Hub
REFRESH-INTERVAL;VALUE=DURATION:PT1H
X-Robots-Tag:noindex
X-PUBLISHED-TTL:PT1H
BEGIN:VTIMEZONE
TZID:Europe/London
BEGIN:DAYLIGHT
TZOFFSETFROM:+0000
TZOFFSETTO:+0100
TZNAME:BST
DTSTART:20240331T010000
END:DAYLIGHT
BEGIN:STANDARD
TZOFFSETFROM:+0100
TZOFFSETTO:+0000
TZNAME:GMT
DTSTART:20241027T010000
END:STANDARD
BEGIN:DAYLIGHT
TZOFFSETFROM:+0000
TZOFFSETTO:+0100
TZNAME:BST
DTSTART:20250330T010000
END:DAYLIGHT
BEGIN:STANDARD
TZOFFSETFROM:+0100
TZOFFSETTO:+0000
TZNAME:GMT
DTSTART:20251026T010000
END:STANDARD
BEGIN:DAYLIGHT
TZOFFSETFROM:+0000
TZOFFSETTO:+0100
TZNAME:BST
DTSTART:20260329T010000
END:DAYLIGHT
BEGIN:STANDARD
TZOFFSETFROM:+0100
TZOFFSETTO:+0000
TZNAME:GMT
DTSTART:20261025T010000
END:STANDARD
END:VTIMEZONE
BEGIN:VEVENT
DTSTART;TZID=Europe/London:20250716T084500
DTEND;TZID=Europe/London:20250716T163000
DTSTAMP:20260420T054552
CREATED:20240607T081246Z
LAST-MODIFIED:20260307T100014Z
UID:10003428-1752655500-1752683400@neltraininghub.org
SUMMARY:NEL CPD: Imms Annual Update Training for Experienced GPNs (Infant\, Child & Adult) 7.5 CPD hours
DESCRIPTION:These courses are fully funded\, therefore please ensure you read the cancellation and DNA policy carefully before booking.  \nThese courses are for the following job roles only:  \n\nExperienced General Practice Nurses (including ANP & ACP) \n\nDates: \n\n11th June 2026\n16th June 2026\n03rd July 2026\n07th July 2026\n11th Aug 2026\n13th Aug 2026\n24th Sep 2026\n7th Oct 2026\n8th Oct 2026\n13th Oct 2026\n\nTime of Training: 08:45 – 16:30 \nCLICK HERE TO REGISTER \n  \n\n\n\nThese courses are fully funded\, therefore please ensure you read the cancellation and DNA policy carefully before booking.\nThese courses are for the following job roles only:  \n\nGeneral Practice Nurses (including ANP & ACP) \nNurse Associates \nDieticians \nParamedics \nPhysiotherapists \nPodiatrists \n\nBooking Information  \nTicket sales for all events close 2 weeks prior to the start of the session.  \nYou will be asked to sign up to MedTribe if you would like to book a course. You will register once\, and will be able to use the same account to book all future NEL Training Hub events with this account. \nSigning up is completely free and only takes a few seconds. Need help? You can follow the step-by-step sign-up guide for support. \nYou will be informed by email if you are on the training or if you are on the waiting list. This is due to:  \n\nThe high volume of applications for some of the training\, which comes in at a faster rate than can be effectively managed in real time. \nIncomplete or missing information that means your application will be rejected. \nFinding that you have applied for inappropriate training for your job role. \n\n\n\n\n\n\n\n\n\n\n\n\n\n\n\nPreparing for the Training Session \n\nOnly apply for training you are eligible for.\n\n\nCheck you have the joining link a minimum of 48hrs before the start date and time.\n\n\nIf you do not have a link – first check your junk email folder – then email nelondonicb.cpd@nhs.net.\n\n\nComplete any pre-training work you have been sent.\n\n\nIf you are asked for an address for physical training materials\, give your home address – they will not be posted to your work.\n\n\n\n\n\n\n\n\n\n\n\n\n\n\n\n\n\n\n\n\n\nDuring the Training Session \n\nLogin a minimum of 15 mins before the training session starts (then go to the loo and make a cuppa).\n\n\nCheck you have a working camera and microphone\, and in a place you can fully interact.\n\n\nMobile phone use is not allowed – however some providers use them for interactive elements\, such as quizzes.\n\n\n\n\n\n\n\n\n\n\n\n\n\n\n\n\n\n\n\n\n\nCancellation Policy \n\nSome training sessions are very popular and so will have a 2 week cancellation notice date.\n\n\nSome training sessions allow for larger numbers and/or are more niche and have a 1 week cancellation notice date.\n\n\nThe date will always be on the booking page and on your confirmation email from nelondonicb.cpd@nhs.net.\n\n\nTo cancel\, please use your MedTribe account. If you need further help\, email neldondonicb.cpd@nhs.net\n\n\n\n\n\n\n\n\n\n\n\n\n\n\n\n\n\n\n\n\n\nDNA Policy – Things that count as a DNA \n\nIf you email to cancel after the final cancellation date detailed in your confirmation email.\n\n\nIf you cannot login before the training ‘room’ is locked\, and you have not emailed nelondonicb.cpd@nhs.net a minimum of 15 minutes before the start of the training.\n\n\nIf you are ejected from a training session because you are using an inappropriate device.\n\n\nIf you book on training that is not appropriate for your job role\, and try to attend – there will not be 2 chances if this is the case\, you will be removed from all further training.\n\n\nIf you have not received the joining link / cannot find the joining link\, but you have not emailed nelondonicb.cpd@nhs.net a minimum of 48hrs before the training date and time.\n\n\nIf the emails are in your junk email folder and you have not checked this.\n\n\n\n\n\n\n\n\n\n\n\n\n\n\n\n\n\n\n\n\n\nDNA Policy – What happens when you DNA \n\n1st DNA: You and your Manager will receive an email informing you that you have DNA’d a pre-booked session without cancellation.\n2nd DNA: You will automatically be removed from any further CPD training for the current financial year. You and your Manager will receive confirmation of this by email.\n\n\nYou will have an opportunity to appeal\, but please read the DNA Policy – Things that count as a DNA page first.\nIf you have to cancel your place later than 5 full working days prior to the start of the session\, please email nelondonicb.cpd@nhs.net explaining your exceptional circumstances\, and these will be taken into consideration when deciding whether it counts as a DNA.
URL:https://neltraininghub.org/event/nel-cpd-imms-annual-update-training-for-experienced-gpns-infant-child-adult-7-5-cpd-hours/2025-07-16/
LOCATION:Online Session\, United Kingdom
CATEGORIES:Advanced Clinical Practitioners,Advanced Nurse Practitioner,CPD GPN AHP NA,General Practice Nurses
ATTACH;FMTTYPE=image/png:https://neltraininghub.org/wp-content/uploads/2024/11/Screenshot-2025-05-23-at-08.02.05.png
END:VEVENT
BEGIN:VEVENT
DTSTART;TZID=Europe/London:20250716T150000
DTEND;TZID=Europe/London:20250716T160000
DTSTAMP:20260420T054552
CREATED:20250501T142952Z
LAST-MODIFIED:20250519T082834Z
UID:10003456-1752678000-1752681600@neltraininghub.org
SUMMARY:Reflective Space for GPs in NEL
DESCRIPTION:CLICK HERE TO REGISTER \nDr Shani Bhaskaran is a GP with 20 plus years’ experience working Newham primary care . \nShe is a NEL GP appraiser and a central tutor for QMUL university. \nShani is a ILM5 qualified coach and mentor and she provides mentoring for SPIN fellows in Newham and she coaches NHS clinical and non-clinical staff via the Shuri Network. \nShe has considerable experience in facilitation having led and facilitated local and national peer support groups Positive Peer Empowerment group and Doctor Mess respectively. She is a trained action learning set facilitator . \nHaving participated in peer reflective sessions\, Shani recognise the value of creating safe reflective spaces for fellow GPs to share \, collaborate and take action/ move forward for improved wellbeing\, reduced stress and for enhanced performance\, all the more important in this present climate of pressured work environments and life stresses with the potential for distress and burn out. \nShani would be holding reflective sessions remotely at 3 pm via MS teams on the third Wednesday of each month commencing 18th June 2025 for 1 hour . This offer to participate in Newham GP Reflective Sessions is open to GPs working in NEL primary care with the aim to provide reflective spaces facilitated in small groups.
URL:https://neltraininghub.org/event/reflective-space-for-gps-in-newham/
LOCATION:Online Session\, United Kingdom
CATEGORIES:Administrators,Advanced Clinical Practitioners,Advanced Nurse Practitioner,Allied Health Professionals,Care Coordinators,Care Home Staff / Managers,Clinical Directors,Clinical Pharmacists,Community Link Workers,Community Nurse,Dietitians,Digital Transformation Leads,Emergency Care Practitioners,Enhanced Nurses,First Contact Physiotherapists,General Practice Nurses,GP Assistant,GPs & GP Trainees,Health and Wellbeing Coaches,Health Care Assistants,Mental Health Practitioners,Nursing Associates,Occupational Therapists,Paramedics,Patient Representative,Pharmacists,Pharmacy Technicians,Phlebotomists,Physician Associates,Physiotherapists,Podiatrists,Practice Managers,Receptionists,Social Care Staff,Social Prescribers,Supervisors & Educators,Voluntary Sector Workers,Workforce Leads
ATTACH;FMTTYPE=image/png:https://neltraininghub.org/wp-content/uploads/2025/05/Screenshot-2025-05-19-at-09.27.54.png
END:VEVENT
BEGIN:VEVENT
DTSTART;TZID=Europe/London:20250716T150000
DTEND;TZID=Europe/London:20250716T160000
DTSTAMP:20260420T054552
CREATED:20250611T204643Z
LAST-MODIFIED:20250611T204704Z
UID:10003535-1752678000-1752681600@neltraininghub.org
SUMMARY:Information webinars on the Learning to Advise course
DESCRIPTION:Learning to Advise Course for social prescribing link workers and similar roles.\n\nOver recent years your feedback and reporting have shown that a significant proportion of social prescribing clients and those with mental health issues have issues with housing\, welfare benefits claims\, debt\, cost of living\, immigration and similar issues. \nThis free training has been designed to equip social prescribing link workers and similar roles in North East London with detailed knowledge of these issues\, how to ask clients about them\, understand the implications and how to support clients to access the right support and advice in their borough. \nThe course is studied over 12 half and full day on-line and in-person sessions between September 25 and February 26\, with a time commitment of approx. 2 days a month. \nThe Learning to Advise course opens a career pathway to an enhanced social prescribing role with a specialism in social welfare advice\, through the option of studying a follow-on training in 2026\, which consists NVQ level 3 in Advice and Guidance with a training placement. \nFind out more at one of our INFORMATION WEBINARS\nThursday 26th June\, 12:30-1:30 and Wednesday 16th July\, 3:00-4:00 \nPlease note\, no prior knowledge of the topics is needed or assumed to study the Learning to Advise Course.
URL:https://neltraininghub.org/event/information-webinars-on-the-learning-to-advise-course/2025-07-16/
LOCATION:Online Session\, United Kingdom
CATEGORIES:Administrators,Advanced Clinical Practitioners,Advanced Nurse Practitioner,Allied Health Professionals,Care Coordinators,Care Home Staff / Managers,Clinical Directors,Clinical Pharmacists,Community Link Workers,Community Nurse,Dietitians,Digital Transformation Leads,Emergency Care Practitioners,Enhanced Nurses,First Contact Physiotherapists,General Practice Nurses,GP Assistant,GPs & GP Trainees,Health and Wellbeing Coaches,Health Care Assistants,Mental Health Practitioners,Nursing Associates,Occupational Therapists,Paramedics,Patient Representative,Pharmacists,Pharmacy Technicians,Phlebotomists,Physician Associates,Physiotherapists,Podiatrists,Practice Managers,Receptionists,Social Care Staff,Social Prescribers,Supervisors & Educators,Voluntary Sector Workers,Workforce Leads
ATTACH;FMTTYPE=image/png:https://neltraininghub.org/wp-content/uploads/2025/06/Screenshot-2025-06-11-at-21.45.26.png
END:VEVENT
END:VCALENDAR